BEGIN:VCALENDAR
VERSION:2.0
PRODID:-//Teatro Cometa Off - ECPv6.15.20//NONSGML v1.0//EN
CALSCALE:GREGORIAN
METHOD:PUBLISH
X-ORIGINAL-URL:https://www.cometaoff.it
X-WR-CALDESC:Eventi per Teatro Cometa Off
REFRESH-INTERVAL;VALUE=DURATION:PT1H
X-Robots-Tag:noindex
X-PUBLISHED-TTL:PT1H
BEGIN:VTIMEZONE
TZID:Europe/Rome
BEGIN:DAYLIGHT
TZOFFSETFROM:+0100
TZOFFSETTO:+0200
TZNAME:CEST
DTSTART:20200329T010000
END:DAYLIGHT
BEGIN:STANDARD
TZOFFSETFROM:+0200
TZOFFSETTO:+0100
TZNAME:CET
DTSTART:20201025T010000
END:STANDARD
BEGIN:DAYLIGHT
TZOFFSETFROM:+0100
TZOFFSETTO:+0200
TZNAME:CEST
DTSTART:20210328T010000
END:DAYLIGHT
BEGIN:STANDARD
TZOFFSETFROM:+0200
TZOFFSETTO:+0100
TZNAME:CET
DTSTART:20211031T010000
END:STANDARD
BEGIN:DAYLIGHT
TZOFFSETFROM:+0100
TZOFFSETTO:+0200
TZNAME:CEST
DTSTART:20220327T010000
END:DAYLIGHT
BEGIN:STANDARD
TZOFFSETFROM:+0200
TZOFFSETTO:+0100
TZNAME:CET
DTSTART:20221030T010000
END:STANDARD
END:VTIMEZONE
BEGIN:VEVENT
DTSTART;VALUE=DATE:20210925
DTEND;VALUE=DATE:20211004
DTSTAMP:20260422T235826
CREATED:20210915T172322Z
LAST-MODIFIED:20210929T203804Z
UID:6167-1632528000-1633305599@www.cometaoff.it
SUMMARY:FORSE NON LO SAI MA PURE QUESTO E’ AMORE
DESCRIPTION:I GIARDINI DI ANTARES \npresenta \nFORSE NON LO SAI MA PURE QUESTO E’ AMORE\n con  (in ordine alfabetico) \nMarine Galstyan\, Cristiano Leopardi\, Clara Morlino\, Jacopo Pelliccia\, Vittoria Rossi ed Emanuele Salvati \nAiuto regia e Luci: Simonetta Di Coste \nMusiche: Peste / Organizzazione Generale: Emmanuel Rouillier \nUfficio Stampa e Organizzazione: Studio Antares Produzioni 339 8784860 \nEmail: igiardinidiantares@libero.it \n  \nCosa succederebbe se nel mondo la maggioranza delle persone fosse omosessuale mentre i diversi\, in termini di gusti sessuali\, fossero persone eterosessuali costrette a nascondere il loro orientamento per paura di non essere accettate. \nÈ questo il quesito che predomina nello spettacolo teatrale FORSE NON LO SAI MA PURE QUESTO E’ AMORE\, scritto e diretto da Alessandro Sena\, in scena al Teatro Cometa Off di Roma dal 25 Settembre al 3 Ottobre 2021. Una divertente commedia nella quale una famiglia italiana viene improvvisamente scossa dalla notizia che il figlio maggiore ha tendenze eterosessuali\, mettendo in subbuglio quasi tutti i componenti della famiglia\, non preparati a questa circostanza. \nSena avvalendosi di un cast di attori superlativi tratteggia una commedia contemporanea\, portando in scena un mondo al contrario dove però le regole ed i sentimenti sono sempre gli stessi a prescindere dalla sessualità delle persone\, favorendo una occasione per riflettere sul significato di accettazione di ciò che siamo\, a prescindere da come siamo. \ndal 25 Settembre al 3 Ottobre 2021  \nTEATRO COMETA OFF \nVia Luca della Robbia 47 (Testaccio) \nInfoline e prenotazioni 0657284637 \nTutte le sere ore 21:00 – domenica ore 18:00 \nBiglietto unico: 12.50 € \nTeatro sanificato nel rispetto delle misure anticovid. \nPer partecipare all’evento devi essere socio dell’Associazione Culturale Cometa Off\nASSOCIATI
URL:https://www.cometaoff.it/evento/forse-non-lo-sai-ma-pure-questo-e-amore/
LOCATION:Teatro Cometa Off\, Via Luca della Robbia\, 47\, Roma\, RM\, 00157\, Italy
CATEGORIES:2021-2022
ATTACH;FMTTYPE=image/jpeg:https://www.cometaoff.it/wp-content/uploads/2021/09/locandina_forse_non_lo_sai_ma_pure_questo_e_amore.jpg
END:VEVENT
END:VCALENDAR