BEGIN:VCALENDAR
VERSION:2.0
PRODID:-//Teatro Cometa Off - ECPv6.15.20//NONSGML v1.0//EN
CALSCALE:GREGORIAN
METHOD:PUBLISH
X-ORIGINAL-URL:https://www.cometaoff.it
X-WR-CALDESC:Eventi per Teatro Cometa Off
REFRESH-INTERVAL;VALUE=DURATION:PT1H
X-Robots-Tag:noindex
X-PUBLISHED-TTL:PT1H
BEGIN:VTIMEZONE
TZID:Europe/Rome
BEGIN:DAYLIGHT
TZOFFSETFROM:+0100
TZOFFSETTO:+0200
TZNAME:CEST
DTSTART:20200329T010000
END:DAYLIGHT
BEGIN:STANDARD
TZOFFSETFROM:+0200
TZOFFSETTO:+0100
TZNAME:CET
DTSTART:20201025T010000
END:STANDARD
BEGIN:DAYLIGHT
TZOFFSETFROM:+0100
TZOFFSETTO:+0200
TZNAME:CEST
DTSTART:20210328T010000
END:DAYLIGHT
BEGIN:STANDARD
TZOFFSETFROM:+0200
TZOFFSETTO:+0100
TZNAME:CET
DTSTART:20211031T010000
END:STANDARD
BEGIN:DAYLIGHT
TZOFFSETFROM:+0100
TZOFFSETTO:+0200
TZNAME:CEST
DTSTART:20220327T010000
END:DAYLIGHT
BEGIN:STANDARD
TZOFFSETFROM:+0200
TZOFFSETTO:+0100
TZNAME:CET
DTSTART:20221030T010000
END:STANDARD
END:VTIMEZONE
BEGIN:VEVENT
DTSTART;VALUE=DATE:20211007
DTEND;VALUE=DATE:20211101
DTSTAMP:20260422T214421
CREATED:20210702T160034Z
LAST-MODIFIED:20211012T145909Z
UID:5639-1633564800-1635724799@www.cometaoff.it
SUMMARY:SERATA OMICIDIO (SPETTACOLO RIPROGRAMMATO DAL 7 AL 10 E DAL 28 AL 31 OTTOBRE 2021)
DESCRIPTION:COMUNICATO\nAlla cortese attenzione del gentile pubblico. \nIl teatro Cometa Off comunica il programma delle nuove date dello spettacolo Serata Omicidio di Giuseppe Sorgi. \nLo spettacolo inizialmente programmato dal 5 all’ 8 marzo 2020\,  andrà in scena dal 7 al 10 e dal 28 al 31 ottobre 2021. \nChi ha acquistato i biglietti sulla piattaforma di Ciaotickets potrà utilizzarli nelle date indicate rispettando l’originale giornata di spettacolo. \nQuindi chi ha acquistato il biglietto di giovedì 5 marzo 2020 dovrà comunicare al teatro la preferenza fra le date di giovedì 7 o giovedì 28 ottobre 2021. \nChi ha acquistato il biglietto di venerdì 6 marzo 2020 dovrà comunicare al teatro la preferenza fra le date di venerdì 8 o venerdì 29 ottobre 2021. \nChi ha acquistato il biglietto di sabato 7 marzo 2020 dovrà comunicare al teatro la preferenza fra le date di sabato 9 o sabato 30 ottobre 2021. \nChi ha acquistato il biglietto di domenica 8 marzo 2020 dovrà comunicare al teatro la preferenza fra le date di domenica 10 o domenica 31 ottobre 2021. \nLe comunicazioni dovranno essere effettuate tramite mail all’indirizzo cometa.off@cometa.org entro e non oltre il 1 settembre 2021. \nChi volesse acquistare invece i biglietti per gli spettacoli in programmazione dal 28 al 31 Ottobre può cliccare QUI.\nGrazie per la comprensione.\nDaniele Petroni  \nPer partecipare all’evento devi essere socio dell’Associazione Culturale Cometa Off\nASSOCIATI\n  \nScritto e diretto da Giuseppe Sorgi\nIn scena: Emanuela D’Antoni\, Shara Guandalini\, Elena Mazza\, Micol Pavoncello\, Alessandra Pagnotta\, Giuseppe Sorgi \nSu un sito web compare una misteriosa inserzione: giorno\, ora e indirizzo in cui un delitto avrà luogo. Immaginate se quell’indirizzo fosse casa vostra. Uno scherzo?! \nUn omicidio viene preannunciato su internet. L’assassino comunica giorno\, ora e luogo in cui verrà commesso il crimine. L’indirizzo risulta essere quello di una giovane donna che non prende sul serio la vicenda. Eppure la sera in questione si recano sul “luogo del delitto” alcuni ospiti inattesi\, ognuno spinto da motivazioni diverse. Così il giallo si tinge di rosa e si fa commedia. Tuttavia apparentemente nessuno comprende la ragione di preannunciare un omicidio su internet\, tantomeno la padrona di casa. Fa parte del gioco. L’assassino ha costruito un piano perfetto e\, nonostante l’atmosfera apparentemente innocua\, il misfatto si compirà. Il cadavere sarà sotto gli occhi increduli di tutti. Come scoprire la verità? Un giallo a tutti gli effetti\, dove i cultori del genere ritroveranno succulente allusioni a più di un’opera di Agatha Christie (“Macabro Quiz” e “Un delitto avrà luogo”) e dove\, al tempo stesso\, la comicità fa da padrona senza nulla sottrarre al gioco ad incastro del mistero da risolvere. E quando i fatti volgeranno al peggio\, sfuggendo imprevedibilmente di mano ai presenti\, quel gioco comico e mortale esigerà una soluzione. Chi ha premeditato il tutto? Perché? E come l’assassino è riuscito a tessere le fila della sua “Serata omicidio”? \nGiuseppe Sorgi
URL:https://www.cometaoff.it/evento/serata-omicidio/
LOCATION:Teatro Cometa Off\, Via Luca della Robbia\, 47\, Roma\, RM\, 00157\, Italy
CATEGORIES:2021-2022
ATTACH;FMTTYPE=image/jpeg:https://www.cometaoff.it/wp-content/uploads/2020/05/serata-omicidio-2020-1920x1080-1.jpg
END:VEVENT
BEGIN:VEVENT
DTSTART;VALUE=DATE:20211026
DTEND;VALUE=DATE:20211028
DTSTAMP:20260422T214421
CREATED:20211019T174153Z
LAST-MODIFIED:20211019T174153Z
UID:6662-1635206400-1635379199@www.cometaoff.it
SUMMARY:C'ERA UNA VOLTA KARLSSON
DESCRIPTION:ASSOCIAZIONE ARIADNE PRESENTA “TEATRO LETTERARIO”\nCON IL CONTRIBUTO DELLA REGIONE LAZIO\nA CIAMPINO WEEK-END LETTERAL-TEATRALI\nPER I BAMBINI \n\n“C’ERA UNA VOLTA KARLSSON” DI A. LINDGREN\n\nAssociazione Ariadne – una delle realtà teatrali maggiormente impegnate in attività formative\, divulgative e di ricerca sta svolgendo “Teatro Letterario”\, l’interessante progetto che comprende\, in varie località\, una corposa serie di laboratori\, workshop\, masterclass teatral-letterari e poi spettacoli\, letture drammatizzate ed anche performance multimediali\, che si avvalgono del contributo della Regione Lazio.\nUna sezione di Teatro Letterario è dedicata ai più piccoli (5+) per i quali sono in programma week-end teatral-letterari sulla letteratura per l’infanzia. L’appuntamento è il 26-27 ottobre alle ore 17 a Roma al Teatro Cometa Off con la rappresentazione letteral-teatrale e multimediale “C’era una volta Karlsson” di & da Astrid Lindgren\, con la regia di Valeria Freiberg.\nAstrid Lindgren – l’autrice svedese di “Pippi Calzelunghe” ed “Emil” – ha pubblicato anche il libro “Karlsson sul tetto”\, da cui è tratta la rappresentazione letteral-teatrale in scena a Ciampino per i più piccoli.\nKarlsson abita in una casetta sul tetto. Ha un’elica sulla schiena e può volare in alto.\nAvere Karlsson per amico è una fortuna perché è un giovane particolare dotato di un’anima vivace e birichina\, capace di unire la timidezza e la vanità\, i capricci e l’affetto\, l’avidità e il risentimento\, l’infinita fiducia in se stesso e la tristezza: tutto ciò che paradossalmente riempie il mondo interiore di un bambino.\n“Il linguaggio della fiaba – osserva la regista Valeria Freiberg – è assai ricco e si presenta come un’opportunità straordinaria per lo spettacolo che si snoda nello spazio virtuale corredato da immagini animate proiettate a ricreare atmosfere fiabesche in cui i bimbi possono immergersi e che ben rende l’idea di uno spazio sospeso tra poesia e incantesimo”. \n26 e 27 Ottobre 2021 ore 17 \nTEATRO COMETA OFF \nVia Luca della Robbia 47 (Testaccio) \nInfoline e prenotazioni 0657284637 \nBiglietto intero: 10.00 €\, ridotto 7\,00€ \nTeatro sanificato nel rispetto delle misure anticovid. \nPer partecipare all’evento devi essere socio dell’Associazione Culturale Cometa Off\nASSOCIATI
URL:https://www.cometaoff.it/evento/c-era-una-volta-karlsson/
LOCATION:Teatro Cometa Off\, Via Luca della Robbia\, 47\, Roma\, RM\, 00157\, Italy
CATEGORIES:2021-2022
ATTACH;FMTTYPE=image/jpeg:https://www.cometaoff.it/wp-content/uploads/2021/10/WhatsApp-Image-2021-10-15-at-08.23.21.jpeg
END:VEVENT
END:VCALENDAR