BEGIN:VCALENDAR
VERSION:2.0
PRODID:-//Teatro Cometa Off - ECPv6.15.20//NONSGML v1.0//EN
CALSCALE:GREGORIAN
METHOD:PUBLISH
X-ORIGINAL-URL:https://www.cometaoff.it
X-WR-CALDESC:Eventi per Teatro Cometa Off
REFRESH-INTERVAL;VALUE=DURATION:PT1H
X-Robots-Tag:noindex
X-PUBLISHED-TTL:PT1H
BEGIN:VTIMEZONE
TZID:Europe/Rome
BEGIN:DAYLIGHT
TZOFFSETFROM:+0100
TZOFFSETTO:+0200
TZNAME:CEST
DTSTART:20200329T010000
END:DAYLIGHT
BEGIN:STANDARD
TZOFFSETFROM:+0200
TZOFFSETTO:+0100
TZNAME:CET
DTSTART:20201025T010000
END:STANDARD
BEGIN:DAYLIGHT
TZOFFSETFROM:+0100
TZOFFSETTO:+0200
TZNAME:CEST
DTSTART:20210328T010000
END:DAYLIGHT
BEGIN:STANDARD
TZOFFSETFROM:+0200
TZOFFSETTO:+0100
TZNAME:CET
DTSTART:20211031T010000
END:STANDARD
BEGIN:DAYLIGHT
TZOFFSETFROM:+0100
TZOFFSETTO:+0200
TZNAME:CEST
DTSTART:20220327T010000
END:DAYLIGHT
BEGIN:STANDARD
TZOFFSETFROM:+0200
TZOFFSETTO:+0100
TZNAME:CET
DTSTART:20221030T010000
END:STANDARD
END:VTIMEZONE
BEGIN:VEVENT
DTSTART;VALUE=DATE:20211124
DTEND;VALUE=DATE:20211126
DTSTAMP:20260422T100534
CREATED:20211122T190744Z
LAST-MODIFIED:20211122T191657Z
UID:7356-1637712000-1637884799@www.cometaoff.it
SUMMARY:SUAD
DESCRIPTION:ASSOCIAZIONE ARIADNE – TEATRO A\nPROJECTSCUOLA 2021/2022 \npresenta \nSUAD\nIL DRAMMA DI SUAD ARRIVA IN TEATRO \nRegia di Valeria Freiberg \n  \nIn occasione della Giornata internazionale per l’eliminazione della violenza contro le donne la Compagnia Teatro A propone\, nell’ambito della rassegna Project Scuola\, la pièce Suad il 24 e 25 novembre presso il Teatro Cometa Off con musica dal vivo.\nL’adattamento scenico\, diretto da Valeria Freiberg\, è liberamente tratto dal romanzo autobiografico “Bruciata viva. Vittima della legge degli uomini”\, della scrittrice cisgiordana Suad (il nome è uno pseudonimo). I versi sono di uno dei più grandi poeti persiani\, Nezami Ganjavi (XII° sec.). Sul palco Giorgia Fabiani\, Cristina Colonnetti e Andrea Stefani\, accompagnati dalla musica dal vivo di Leonardo Mirenda alla chitarra elettrica e di Pablo Monterisi al lud e flauto indiano.\nSuad racconta la sua tragica storia di donna costretta a subire un sopruso\, punita per una gravidanza arrivata prima del matrimonio. Il suo corpo viene cosparso di benzina e le viene dato fuoco su volere della sua stessa famiglia. Una vicenda sconvolgente e\, purtroppo\, di viva attualità\, basti pensare alla recente storia di Saman Abbas\, la 18enne di origine pakistana scomparsa da Novellara a maggio scorso\, presumibilmente uccisa dalla sua stessa famiglia e di cui il corpo non è ancora stato ritrovato.\nLa rappresentazione “Suad” è ideata come un sound dramma\, un monologo delirante della giovane\, sospesa tra la vita e la morte\, che sussurra parole grezze e semplici trasformandole\, suo malgrado\, in una narrazione poetica capace di raccogliere e raccontare le confidenze dell’animo.\n“Suad” è una delle proposte della sesta edizione di “ProjectSCUOLA”\, la rassegna di teatro letterario pensata per i giovani\, che ha come obiettivo: l’avvicinamento del pubblico young al teatro e alla cultura; il ruolo educativo della cultura in generale e del teatro in particolare; la formazione del pubblico nuovo costituito dai giovani. \n24 e 25 Novembre 2021 ore 11.00 e in replica il 14 Dicembre ore 11.00 \ne-mail : info.ariadneteatroa@gmail.com\nWhatsApp: +39-3714125639\nInformazioni su www.compagniateatroa.it \nUfficio Stampa Monica Menna\nmob. 328.9448311\nmonicapress88@gmail.com \n  \nTEATRO COMETA OFF \nVia Luca della Robbia 47 (angolo Piazza Testaccio) \nInfoline e prenotazioni 0657284637 \nBiglietto unico: 10 € \nTeatro sanificato nel rispetto delle misure ANTICOVID. \nPer partecipare all’evento devi essere socio dell’Associazione Culturale Cometa Off\nASSOCIATI
URL:https://www.cometaoff.it/evento/suad/
LOCATION:Teatro Cometa Off\, Via Luca della Robbia\, 47\, Roma\, RM\, 00157\, Italy
CATEGORIES:2021-2022
ATTACH;FMTTYPE=image/jpeg:https://www.cometaoff.it/wp-content/uploads/2021/11/Suad-Cometa-Off.jpg
END:VEVENT
END:VCALENDAR