BEGIN:VCALENDAR
VERSION:2.0
PRODID:-//Teatro Cometa Off - ECPv6.15.20//NONSGML v1.0//EN
CALSCALE:GREGORIAN
METHOD:PUBLISH
X-ORIGINAL-URL:https://www.cometaoff.it
X-WR-CALDESC:Eventi per Teatro Cometa Off
REFRESH-INTERVAL;VALUE=DURATION:PT1H
X-Robots-Tag:noindex
X-PUBLISHED-TTL:PT1H
BEGIN:VTIMEZONE
TZID:Europe/Rome
BEGIN:DAYLIGHT
TZOFFSETFROM:+0100
TZOFFSETTO:+0200
TZNAME:CEST
DTSTART:20200329T010000
END:DAYLIGHT
BEGIN:STANDARD
TZOFFSETFROM:+0200
TZOFFSETTO:+0100
TZNAME:CET
DTSTART:20201025T010000
END:STANDARD
BEGIN:DAYLIGHT
TZOFFSETFROM:+0100
TZOFFSETTO:+0200
TZNAME:CEST
DTSTART:20210328T010000
END:DAYLIGHT
BEGIN:STANDARD
TZOFFSETFROM:+0200
TZOFFSETTO:+0100
TZNAME:CET
DTSTART:20211031T010000
END:STANDARD
BEGIN:DAYLIGHT
TZOFFSETFROM:+0100
TZOFFSETTO:+0200
TZNAME:CEST
DTSTART:20220327T010000
END:DAYLIGHT
BEGIN:STANDARD
TZOFFSETFROM:+0200
TZOFFSETTO:+0100
TZNAME:CET
DTSTART:20221030T010000
END:STANDARD
END:VTIMEZONE
BEGIN:VEVENT
DTSTART;VALUE=DATE:20211217
DTEND;VALUE=DATE:20211219
DTSTAMP:20260422T055931
CREATED:20211105T134724Z
LAST-MODIFIED:20211129T215355Z
UID:7054-1639699200-1639871999@www.cometaoff.it
SUMMARY:LA DÉFI (La Sfida)
DESCRIPTION:COMPAGNIA INTERPRETAZIONE DANZA \npresenta \nLA DÉFI (La Sfida)\n ideato e diretto da Antonella Gionta \nInterpreti  : Serena Arco\, Roberta Bassani\, Sara Bertoglio\, Stefania Fontana e Patrizia Rosa \n  \nLe Dèfi è la nuova creazione della compagnia Interpretazione Danza\, una performance che unisce la suggestione simbolica della parola all’arte del movimento corporeo in un concerto emozionale. \nRiflessione\, distanza \,smarrimento\, solitudine\, confini materiali e mentali da dover superare\, un passaggio obbligato per poter avanzare nel cammino oltre la nostra mente\, aldilà dell’io. \nIn questa atmosfera surreale sospesa tra il cielo e la terra\, si muovono i personaggi alla ricerca di una nuova dimensione. \nSPETTACOLO RINVIATO A DATA DA DESTINARSI \n  \nTEATRO COMETA OFF \nVia Luca della Robbia 47 (angolo Piazza Testaccio) \nInfoline e prenotazioni 0657284637 \nBiglietto unico: \nTeatro sanificato nel rispetto delle misure ANTICOVID. \nPer partecipare all’evento devi essere socio dell’Associazione Culturale Cometa Off\nASSOCIATI
URL:https://www.cometaoff.it/evento/la-defi/
LOCATION:Teatro Cometa Off\, Via Luca della Robbia\, 47\, Roma\, RM\, 00157\, Italy
CATEGORIES:2021-2022
ATTACH;FMTTYPE=image/png:https://www.cometaoff.it/wp-content/uploads/2021/11/1_20211129_224935_0000.png
END:VEVENT
BEGIN:VEVENT
DTSTART;VALUE=DATE:20211218
DTEND;VALUE=DATE:20211219
DTSTAMP:20260422T055931
CREATED:20211211T213320Z
LAST-MODIFIED:20211211T213446Z
UID:7588-1639785600-1639871999@www.cometaoff.it
SUMMARY:MONOLOCALE - Natale a casa nostra
DESCRIPTION:ARTISTI COLLETTIVO MONOLOCALE \npresentano \nMONOLOCALE – Natale a casa nostra – Il presepe vivente\nda un’idea di Daniele Coscarella \nCon: Artisti collettivo Monolocale \n  \nLa serata più dolce dell’anno\, tutti buoni e gentili per un massimo di 5 minuti.\nTorna come da tradizione la serata natalizia di Monolocale: Home Comedy di performance teatrale ambientato in un Monolocale.\nIl pubblico si ritrova immerso in una casa spettacolo coinvolgente piena di storie\, parole\, musica e colpi di scena. Mattatori della serata sono gli attori Inquilini\, con i loro monologhi che nascono da un vissuto quotidiano.\nIl risultato è un’esperienza tragicomica collettiva\, dove il pubblico si sente parte integrante della serata e protagonista dei temi scelti.\nImprovvisazione\, ritmo e divertimento\, saranno gli ingredienti di un evento da ricordare. Non c’è palco o quarta parete ma solo un’ipotetico salone di casa! \nIL NATALE A CASA NOSTRA \nPresentazione del vero:\nPresepe Vivente \nBingo Natalizio: ricchi premi e grandi sole!\nMonologhi.Canzoni. Letterine. Vino e Schiacciapensieri \nInsieme a @magicaburla e i torroni più buoni di Natale. \nDurata: 80 minuti\nTipologia: Monologhi – Stand up – Comedy e Musica dal Vivo \nwww.monolocalespettacolo.com \nInfo : monolocaleaccento@gmail.com \nBiglietto : €12 \n  \nSabato 18 Dicembre 2021 ore 21.00 \n  \nTEATRO COMETA OFF \nVia Luca della Robbia 47 (Testaccio) \nInfoline e prenotazioni 0657284637 \nBiglietti in prevendita. \nTeatro sanificato nel rispetto delle misure ANTICOVID. \nPer partecipare all’evento devi essere socio dell’Associazione Culturale Cometa Off\nASSOCIATI
URL:https://www.cometaoff.it/evento/monolocale-natale-a-casa-nostra/
LOCATION:Teatro Cometa Off\, Via Luca della Robbia\, 47\, Roma\, RM\, 00157\, Italy
CATEGORIES:2021-2022
ATTACH;FMTTYPE=image/jpeg:https://www.cometaoff.it/wp-content/uploads/2021/12/social-.jpg
END:VEVENT
END:VCALENDAR