BEGIN:VCALENDAR
VERSION:2.0
PRODID:-//Teatro Cometa Off - ECPv6.15.20//NONSGML v1.0//EN
CALSCALE:GREGORIAN
METHOD:PUBLISH
X-WR-CALNAME:Teatro Cometa Off
X-ORIGINAL-URL:https://www.cometaoff.it
X-WR-CALDESC:Eventi per Teatro Cometa Off
REFRESH-INTERVAL;VALUE=DURATION:PT1H
X-Robots-Tag:noindex
X-PUBLISHED-TTL:PT1H
BEGIN:VTIMEZONE
TZID:Europe/Rome
BEGIN:DAYLIGHT
TZOFFSETFROM:+0100
TZOFFSETTO:+0200
TZNAME:CEST
DTSTART:20200329T010000
END:DAYLIGHT
BEGIN:STANDARD
TZOFFSETFROM:+0200
TZOFFSETTO:+0100
TZNAME:CET
DTSTART:20201025T010000
END:STANDARD
BEGIN:DAYLIGHT
TZOFFSETFROM:+0100
TZOFFSETTO:+0200
TZNAME:CEST
DTSTART:20210328T010000
END:DAYLIGHT
BEGIN:STANDARD
TZOFFSETFROM:+0200
TZOFFSETTO:+0100
TZNAME:CET
DTSTART:20211031T010000
END:STANDARD
BEGIN:DAYLIGHT
TZOFFSETFROM:+0100
TZOFFSETTO:+0200
TZNAME:CEST
DTSTART:20220327T010000
END:DAYLIGHT
BEGIN:STANDARD
TZOFFSETFROM:+0200
TZOFFSETTO:+0100
TZNAME:CET
DTSTART:20221030T010000
END:STANDARD
END:VTIMEZONE
BEGIN:VEVENT
DTSTART;TZID=Europe/Rome:20211219T110000
DTEND;TZID=Europe/Rome:20211219T130000
DTSTAMP:20260422T055954
CREATED:20211215T153948Z
LAST-MODIFIED:20211215T153948Z
UID:7605-1639911600-1639918800@www.cometaoff.it
SUMMARY:LO SPECCHIO MAGICO
DESCRIPTION:ASSOCIAZIONE ARIADNE – TEATRO A\nPROJECTSCUOLA 2021/2022 \npresenta \nLO SPECCHIO MAGICO e LETTERA A UN GIOVANE REGISTA\nRegia Valeria Freiberg \nDomenica 19 Dicembre 2021\, ORE 11.00 e ORE 17.00 \n  \nDomenica 19 dicembre vanno in scena al Teatro Cometa Off due spettacoli allestiti dalla Compagnia Teatro A: “Lo specchio magico\, poema fantastico” (ore 11) e “Lettera a un giovane regista” (ore 17) diretti da Valeria Freiberg. Sono inseriti all’interno della rassegna Project Scuola VI edizione\, iniziativa finanziata dalla Regione Lazio.\n“Lo specchio magico” è un fantasioso mosaico delle più celebri fiabe del Nord\, pièce per i più piccoli pensata per ricreare suggestioni e atmosfere del periodo natalizio.\n“Lettera a un giovane regista” è un sentito omaggio al compianto regista Giorgio Strehler\, per celebrarne il Centenario della nascita (1921-2021). Strehler è stato uno dei più grandi registi del Novecento\, fondatore del Piccolo Teatro di Milano assieme a\nPaolo Grassi nell’immediato dopoguerra.\nDa un lato si vuole far conoscere ai giovani l’eredità creativa del regista triestino e dall’altro avvicinarli alle straordinarie opere realizzate\, approfondendo in particolare alcune messe in scena. Attraverso parole\, musiche e immagini si realizza un ritratto a tutto tondo del geniale Maestro.\nOsserva la regista: “Credo sia importante ricordare ai più giovani e celebrare Strehler\, uno dei Maestri assoluti del Novecento teatrale\, addentrandosi nel suo magistrale lavoro. Il teatro attuale è figlio di quell’eccezionale manipolatore della finzione scenica”. \nLo specchio magico\nRegia Valeria Freiberg\ncon Cristina Colonnetti\, Andrea Stefani\, Tomas Acosta\nPrezzo biglietto 5€ \nLettera a un giovane regista – Ricordando Giorgio Strehler nel Centenario della nascita\nRegia Valeria Freiberg\ncon Cristina Colonnetti\, Andrea Stefani\nPrezzo biglietto 7€ \n  \ne-mail info.ariadneteatroa@gmail.com\nWhatsApp: +39-3714125639 \nInformazioni su www.compagniateatroa.it\nUfficio Stampa Monica Menna\nmob. 328.9448311\nmonicapress88@gmail.com \n  \nTEATRO COMETA OFF \nVia Luca della Robbia 47 (angolo Piazza Testaccio) \nInfoline e prenotazioni 0657284637 \nBiglietto 5€ Lo Specchio Magico  e 7€ Lettera ad un giovane regista \nTeatro sanificato nel rispetto delle misure ANTICOVID. \nPer partecipare all’evento devi essere socio dell’Associazione Culturale Cometa Off\nASSOCIATI
URL:https://www.cometaoff.it/evento/lo-specchio-magico/
LOCATION:Teatro Cometa Off\, Via Luca della Robbia\, 47\, Roma\, RM\, 00157\, Italy
CATEGORIES:2021-2022
ATTACH;FMTTYPE=image/jpeg:https://www.cometaoff.it/wp-content/uploads/2021/12/lo-specchio-magico-19-dic.jpg
END:VEVENT
BEGIN:VEVENT
DTSTART;TZID=Europe/Rome:20211219T170000
DTEND;TZID=Europe/Rome:20211219T190000
DTSTAMP:20260422T055954
CREATED:20211208T173313Z
LAST-MODIFIED:20211215T154039Z
UID:7530-1639933200-1639940400@www.cometaoff.it
SUMMARY:LETTERA A UN GIOVANE REGISTA
DESCRIPTION:ASSOCIAZIONE ARIADNE – TEATRO A\nPROJECTSCUOLA 2021/2022 \npresenta \nLO SPECCHIO MAGICO e LETTERA A UN GIOVANE REGISTA\nRegia Valeria Freiberg \nDomenica 19 Dicembre 2021\, ORE 11.00 e ORE 17.00 \n  \nDomenica 19 dicembre vanno in scena al Teatro Cometa Off due spettacoli allestiti dalla Compagnia Teatro A: “Lo specchio magico\, poema fantastico” (ore 11) e “Lettera a un giovane regista” (ore 17) diretti da Valeria Freiberg. Sono inseriti all’interno della rassegna Project Scuola VI edizione\, iniziativa finanziata dalla Regione Lazio.\n“Lo specchio magico” è un fantasioso mosaico delle più celebri fiabe del Nord\, pièce per i più piccoli pensata per ricreare suggestioni e atmosfere del periodo natalizio.\n“Lettera a un giovane regista” è un sentito omaggio al compianto regista Giorgio Strehler\, per celebrarne il Centenario della nascita (1921-2021). Strehler è stato uno dei più grandi registi del Novecento\, fondatore del Piccolo Teatro di Milano assieme a\nPaolo Grassi nell’immediato dopoguerra.\nDa un lato si vuole far conoscere ai giovani l’eredità creativa del regista triestino e dall’altro avvicinarli alle straordinarie opere realizzate\, approfondendo in particolare alcune messe in scena. Attraverso parole\, musiche e immagini si realizza un ritratto a tutto tondo del geniale Maestro.\nOsserva la regista: “Credo sia importante ricordare ai più giovani e celebrare Strehler\, uno dei Maestri assoluti del Novecento teatrale\, addentrandosi nel suo magistrale lavoro. Il teatro attuale è figlio di quell’eccezionale manipolatore della finzione scenica”. \nLo specchio magico\nRegia Valeria Freiberg\ncon Cristina Colonnetti\, Andrea Stefani\, Tomas Acosta\nPrezzo biglietto 5€ \nLettera a un giovane regista – Ricordando Giorgio Strehler nel Centenario della nascita\nRegia Valeria Freiberg\ncon Cristina Colonnetti\, Andrea Stefani\nPrezzo biglietto 7€ \n  \ne-mail info.ariadneteatroa@gmail.com\nWhatsApp: +39-3714125639 \nInformazioni su www.compagniateatroa.it\nUfficio Stampa Monica Menna\nmob. 328.9448311\nmonicapress88@gmail.com \n  \nTEATRO COMETA OFF \nVia Luca della Robbia 47 (angolo Piazza Testaccio) \nInfoline e prenotazioni 0657284637 \nBiglietto 5€ Lo Specchio Magico  e 7€ Lettera ad un giovane regista \nTeatro sanificato nel rispetto delle misure ANTICOVID. \nPer partecipare all’evento devi essere socio dell’Associazione Culturale Cometa Off\nASSOCIATI
URL:https://www.cometaoff.it/evento/lettera-a-un-giovane-regista-2/
LOCATION:Teatro Cometa Off\, Via Luca della Robbia\, 47\, Roma\, RM\, 00157\, Italy
CATEGORIES:2021-2022
ATTACH;FMTTYPE=image/jpeg:https://www.cometaoff.it/wp-content/uploads/2021/12/lettera-a-un-giovane-regista-19-dic.jpg
END:VEVENT
END:VCALENDAR