BEGIN:VCALENDAR
VERSION:2.0
PRODID:-//Teatro Cometa Off - ECPv6.15.20//NONSGML v1.0//EN
CALSCALE:GREGORIAN
METHOD:PUBLISH
X-ORIGINAL-URL:https://www.cometaoff.it
X-WR-CALDESC:Eventi per Teatro Cometa Off
REFRESH-INTERVAL;VALUE=DURATION:PT1H
X-Robots-Tag:noindex
X-PUBLISHED-TTL:PT1H
BEGIN:VTIMEZONE
TZID:Europe/Rome
BEGIN:DAYLIGHT
TZOFFSETFROM:+0100
TZOFFSETTO:+0200
TZNAME:CEST
DTSTART:20210328T010000
END:DAYLIGHT
BEGIN:STANDARD
TZOFFSETFROM:+0200
TZOFFSETTO:+0100
TZNAME:CET
DTSTART:20211031T010000
END:STANDARD
BEGIN:DAYLIGHT
TZOFFSETFROM:+0100
TZOFFSETTO:+0200
TZNAME:CEST
DTSTART:20220327T010000
END:DAYLIGHT
BEGIN:STANDARD
TZOFFSETFROM:+0200
TZOFFSETTO:+0100
TZNAME:CET
DTSTART:20221030T010000
END:STANDARD
BEGIN:DAYLIGHT
TZOFFSETFROM:+0100
TZOFFSETTO:+0200
TZNAME:CEST
DTSTART:20230326T010000
END:DAYLIGHT
BEGIN:STANDARD
TZOFFSETFROM:+0200
TZOFFSETTO:+0100
TZNAME:CET
DTSTART:20231029T010000
END:STANDARD
END:VTIMEZONE
BEGIN:VEVENT
DTSTART;VALUE=DATE:20220215
DTEND;VALUE=DATE:20220228
DTSTAMP:20260422T020108
CREATED:20220203T175718Z
LAST-MODIFIED:20220223T171657Z
UID:8252-1644883200-1646006399@www.cometaoff.it
SUMMARY:I MEZZALIRA - Panni sporchi fritti in casa
DESCRIPTION:REPLICA STRAORDINARIA SABATO 26 FEBBRAIO ore 17.00\nTeatro de Gli Incamminati\npresenta \nI MEZZALIRA – Panni sporchi fritti in casa\nScritto da Agnese Fallongo \ncon: Agnese Fallongo\, Tiziano Caputo e Adriano Evangelisti \nRegia di Raffaele Latagliata \nMusiche di : Tiziano Caputo – Scene : Andrea Coppi – Costumi : Daniele Gelsi \n“I panni sporchi si lavano in casa”\, dice un antico proverbio popolare.\nEppure non sempre le mura domestiche bastano a contenere i segreti\, i tabù e i non detti della famiglia Mezzalira.\nUn racconto tragicomico che\, ai toni brillanti della commedia all’italiana\, mescola le tinte fosche del giallo e del thriller e che invita lo spettatore a guardare attraverso il buco della serratura di una casa “qualsiasi”… \nDopo Letizia va alla guerra – la suora\, la sposa e la puttana e …Fino alle stelle! – scalata in musica lungo lo stivale\, spettacoli con i quali si sono posti all’attenzione della critica e del pubblico negli ultimi anni\, Agnese Fallongo e Tiziano Caputo tornano con un nuovo progetto dal titolo insolito e curioso: I Mezzalira – panni sporchi fritti in casa\, terzo capitolo che conclude idealmente la trilogia iniziata dalla Fallongo con la scrittura dei primi due. Lo spettacolo sarà in scena in prima nazionale dal 15 al 27 febbraio a Cometa Off.\nAccanto a loro Adriano Evangelisti che\, dopo averli diretti in Letizia va alla guerra\, questa volta li affiancherà sul palcoscenico dando corpo e voce al protagonista – narratore della storia. La regia è affidata ancora una volta a Raffaele Latagliata\, che già aveva firmato quella di …Fino alle Stelle!\, ad ulteriore conferma dell’ormai consolidato sodalizio di questo collettivo artistico. \nBiglietto Intero : € 15.00  Ridotto : € 10.00 (+ tessera associativa di € 2\,50)\nBIGLIETTI\n  \nDa Martedì 15 a Sabato 19 Febbraio ore 21.00 \nDomenica 20 Febbraio ore 17.00 \nDa Martedì 22 a Venerdì 25 Febbraio ore 21.00 \nSabato 26 Febbraio ore 17.00 e ore 21.00 \nDomenica 27 Febbraio ore 17.00 \nTEATRO COMETA OFF \nVia Luca della Robbia 47 (angolo Piazza Testaccio) \nInfoline e prenotazioni : 06 57284637 \nemail : cometa.off@cometa.org \nTeatro sanificato nel rispetto delle misure ANTICOVID. \nPer partecipare all’evento devi essere socio dell’Associazione Culturale Cometa Off\nASSOCIATI\n  \n 
URL:https://www.cometaoff.it/evento/i-mezzalira/
LOCATION:Teatro Cometa Off\, Via Luca della Robbia\, 47\, Roma\, RM\, 00157\, Italy
CATEGORIES:2021-2022
ATTACH;FMTTYPE=image/jpeg:https://www.cometaoff.it/wp-content/uploads/2022/02/Foto-finita-I-Mezzalira.jpg
END:VEVENT
BEGIN:VEVENT
DTSTART;VALUE=DATE:20220227
DTEND;VALUE=DATE:20220228
DTSTAMP:20260422T020108
CREATED:20220207T172614Z
LAST-MODIFIED:20220216T175532Z
UID:8265-1645920000-1646006399@www.cometaoff.it
SUMMARY:SPETTACOLO RINVIATO - C'ERA UNA VOLTA KARLSSON 27 Febbraio
DESCRIPTION:Compagnia Teatro A\npresenta \nC’ERA UNA VOLTA KARLSSON\nda Astrid Lindgren\nIdea\, adattamento scenico e regia di\nValeria Freiberg \ncon Andrea Stefani e Tomas Acosta \n  \nIn occasione della domenica di carnevale\, il 27 febbraio\, torna in scena la famosa favola per bambini C’era una volta Karlsson\, ispirata al testo della scrittrice svedese Astrid Lindgren. L’allestimento e la regia sono curati da Valeria Freiberg\, che ha all’attivo molteplici adattamenti di pièce per ragazzi e bambini. Sul palco si esibiscono due degli attori della Compagnia Teatro A\, Andrea Stefani e Tomas Acosta. \nKarlsson abita a Stoccolma\, in una casetta su un tetto. Ha un’elica sulla schiena e la capacità di volare in alto. Averlo per amico è una fortuna. È un giovane particolare. Ha un’anima vivace e sbarazzina. È timido e affettuoso\, anche se – come tanti bimbi – fa molti capricci. È impossibile non volergli bene. \nA corredo della rappresentazione ci sono musiche ed atmosfere fiabesche in cui i bimbi possono immergersi\, come in una pioggia di coriandoli colorati. \nLindgren ha scritto indimenticabili capolavori tra cui Pippi Calzelunghe\, Vacanza all’isola dei gabbiani\, I fratelli Cuordileone\, Mio piccolo mio. I suoi libri sono stati tradotti in settanta lingue\, facendo sognare i bimbi di tutto il mondo. \nBiglietto intero : 10\,00 € (per chi si prenota entro il 20 febbraio Biglietto prezzo ridotto 8\,00 €) (+ tessera associativa di € 2\,50)\nDomenica 27 Febbraio ore 11.00 \nInformazioni su www.compagniateatroa.it\ne-mail info.ariadneteatroa@gmail.com\nWhatsApp: 3714125639 \nUfficio Stampa\nMonica Menna 3289448311\nmonicapress88@gmail.com \nTEATRO COMETA OFF \nVia Luca della Robbia 47 (angolo Piazza Testaccio) \nInfoline e prenotazioni 0657284637 \nTeatro sanificato nel rispetto delle misure ANTICOVID. \nPer partecipare all’evento devi essere socio dell’Associazione Culturale Cometa Off\nASSOCIATI\n  \n 
URL:https://www.cometaoff.it/evento/c-era-una-volta-karlsson-27-febbraio/
LOCATION:Teatro Cometa Off\, Via Luca della Robbia\, 47\, Roma\, RM\, 00157\, Italy
CATEGORIES:2021-2022
ATTACH;FMTTYPE=image/jpeg:https://www.cometaoff.it/wp-content/uploads/2022/02/Cera-una-volta-Karlsson-27.02-rinviato-copia.jpg
END:VEVENT
END:VCALENDAR