BEGIN:VCALENDAR
VERSION:2.0
PRODID:-//Teatro Cometa Off - ECPv6.15.20//NONSGML v1.0//EN
CALSCALE:GREGORIAN
METHOD:PUBLISH
X-WR-CALNAME:Teatro Cometa Off
X-ORIGINAL-URL:https://www.cometaoff.it
X-WR-CALDESC:Eventi per Teatro Cometa Off
REFRESH-INTERVAL;VALUE=DURATION:PT1H
X-Robots-Tag:noindex
X-PUBLISHED-TTL:PT1H
BEGIN:VTIMEZONE
TZID:Europe/Rome
BEGIN:DAYLIGHT
TZOFFSETFROM:+0100
TZOFFSETTO:+0200
TZNAME:CEST
DTSTART:20210328T010000
END:DAYLIGHT
BEGIN:STANDARD
TZOFFSETFROM:+0200
TZOFFSETTO:+0100
TZNAME:CET
DTSTART:20211031T010000
END:STANDARD
BEGIN:DAYLIGHT
TZOFFSETFROM:+0100
TZOFFSETTO:+0200
TZNAME:CEST
DTSTART:20220327T010000
END:DAYLIGHT
BEGIN:STANDARD
TZOFFSETFROM:+0200
TZOFFSETTO:+0100
TZNAME:CET
DTSTART:20221030T010000
END:STANDARD
BEGIN:DAYLIGHT
TZOFFSETFROM:+0100
TZOFFSETTO:+0200
TZNAME:CEST
DTSTART:20230326T010000
END:DAYLIGHT
BEGIN:STANDARD
TZOFFSETFROM:+0200
TZOFFSETTO:+0100
TZNAME:CET
DTSTART:20231029T010000
END:STANDARD
END:VTIMEZONE
BEGIN:VEVENT
DTSTART;VALUE=DATE:20220310
DTEND;VALUE=DATE:20220314
DTSTAMP:20260422T004347
CREATED:20220214T174706Z
LAST-MODIFIED:20220310T103646Z
UID:8361-1646870400-1647215999@www.cometaoff.it
SUMMARY:SERATA OMICIDIO (SPETTACOLO DAL 10 AL 13 MARZO 2022)
DESCRIPTION:SERATA OMICIDIO (Repliche dal 10 al 13 Marzo 2022)\nScritto e diretto da Giuseppe Sorgi \nIn scena: Emanuela D’Antoni\, Shara Guandalini\, Elena Mazza\, Micol Pavoncello\, Alessandra Pagnotta\, Giuseppe Sorgi \nDopo il sold-out dello scorso ottobre\, ed il successo della stagione 2018/2019\, torna in scena nella sua versione “d’autore”\, scritta e diretta da Giuseppe Sorgi\, il giallo comico più rappresentato in Italia negli ultimi due anni. \nSu un sito web compare una misteriosa inserzione: giorno\, ora e indirizzo in cui un delitto avrà luogo. Immaginate se fosse l’indirizzo di casa vostra. Uno scherzo?! Se giungessero degli ospiti inattesi\, diverrebbe un gioco mortalmente comico. \n“In Serata Omicidio si ride e si resta legati alla suspence della trama. Meritati gli applausi.” – Annalisa Venditti\, Italia Sera.\n“Esilarante ed avvincente. Spettacolo consigliatissimo.” – IL Foyeur.\n“E’ una commedia geniale per l’ilarità che suscita con una struttura narrativa semplicissima. Nessun tempo morto ed un ventaglio di personaggi irresistibili.” – Giulia Di Clemente\, Labcreativity. \nUn omicidio preannunciato su internet. L’assassino comunica giorno\, ora e luogo in cui verrà commesso il crimine. L’indirizzo risulta essere quello di una giovane donna che non prende sul serio la vicenda. Eppure\, la sera in questione si recano sul “luogo del delitto” alcuni ospiti inattesi\, ognuno spinto da motivazioni diverse. Così il giallo si tinge di rosa e si fa commedia. Ma l’assassino ha costruito un piano perfetto e il misfatto si compirà sotto gli occhi increduli di tutti. Un giallo a tutti gli effetti\, dove i cultori del genere ritroveranno succulenti riferimenti a più di un’opera di Agatha Christie (“Macabro Quiz” e “Un delitto avrà luogo”) e dove\, al tempo stesso\, la comicità fa da padrona senza nulla sottrarre al gioco ad incastro del mistero da risolvere. E quando i fatti volgeranno al peggio\, sfuggendo di mano ai presenti\, quel gioco comico e mortale esigerà una soluzione.\nChi ha premeditato il tutto? Perché? Come ha fatto l’assassino a tessere le fila della sua “Serata Omicidio”? \nBiglietto unico: € 14 (+ tessera associativa di € 2\,50)\nBIGLIETTI\n  \nDa Giovedì 10 a Sabato 12 Marzo ore 21.00 \nDomenica 13 Marzo ore 18.30 \nTEATRO COMETA OFF \nVia Luca della Robbia 47 (angolo Piazza Testaccio) \nInfoline e prenotazioni : 06 57284637 \nemail : cometa.off@cometa.org \nTeatro sanificato nel rispetto delle misure ANTICOVID. \nPer partecipare all’evento devi essere socio dell’Associazione Culturale Cometa Off\nASSOCIATI
URL:https://www.cometaoff.it/evento/serata-omicidio-spettacolo-dal-10-al-13-marzo-2022/
LOCATION:Teatro Cometa Off\, Via Luca della Robbia\, 47\, Roma\, RM\, 00157\, Italy
CATEGORIES:2021-2022
ATTACH;FMTTYPE=image/jpeg:https://www.cometaoff.it/wp-content/uploads/2022/02/marzo-2022-serata-omicidio-con-immagine-dpi-copia.jpg
END:VEVENT
END:VCALENDAR