BEGIN:VCALENDAR
VERSION:2.0
PRODID:-//Teatro Cometa Off - ECPv6.15.20//NONSGML v1.0//EN
CALSCALE:GREGORIAN
METHOD:PUBLISH
X-WR-CALNAME:Teatro Cometa Off
X-ORIGINAL-URL:https://www.cometaoff.it
X-WR-CALDESC:Eventi per Teatro Cometa Off
REFRESH-INTERVAL;VALUE=DURATION:PT1H
X-Robots-Tag:noindex
X-PUBLISHED-TTL:PT1H
BEGIN:VTIMEZONE
TZID:Europe/Rome
BEGIN:DAYLIGHT
TZOFFSETFROM:+0100
TZOFFSETTO:+0200
TZNAME:CEST
DTSTART:20210328T010000
END:DAYLIGHT
BEGIN:STANDARD
TZOFFSETFROM:+0200
TZOFFSETTO:+0100
TZNAME:CET
DTSTART:20211031T010000
END:STANDARD
BEGIN:DAYLIGHT
TZOFFSETFROM:+0100
TZOFFSETTO:+0200
TZNAME:CEST
DTSTART:20220327T010000
END:DAYLIGHT
BEGIN:STANDARD
TZOFFSETFROM:+0200
TZOFFSETTO:+0100
TZNAME:CET
DTSTART:20221030T010000
END:STANDARD
BEGIN:DAYLIGHT
TZOFFSETFROM:+0100
TZOFFSETTO:+0200
TZNAME:CEST
DTSTART:20230326T010000
END:DAYLIGHT
BEGIN:STANDARD
TZOFFSETFROM:+0200
TZOFFSETTO:+0100
TZNAME:CET
DTSTART:20231029T010000
END:STANDARD
END:VTIMEZONE
BEGIN:VEVENT
DTSTART;VALUE=DATE:20220316
DTEND;VALUE=DATE:20220321
DTSTAMP:20260422T004324
CREATED:20220119T160757Z
LAST-MODIFIED:20220308T170533Z
UID:7942-1647388800-1647820799@www.cometaoff.it
SUMMARY:“Q-PID” CAPSULE ORALI - LO SPETTACOLO SULLA PILLOLA PER IL MAL D’AMORE
DESCRIPTION:ASSOCIAZIONE CULTURALE GARRINCHA e MB INTERNATIONAL WORLD ART \npresentano \n“Q-PID” CAPSULE ORALI – LO SPETTACOLO SULLA PILLOLA PER IL MAL D’AMORE\nScritto e diretto da Beatrice Campagna \ncon \nGermana Cifani\, Marianna Di Maso\, Marco Esposito\, Sofia Ferrero\, Andrea Galasso\, Marco Landola\, David Marzullo e Giorgia Remediani \nRegia di Beatrice Campagna \nAiuto regia: Arianna Prencipe\nOrganizzazione : Susan El Sawi \n“Q-pid”\, nato dalla culla del festival di corti teatrali SHORTLAB al CometaOff\, si basa su un’intuizione brillante: se l’amore è “una forma di amnesia che colpisce una persona facendole dimenticare che nel mondo ci sono altri 7 miliardi di individui”\, ecco allora che compare un nuovo farmaco in grado di indurre e spegnere chimicamente l’amore\, che si può ottenere tramite una visita con un medico competente firmando\, se ritenuti idonei un severo contratto.\nC’è chi l’esperienza dell’innamoramento la vede come una trasgressione: nient’altro che una droga\, solo molto\, molto più difficile da ottenere rispetto alle altre; c’è chi sceglie di innamorarsi con consapevolezza e impegno e chi ricorre alla pillola per salvare il proprio matrimonio. Il sistema è pensato per ridurre al minimo gli imprevisti.\nMa cosa accade se uno dei medici addetti si trova improvvisamente a dover trattare una sua vecchia conoscenza? \nBiglietto Unico : € 10\,00 (+ tessera associativa di € 2\,50)\nDa Mercoledì 16 Marzo a Sabato 19 Marzo ore 21.00\nDomenica 20 Marzo ore 18.00  \n  \nTEATRO COMETA OFF \nVia Luca della Robbia 47 (angolo Piazza Testaccio) \nInfoline e prenotazioni 06 57284637 \nEmail : cometa.off@cometa.org \nTeatro sanificato nel rispetto delle misure ANTICOVID. \nPER PARTECIPARE ALL’EVENTO E’ OBBLIGATORIO L’USO DELLA MASCHERINA FFP2 E DEL GREEN PASS RAFFORZATO.\nL’accesso a teatro è riservato ai soci di  Cometa Off. Non sei ancora associato? \nClicca qui ? ASSOCIATI
URL:https://www.cometaoff.it/evento/q-pid/
LOCATION:Teatro Cometa Off\, Via Luca della Robbia\, 47\, Roma\, RM\, 00157\, Italy
CATEGORIES:2021-2022
ATTACH;FMTTYPE=image/png:https://www.cometaoff.it/wp-content/uploads/2022/01/Qpid-locandina.png
END:VEVENT
END:VCALENDAR