BEGIN:VCALENDAR
VERSION:2.0
PRODID:-//Teatro Cometa Off - ECPv6.15.20//NONSGML v1.0//EN
CALSCALE:GREGORIAN
METHOD:PUBLISH
X-WR-CALNAME:Teatro Cometa Off
X-ORIGINAL-URL:https://www.cometaoff.it
X-WR-CALDESC:Eventi per Teatro Cometa Off
REFRESH-INTERVAL;VALUE=DURATION:PT1H
X-Robots-Tag:noindex
X-PUBLISHED-TTL:PT1H
BEGIN:VTIMEZONE
TZID:Europe/Rome
BEGIN:DAYLIGHT
TZOFFSETFROM:+0100
TZOFFSETTO:+0200
TZNAME:CEST
DTSTART:20210328T010000
END:DAYLIGHT
BEGIN:STANDARD
TZOFFSETFROM:+0200
TZOFFSETTO:+0100
TZNAME:CET
DTSTART:20211031T010000
END:STANDARD
BEGIN:DAYLIGHT
TZOFFSETFROM:+0100
TZOFFSETTO:+0200
TZNAME:CEST
DTSTART:20220327T010000
END:DAYLIGHT
BEGIN:STANDARD
TZOFFSETFROM:+0200
TZOFFSETTO:+0100
TZNAME:CET
DTSTART:20221030T010000
END:STANDARD
BEGIN:DAYLIGHT
TZOFFSETFROM:+0100
TZOFFSETTO:+0200
TZNAME:CEST
DTSTART:20230326T010000
END:DAYLIGHT
BEGIN:STANDARD
TZOFFSETFROM:+0200
TZOFFSETTO:+0100
TZNAME:CET
DTSTART:20231029T010000
END:STANDARD
END:VTIMEZONE
BEGIN:VEVENT
DTSTART;VALUE=DATE:20220407
DTEND;VALUE=DATE:20220409
DTSTAMP:20260422T004325
CREATED:20220323T111632Z
LAST-MODIFIED:20220323T154554Z
UID:9290-1649289600-1649462399@www.cometaoff.it
SUMMARY:NORA - OLTRE IL SILENZIO
DESCRIPTION:PROGETTO NORA\npresenta \nNORA – Oltre il silenzio\ndi Amalia Bonagura \ncon : Bruno Cariello\, Flavia G. De Lipsis\, Daniela Bracci\, Lida Ricci \nRegia di : Bruno Cariello – Luci di : Marco D’Amelio \nL’azione si svolge nelle 48 ore che precedono l’udienza finale di un processo per omicidio\, nel salotto di Guido\, avvocato difensore dell’imputato\, intento a preparare la sua arringa finale e unico personaggio maschile in scena. Sul palco\, oltre a lui\, tre generazioni di donne\, una nonna\, una madre\, una figlia\, collegate tra loro non da vincoli di sangue\, ma dalla storia di una di loro. Nora si svela lentamente e racconta la felicità di un amore pieno e coinvolgente e la sua graduale evoluzione verso una fine tanto mostruosa e terribile – eppure imprigionata nei falsi vincoli della “normalità” – da suscitare nel personaggio più giovane\, Lucia\, un forte senso di ribellione per l’incapacità di accettare e giustificare l’inaccettabile e l’ingiustificabile.\nNora vuole coinvolgere tutti nella sua storia e non accetta scuse. Ha ritrovato la voce dopo il silenzio di una vita e ora vuole raccontare: perché lei era lì\, perché sa\, perché ha capito\, perché il silenzio taccia. Perché non accada più. \nLo spettacolo è tratto dal romanzo “Nora. Il silenzio deve tacere” di Amalia Bonagura ed è parte integrante del Progetto Nora per le scuole superiori e le università\, per il contrasto alla violenza di genere e al femminicidio e per la promozione della cultura del rispetto. \nUfficio Stampa e Comunicazione : Stefania Cioccolani \nProgetto Nora contatti : info.progettonora@gmail.com – https://www.facebook.com/ProgettoNoraOltreilsilenzio \nBiglietto Intero : € 12.50 – Ridotto : € 10.00 (+ tessera associativa di € 2\,50)\nGiovedì 07 Aprile 2022 ore 19.00  \nVenerdì 08 Aprile 2022 ore 21.00 \n  \nTEATRO COMETA OFF \nVia Luca della Robbia 47 (angolo Piazza Testaccio) \nInfoline e prenotazioni : 06 57284637 \nemail : cometa.off@cometa.org \nTeatro sanificato nel rispetto delle misure ANTICOVID. \nPer partecipare all’evento devi essere socio dell’Associazione Culturale Cometa Off\nASSOCIATI
URL:https://www.cometaoff.it/evento/nora-oltre-il-silenzio/
LOCATION:Teatro Cometa Off\, Via Luca della Robbia\, 47\, Roma\, RM\, 00157\, Italy
CATEGORIES:2021-2022
ATTACH;FMTTYPE=image/jpeg:https://www.cometaoff.it/wp-content/uploads/2022/03/WhatsApp-Image-2022-03-23-at-12.24.32.jpeg
ORGANIZER;CN="Progetto Nora":MAILTO:info.progettonora@gmail.com
END:VEVENT
END:VCALENDAR