BEGIN:VCALENDAR
VERSION:2.0
PRODID:-//Teatro Cometa Off - ECPv6.15.20//NONSGML v1.0//EN
CALSCALE:GREGORIAN
METHOD:PUBLISH
X-ORIGINAL-URL:https://www.cometaoff.it
X-WR-CALDESC:Eventi per Teatro Cometa Off
REFRESH-INTERVAL;VALUE=DURATION:PT1H
X-Robots-Tag:noindex
X-PUBLISHED-TTL:PT1H
BEGIN:VTIMEZONE
TZID:Europe/Rome
BEGIN:DAYLIGHT
TZOFFSETFROM:+0100
TZOFFSETTO:+0200
TZNAME:CEST
DTSTART:20210328T010000
END:DAYLIGHT
BEGIN:STANDARD
TZOFFSETFROM:+0200
TZOFFSETTO:+0100
TZNAME:CET
DTSTART:20211031T010000
END:STANDARD
BEGIN:DAYLIGHT
TZOFFSETFROM:+0100
TZOFFSETTO:+0200
TZNAME:CEST
DTSTART:20220327T010000
END:DAYLIGHT
BEGIN:STANDARD
TZOFFSETFROM:+0200
TZOFFSETTO:+0100
TZNAME:CET
DTSTART:20221030T010000
END:STANDARD
BEGIN:DAYLIGHT
TZOFFSETFROM:+0100
TZOFFSETTO:+0200
TZNAME:CEST
DTSTART:20230326T010000
END:DAYLIGHT
BEGIN:STANDARD
TZOFFSETFROM:+0200
TZOFFSETTO:+0100
TZNAME:CET
DTSTART:20231029T010000
END:STANDARD
END:VTIMEZONE
BEGIN:VEVENT
DTSTART;VALUE=DATE:20220411
DTEND;VALUE=DATE:20220412
DTSTAMP:20260421T213313
CREATED:20220401T183311Z
LAST-MODIFIED:20220401T183950Z
UID:9423-1649635200-1649721599@www.cometaoff.it
SUMMARY:SUAD 11\,21 e 22 APRILE
DESCRIPTION:Associazione Culturale Ariadne\npresenta \nSUAD – Sound Drama\ncon \nCristina Colonnetti\, Andrea Stefani\, Leonardo Mirenda e Pablo Monterisi \nIn programma l’11 aprile al Teatro Cometa Off la messa in scena del sound drama “Suad” L’adattamento scenico è liberamente ispirato ad una storia davvero accaduta. I versi sono di uno dei più grandi poeti persiani\, Nezami Ganjavi (XII° sec.).\nSuad racconta la sua tragica storia di donna costretta a subire un sopruso\, punita per una gravidanza arrivata prima del matrimonio. Il suo corpo viene cosparso di benzina e le viene dato fuoco su volere della sua stessa famiglia. Una storia sconvolgente e di viva attualità per riflettere sulla violenza perpetrata ancora oggi.\nNon dimentichiamo la sorte dei giovani\, alla luce dei recenti avvenimenti\, e più in generale riflettiamo insieme su come seminare germogli di pace e non di odio.\nLo spettacolo replicherà il 21 e 22 aprile presso il Teatro Cometa Off (ore 10.30 e 12) \nInfoline :   Whatsapp:+39-3714125639 – e.mail: ateatro.assariadne@gmail.com – cell: 3313584190 \nUfficio Stampa :  Monica Menna – mobile 328.9448311 – email : monicapress88@gmail.com \nBiglietto Intero : € 10.00 (+ tessera associativa di € 2\,50)\nLunedì 11 Aprile\, Giovedì 21 Aprile e Venerdì 22 Aprile 2022 ore 10.30 e 12.00 \n  \nTEATRO COMETA OFF \nVia Luca della Robbia 47 (angolo Piazza Testaccio) \nInfoline e prenotazioni : 06 57284637 \nemail : cometa.off@cometa.org \nTeatro sanificato nel rispetto delle misure ANTICOVID. \nPer partecipare all’evento devi essere socio dell’Associazione Culturale Cometa Off\nASSOCIATI
URL:https://www.cometaoff.it/evento/suad-aprile/
LOCATION:Teatro Cometa Off\, Via Luca della Robbia\, 47\, Roma\, RM\, 00157\, Italy
CATEGORIES:2021-2022
ATTACH;FMTTYPE=image/jpeg:https://www.cometaoff.it/wp-content/uploads/2022/04/SUAD-APRILE22.jpg
ORGANIZER;CN="Associazione Culturale Ariadne":MAILTO:ateatro.assariadne@gmail.com
END:VEVENT
END:VCALENDAR