BEGIN:VCALENDAR
VERSION:2.0
PRODID:-//Teatro Cometa Off - ECPv6.15.20//NONSGML v1.0//EN
CALSCALE:GREGORIAN
METHOD:PUBLISH
X-WR-CALNAME:Teatro Cometa Off
X-ORIGINAL-URL:https://www.cometaoff.it
X-WR-CALDESC:Eventi per Teatro Cometa Off
REFRESH-INTERVAL;VALUE=DURATION:PT1H
X-Robots-Tag:noindex
X-PUBLISHED-TTL:PT1H
BEGIN:VTIMEZONE
TZID:Europe/Rome
BEGIN:DAYLIGHT
TZOFFSETFROM:+0100
TZOFFSETTO:+0200
TZNAME:CEST
DTSTART:20210328T010000
END:DAYLIGHT
BEGIN:STANDARD
TZOFFSETFROM:+0200
TZOFFSETTO:+0100
TZNAME:CET
DTSTART:20211031T010000
END:STANDARD
BEGIN:DAYLIGHT
TZOFFSETFROM:+0100
TZOFFSETTO:+0200
TZNAME:CEST
DTSTART:20220327T010000
END:DAYLIGHT
BEGIN:STANDARD
TZOFFSETFROM:+0200
TZOFFSETTO:+0100
TZNAME:CET
DTSTART:20221030T010000
END:STANDARD
BEGIN:DAYLIGHT
TZOFFSETFROM:+0100
TZOFFSETTO:+0200
TZNAME:CEST
DTSTART:20230326T010000
END:DAYLIGHT
BEGIN:STANDARD
TZOFFSETFROM:+0200
TZOFFSETTO:+0100
TZNAME:CET
DTSTART:20231029T010000
END:STANDARD
END:VTIMEZONE
BEGIN:VEVENT
DTSTART;VALUE=DATE:20220602
DTEND;VALUE=DATE:20220606
DTSTAMP:20260421T182956
CREATED:20220305T114445Z
LAST-MODIFIED:20220324T143836Z
UID:8984-1654128000-1654473599@www.cometaoff.it
SUMMARY:GEL LEGGE IL RAP ITALIANO A TEATRO
DESCRIPTION:NoPimps\npresenta \nGEL legge ed interpreta il Rap italiano a teatro\ncon la partecipazione e le musiche di Ice One\nGel all’anagrafe Corrado Ferrarese è uno dei fondatori del gruppo rap capitolino Truceboys/Truceklan.\nDa qualche tempo carica sul suo canale YouTube un format chiamato appunto : “Gel legge”.\nIl format ha avuto parecchio successo e questo ha spinto l’artista a rappresentarlo in Teatro.\nGel legge in chiave teatrale ed ironica i testi di molte canzoni famose rap italiane.\nUno spettacolo ricco di ironia e creativitá. Da non perdere. \nBiglietto Unico : € 12.50  (+ tessera associativa di € 2\,50)\nDa Giovedì 2 Giugno a Sabato 4 Giugno 2022 ore 21.00 \nDomenica 05 Giugno 2022 ore 18.30 \n  \nTEATRO COMETA OFF \nVia Luca della Robbia 47 (angolo Piazza Testaccio) \nInfoline e prenotazioni : 06 57284637 \nemail : cometa.off@cometa.org \nTeatro sanificato nel rispetto delle misure ANTICOVID. \nPer partecipare all’evento devi essere socio dell’Associazione Culturale Cometa Off\nASSOCIATI
URL:https://www.cometaoff.it/evento/gel-legge-il-rap-italiano-a-teatro/
LOCATION:Teatro Cometa Off\, Via Luca della Robbia\, 47\, Roma\, RM\, 00157\, Italy
CATEGORIES:2021-2022
ATTACH;FMTTYPE=image/jpeg:https://www.cometaoff.it/wp-content/uploads/2022/03/Locandina.jpeg
END:VEVENT
END:VCALENDAR