BEGIN:VCALENDAR
VERSION:2.0
PRODID:-//Teatro Cometa Off - ECPv6.15.20//NONSGML v1.0//EN
CALSCALE:GREGORIAN
METHOD:PUBLISH
X-WR-CALNAME:Teatro Cometa Off
X-ORIGINAL-URL:https://www.cometaoff.it
X-WR-CALDESC:Eventi per Teatro Cometa Off
REFRESH-INTERVAL;VALUE=DURATION:PT1H
X-Robots-Tag:noindex
X-PUBLISHED-TTL:PT1H
BEGIN:VTIMEZONE
TZID:Europe/Rome
BEGIN:DAYLIGHT
TZOFFSETFROM:+0100
TZOFFSETTO:+0200
TZNAME:CEST
DTSTART:20210328T010000
END:DAYLIGHT
BEGIN:STANDARD
TZOFFSETFROM:+0200
TZOFFSETTO:+0100
TZNAME:CET
DTSTART:20211031T010000
END:STANDARD
BEGIN:DAYLIGHT
TZOFFSETFROM:+0100
TZOFFSETTO:+0200
TZNAME:CEST
DTSTART:20220327T010000
END:DAYLIGHT
BEGIN:STANDARD
TZOFFSETFROM:+0200
TZOFFSETTO:+0100
TZNAME:CET
DTSTART:20221030T010000
END:STANDARD
BEGIN:DAYLIGHT
TZOFFSETFROM:+0100
TZOFFSETTO:+0200
TZNAME:CEST
DTSTART:20230326T010000
END:DAYLIGHT
BEGIN:STANDARD
TZOFFSETFROM:+0200
TZOFFSETTO:+0100
TZNAME:CET
DTSTART:20231029T010000
END:STANDARD
END:VTIMEZONE
BEGIN:VEVENT
DTSTART;VALUE=DATE:20221001
DTEND;VALUE=DATE:20221010
DTSTAMP:20260421T031849
CREATED:20220914T091431Z
LAST-MODIFIED:20220919T123559Z
UID:10618-1664582400-1665359999@www.cometaoff.it
SUMMARY:MACBETH
DESCRIPTION:I Giardini di Antares in collaborazione con Giorgio Barattolo\npresentano\nMACBETH\ndi William Shakespeare\nTraduzione e adattamento a cura di Alessandro Sena  \ncon (in ordine alfabetico) : Stefano Antonucci\, Luca Basile\, Alessandra Cosimato\, Mariné Galstyan\, Clara Morlino\, Vittoria Rossi\, Emanuele Salvati\, Francesco Sgrò ed Emanuele Vircillo \nRegia di : Alessandro Sena – Aiuto regia: Simonetta Di Coste \nConsulenza musiche : Peste – Foto di scena : Nina Kulishova – Tecnici di scena: Gabriele Planamente e Alessandro Laprovitera \n  \nDebutta in prima assoluta\, aprendo la nuova stagione del Teatro Cometa Off\, dal 1 al 9 ottobre\, MACBETH di William Shakespeare con la regia di Alessandro Sena.\nE’ un adattamento moderno quello firmato da Alessandro Sena\, che porta in scena uno dei testi più noti di Shakespeare\, pubblicato per la prima volta dal grande autore inglese nel 1623.\nIl suo Macbeth è un eroe attuale\, ostaggio di sentimenti legati ad una grande ambizione\, nella continua ricerca del potere personale con i più biechi fini e al conseguente senso di colpa\, mai sazio del sangue dei suoi nemici\, inquieto nella sua eterna insoddisfazione e animato da una follia omicida. \nUna scenografia minimalista ma indicativa di un universo che si muove fra oriente ed occidente\, non necessariamente legata ad una epoca distinta\, accoglie una regia dinamica costruita attraverso linguaggi multipli in una alchimia di parole\, musica e movimenti scenici.\nNove attori si muovono sul palco al servizio di un testo straordinario e particolarmente attuale\, quanto mai oggi riflesso dei conflitti odierni\, portando in scena personaggi animati da passioni e pulsioni che contribuiscono a realizzare una catarsi nel liberarsi da tutto il male e accogliere il bene che salverà il loro ed il nostro mondo. \nOrganizzazione Generale: I Giardini di Antares Tel. 339 8784860\nUfficio Stampa : Maresa Palmacci Tel. 348 080 3972 – Email : palmaccimaresa@gmail.com \nBiglietto Intero : € 16\,00 – Ridotto : € 12\,50 (+ tessera associativa di € 2\,50)\nBiglietti non vendibili ON-LINE\nSabato 1 Ottobre ore 21.00 – Domenica 2 Ottobre ore 18.00 \nDa Martedì 4 Ottobre a Sabato 8 Ottobre ore 21.00 – Domenica 9 Ottobre ore 18.00. \n  \nTEATRO COMETA OFF\nVia Luca della Robbia 47 (angolo Piazza Testaccio) \nInfoline e prenotazioni : 06 57284637 \nemail : cometa.off@cometa.org \nTeatro sanificato nel rispetto delle misure ANTICOVID. \nPer partecipare all’evento devi essere socio dell’Associazione Culturale Cometa Off\nASSOCIATI
URL:https://www.cometaoff.it/evento/macbeth/
LOCATION:Teatro Cometa Off\, Via Luca della Robbia\, 47\, Roma\, RM\, 00157\, Italy
CATEGORIES:2022-2023
ATTACH;FMTTYPE=image/jpeg:https://www.cometaoff.it/wp-content/uploads/2022/09/LOCANDINA-MACBETH-UFFICIALE-PER-INSTAGRAM-nuova.jpg
ORGANIZER;CN="I Giardini di Antares":MAILTO:igiardinidiantares@libero.it
END:VEVENT
END:VCALENDAR