BEGIN:VCALENDAR
VERSION:2.0
PRODID:-//Teatro Cometa Off - ECPv6.15.20//NONSGML v1.0//EN
CALSCALE:GREGORIAN
METHOD:PUBLISH
X-WR-CALNAME:Teatro Cometa Off
X-ORIGINAL-URL:https://www.cometaoff.it
X-WR-CALDESC:Eventi per Teatro Cometa Off
REFRESH-INTERVAL;VALUE=DURATION:PT1H
X-Robots-Tag:noindex
X-PUBLISHED-TTL:PT1H
BEGIN:VTIMEZONE
TZID:Europe/Rome
BEGIN:DAYLIGHT
TZOFFSETFROM:+0100
TZOFFSETTO:+0200
TZNAME:CEST
DTSTART:20210328T010000
END:DAYLIGHT
BEGIN:STANDARD
TZOFFSETFROM:+0200
TZOFFSETTO:+0100
TZNAME:CET
DTSTART:20211031T010000
END:STANDARD
BEGIN:DAYLIGHT
TZOFFSETFROM:+0100
TZOFFSETTO:+0200
TZNAME:CEST
DTSTART:20220327T010000
END:DAYLIGHT
BEGIN:STANDARD
TZOFFSETFROM:+0200
TZOFFSETTO:+0100
TZNAME:CET
DTSTART:20221030T010000
END:STANDARD
BEGIN:DAYLIGHT
TZOFFSETFROM:+0100
TZOFFSETTO:+0200
TZNAME:CEST
DTSTART:20230326T010000
END:DAYLIGHT
BEGIN:STANDARD
TZOFFSETFROM:+0200
TZOFFSETTO:+0100
TZNAME:CET
DTSTART:20231029T010000
END:STANDARD
END:VTIMEZONE
BEGIN:VEVENT
DTSTART;VALUE=DATE:20221012
DTEND;VALUE=DATE:20221017
DTSTAMP:20260421T031808
CREATED:20220928T125306Z
LAST-MODIFIED:20220929T063956Z
UID:10712-1665532800-1665964799@www.cometaoff.it
SUMMARY:34
DESCRIPTION:ACCADEMIA TEATRALE PADIGLIONE LUDWIG\npresenta \nSTANZEBIT\nin collaborazione con \nIRYO s.r.l.\n34\nda un’idea di  Valeria Andreozzi – Drammaturgia collettiva tratta da un racconto “premiato” di Valeria Andreozzi \nRegia e Coreografia : Valeria Andreozzi – Supervisione artistica : Massimiliano Vado \nInterpreti : Angela Di Domenico\, Marta Forcellati\, Chiara Ferlito\, Caterina Petrucci\, Lorenzo Balestra\, Matteo d’Incoronato\, Massimiliano Nicodemo \nMusiche : Angelina Yershowa – Voce : Debora Longini – Oggetti di scena : Andrea Casagrande \n  \nUno spettacolo di teatro-danza e video astro-stellari ideato e diretto da Valeria Andreozzi con la supervisione artistica alla regia di Massimiliano Vado.\nRealizzato con la collaborazione partecipe di astronomi e astrofisici.\n34 è un numero ed è il nome dato a questa vita\, abituata a guardare in alto\, a immergersi nelle particelle dell’Universo con i suoi buchi neri e galassie\, una vita giovane e curiosa che inspiegabilmente si ammala ma\, intanto\, riesce a coinvolgere gli altri e\, insieme\, guardare verso l’alto.\nUn tributo a una giovane vita terminata molto presto rispetto alle sue potenzialità\, fatta di numeri\, sorprese\, connessioni\, realtà e ultraterreno. \nFacendoci trasportare dai movimenti stellari\, i percorsi delle galassie\, la posizione dei pianeti\, le stelle cadenti\, le eclissi e le comete\, entriamo in un sogno senza spazio e senza tempo\, osservando\, insieme a 34 i suoi ricordi terreni le relazioni\, l’amore\, le dinamiche terrestri e del corpo umano collegato a quelle dello spazio. \nBiglietto Unico Botteghino :  € 12\,50 (+ tessera associativa di € 2\,50)\nDa Mercoledì 12 Ottobre a  Sabato 15 Ottobre ore 20.30 – Domenica 16 Ottobre ore 18.00 \n\nTEATRO COMETA OFF\nVia Luca della Robbia 47 (angolo Piazza Testaccio) \nInfoline e prenotazioni : 06 57284637 \nemail : cometa.off@cometa.org \nTeatro sanificato nel rispetto delle misure ANTICOVID. \nPer partecipare all’evento devi essere socio dell’Associazione Culturale Cometa Off\nASSOCIATI
URL:https://www.cometaoff.it/evento/34/
LOCATION:Teatro Cometa Off\, Via Luca della Robbia\, 47\, Roma\, RM\, 00157\, Italy
CATEGORIES:2022-2023
ATTACH;FMTTYPE=image/jpeg:https://www.cometaoff.it/wp-content/uploads/2022/09/locandina-34_page-0001.jpg
END:VEVENT
END:VCALENDAR