BEGIN:VCALENDAR
VERSION:2.0
PRODID:-//Teatro Cometa Off - ECPv6.15.20//NONSGML v1.0//EN
CALSCALE:GREGORIAN
METHOD:PUBLISH
X-WR-CALNAME:Teatro Cometa Off
X-ORIGINAL-URL:https://www.cometaoff.it
X-WR-CALDESC:Eventi per Teatro Cometa Off
REFRESH-INTERVAL;VALUE=DURATION:PT1H
X-Robots-Tag:noindex
X-PUBLISHED-TTL:PT1H
BEGIN:VTIMEZONE
TZID:Europe/Rome
BEGIN:DAYLIGHT
TZOFFSETFROM:+0100
TZOFFSETTO:+0200
TZNAME:CEST
DTSTART:20210328T010000
END:DAYLIGHT
BEGIN:STANDARD
TZOFFSETFROM:+0200
TZOFFSETTO:+0100
TZNAME:CET
DTSTART:20211031T010000
END:STANDARD
BEGIN:DAYLIGHT
TZOFFSETFROM:+0100
TZOFFSETTO:+0200
TZNAME:CEST
DTSTART:20220327T010000
END:DAYLIGHT
BEGIN:STANDARD
TZOFFSETFROM:+0200
TZOFFSETTO:+0100
TZNAME:CET
DTSTART:20221030T010000
END:STANDARD
BEGIN:DAYLIGHT
TZOFFSETFROM:+0100
TZOFFSETTO:+0200
TZNAME:CEST
DTSTART:20230326T010000
END:DAYLIGHT
BEGIN:STANDARD
TZOFFSETFROM:+0200
TZOFFSETTO:+0100
TZNAME:CET
DTSTART:20231029T010000
END:STANDARD
END:VTIMEZONE
BEGIN:VEVENT
DTSTART;VALUE=DATE:20221018
DTEND;VALUE=DATE:20221031
DTSTAMP:20260421T031849
CREATED:20220920T164942Z
LAST-MODIFIED:20220922T144937Z
UID:10680-1666051200-1667174399@www.cometaoff.it
SUMMARY:IL CONDOMINIO DI GIULIA
DESCRIPTION:ESSERRE in collaborazione con FORMI4\npresenta \nIL CONDOMINIO DI GIULIA\ndi Francesca Staasch \nRegia di Riccardo Scarafoni \ncon : Fabiana Bruno\, Ughetta D’Onorascenzo\, Gabriele Linari\, Veruska Rossi\, Fabrizio Sabatucci e Riccardo Scarafoni \nCostumi : Lisa Sorone – Sarta : Sara Iacobini – Scene : Emanuela Cignitti – Luci : Giacomo Cursi – Aiuto Scenografia : Francesca Meloni – Ufficio Stampa : Claudia Ragno – Foto e Locandina : Patrizio Cocco – Assistente di Produzione : Martina Polizzi – Assistente Regia : Daniele Felici– Regista Assistente : Leonarda Imbornone – Aiuto Regia : Veruska Rossi \nLe Voci : INCONSCIO : Cinzia De Carolis – GIORGIO : Francesco Venditti – DOTTORESSA : Cinzia Villari \n  \nSiamo nella testa Giulia\, un’autrice televisiva quarantenne\, in cui vivono e agiscono 6 entità: COSCIENZA\, RAZIONALITA’\, SENSO DI COLPA\, SPERANZA\, SISTEMA NERVOSO e CUORE.\nE’ questo “Il Condominio di Giulia”.\nE sono questi “condòmini” \, che a turno si manifestano\, si agitano\, agiscono ognuno secondo la propria natura\, a raccontarci il percorso di Giulia verso la sofferta decisione che dovrà prendere. \nBIGLIETTI BOTTEGHINO:  Intero € 15\,50 – Ridotto Under 18 : € 12\,50 (+ tessera associativa di € 2\,50)\n? Per gli acquisti ON-LINE ?\nBIGLIETTI\n  \nDa Martedì 18 Ottobre a Sabato 22 Ottobre ore 21.00 – Domenica 23 Ottobre ore 18.00 \nDa Martedì 25 Ottobre a Sabato 29 Ottobre ore 21.00 – Domenica 30 Ottobre ore 18.00 \nTEATRO COMETA OFF\nVia Luca della Robbia 47 (angolo Piazza Testaccio) \nInfoline e prenotazioni : 06 57284637 \nemail : cometa.off@cometa.org \nTeatro sanificato nel rispetto delle misure ANTICOVID. \nPer partecipare all’evento devi essere socio dell’Associazione Culturale Cometa Off\nASSOCIATI
URL:https://www.cometaoff.it/evento/il-condominio-di-giulia/
LOCATION:Teatro Cometa Off\, Via Luca della Robbia\, 47\, Roma\, RM\, 00157\, Italy
CATEGORIES:2022-2023
ATTACH;FMTTYPE=image/jpeg:https://www.cometaoff.it/wp-content/uploads/2022/09/Condominio-x-Insta.jpg
END:VEVENT
END:VCALENDAR