BEGIN:VCALENDAR
VERSION:2.0
PRODID:-//Teatro Cometa Off - ECPv6.15.20//NONSGML v1.0//EN
CALSCALE:GREGORIAN
METHOD:PUBLISH
X-WR-CALNAME:Teatro Cometa Off
X-ORIGINAL-URL:https://www.cometaoff.it
X-WR-CALDESC:Eventi per Teatro Cometa Off
REFRESH-INTERVAL;VALUE=DURATION:PT1H
X-Robots-Tag:noindex
X-PUBLISHED-TTL:PT1H
BEGIN:VTIMEZONE
TZID:Europe/Rome
BEGIN:DAYLIGHT
TZOFFSETFROM:+0100
TZOFFSETTO:+0200
TZNAME:CEST
DTSTART:20210328T010000
END:DAYLIGHT
BEGIN:STANDARD
TZOFFSETFROM:+0200
TZOFFSETTO:+0100
TZNAME:CET
DTSTART:20211031T010000
END:STANDARD
BEGIN:DAYLIGHT
TZOFFSETFROM:+0100
TZOFFSETTO:+0200
TZNAME:CEST
DTSTART:20220327T010000
END:DAYLIGHT
BEGIN:STANDARD
TZOFFSETFROM:+0200
TZOFFSETTO:+0100
TZNAME:CET
DTSTART:20221030T010000
END:STANDARD
BEGIN:DAYLIGHT
TZOFFSETFROM:+0100
TZOFFSETTO:+0200
TZNAME:CEST
DTSTART:20230326T010000
END:DAYLIGHT
BEGIN:STANDARD
TZOFFSETFROM:+0200
TZOFFSETTO:+0100
TZNAME:CET
DTSTART:20231029T010000
END:STANDARD
END:VTIMEZONE
BEGIN:VEVENT
DTSTART;VALUE=DATE:20221102
DTEND;VALUE=DATE:20221121
DTSTAMP:20260421T031851
CREATED:20220924T172705Z
LAST-MODIFIED:20221029T164851Z
UID:10701-1667347200-1668988799@www.cometaoff.it
SUMMARY:LA DIFFICILISSIMA STORIA DELLA VITA DI CICCIO SPERANZA
DESCRIPTION:Società per Attori e Accademia Perduta Romagna Teatri \npresentano \nLES MOUSTACHES \nin \nLA DIFFICILISSIMA STORIA DELLA VITA DI CICCIO SPERANZA\nun testo di Alberto Fumagalli \ncon : Francesco Giordano\, Alberto Gandolfo e Federico Bizzarri \nCostumi : Giulio Morini – Aiuto Regia : Tommaso Ferrero \nRegia : Ludovica D’Auria e Alberto Fumagalli \n  \nCiccio Speranza è un ragazzo grasso\, ma leggero\, con un’anima talmente delicata\, che potrebbe sembrare quella di una graziosa principessa nordeuropea.\nCiccio Speranza vive in una vecchia catapecchia di provincia dove si sente soffocare\, come una fragile libellula rosa in una teca di plexiglass opaco.\nCiccio Speranza ha un sogno troppo grande per poter rimanere in un cassetto di legno marcio: vuole danzare. \nIn una sperduta provincia di un’Italia sperduta\, la sperduta famiglia Speranza vive da generazioni le stesse lunghissime giornate. Sebbastiano è il padre di Ciccio\, violento e grave come un tamburo di pelle di capra in un concerto di ottavini. Dennis è il fratello di Ciccio\, con un’apertura mentale di uno che va a Bangkok e spacca tutto perché non sanno fare pasta\, patate e cozze. Solo\, in fondo\, nella sua fragilità\, Ciccio vuole scappare da quel luogo che mai ha sentito come casa. Attraverso il suo gutturale linguaggio\, il suo corpo grassissimo e il suo sogno impacciato\, il nostro protagonista\, in tutù rosa non smetterà mai di danzare\, raccontandoci la sua vita così come la desidera.\nCiccio appartiene ad un mondo lontano\, senza alcuna possibilità di esaudire il proprio sogno. Il suo destino è segnato\, il suo carattere è condizionato\, la sua vita è soffocata da un ambiente che gli sta stretto come un cappottino antigelo sta stretto ad un bulldog inglese. Dunque\, perché rattrappire i propri istinti? Solo perché la cicogna ci ha fatto cadere lontano dalla terra promessa? Perché sentirsi schiacciati da una famiglia che non vuole conoscere un mondo che sta oltre il proprio campo di fagioli? \n  \nDa Mercoledì 02 Novembre a  Sabato 05 Novembre ore 21.00 – Domenica 06 Novembre ore 17.30 \nDa Martedì 08 Novembre a Sabato 12 Novembre ore 21.00 – Domenica 13 Novembre ore 17.30 \nDa Martedì 15 Novembre a  Sabato 19 Novembre ore 21.00 – Domenica 20 Novembre ore 17.30 \n  \nBiglietto Intero Botteghino :  € 15\,00 – Biglietto Intero ONLINE Promo € 10\,00 (+ tessera associativa di € 2\,50) \n  \nL’evento è riservato ESCLUSIVAMENTE ai soci di Cometa Off. \n? 1) Prima ASSOCIATI qui ?\nASSOCIATI\n? 2) Poi acquista i biglietti ON-LINE ?\nBIGLIETTI\n  \nTEATRO COMETA OFF\nVia Luca della Robbia 47 (angolo Piazza Testaccio) \nInfoline e prenotazioni : 06 57284637 \nemail : cometa.off@cometa.org \nTeatro sanificato nel rispetto delle misure ANTICOVID.
URL:https://www.cometaoff.it/evento/la-difficilissima-storia-della-vita-di-ciccio-speranza/
LOCATION:Teatro Cometa Off\, Via Luca della Robbia\, 47\, Roma\, RM\, 00157\, Italy
CATEGORIES:2022-2023
ATTACH;FMTTYPE=image/jpeg:https://www.cometaoff.it/wp-content/uploads/2022/09/SITO-1024-x-576-compressed-scaled.jpg
END:VEVENT
BEGIN:VEVENT
DTSTART;VALUE=DATE:20221120
DTEND;VALUE=DATE:20221121
DTSTAMP:20260421T031851
CREATED:20220916T171533Z
LAST-MODIFIED:20220920T165329Z
UID:10658-1668902400-1668988799@www.cometaoff.it
SUMMARY:GRIMMROCK
DESCRIPTION:Compagnia Teatro A – Associazione Culturale Ariadne\npresenta \nGRIMMROCK – I Musicisti di Brema\ncon \nTomas Acosta e Andrea Stefani \nRegia di : Valeria Freiberg \nTorna in scena al Cometa Off la Compagnia Teatro A – Associazione Ariadne con “Le fiabe della nostra infanzia”\, format di successo che ha conquistato intere famiglie.\nIn cartellone tre favole per bambini rivisitate in chiave moderna e dirette dalla regista Valeria Freiberg: Diario dei cattivi consigli\, in scena domenica 16 e 30 ottobre. Grimmrock I musicisti di Brema in programmazione nel mese di novembre (domenica 20 e 27 novembre). L’anno si chiude infine con La regina delle nevi allestita domenica 11 e 18 dicembre. Protagonisti Tomas Acosta\, Andrea Stefani e Cristina Colonnetti. \n“Diario dei cattivi consigli” ha per protagonista un giovane particolare. Ha un’anima vivace e birichina. È capace di unire la timidezza e la vanità\, i capricci e l’affetto\, l’avidità e il risentimento\, l’infinita fiducia in se stesso e la tristezza – tutto ciò che paradossalmente riempie il mondo interiore di un bambino. \n“GrimmRock” è uno spettacolo multimediale\, coniuga teatro di prosa\, poesia\, musica\, balletti e gioco. Si vuole coinvolgere i bambini nel gioco teatrale dandogli la possibilità di esprimere loro stessi. Protagonisti il giovane Trovatore e i suoi amici; un asino\, un cane\, un gatto e un gallo che giungono a Brema per allestire uno spettacolo musicale. \n“La Regina delle Nevi”\, la fiaba dello scrittore danese Hans Christian Andersen\, nella rilettura dello scrittore e sceneggiatore russo Evgenij L’vovič Švarc. Una storia di coraggio e di amicizia\, che spingerà Gerda\, protagonista del racconto\, a partire alla ricerca dell’amico scomparso Kay\, fino al castello della glaciale Regina delle Nevi. \n“Il linguaggio della fiaba – spiega la regista – è ricco e variegato\, sospeso tra poesia e incantesimo\, utilizziamo nelle pièce immagini animate proiettate a ricreare atmosfere fiabesche in cui i bimbi possono immergersi”. \nInfoline :   Whatsapp:+39-3714125639 – e.mail: ateatro.assariadne@gmail.com – cell: 3313584190 \nUfficio Stampa :  Monica Menna – mobile 328.9448311 – email : monicapress88@gmail.com \nBiglietto Intero : € 10.00 (+ tessera associativa di € 2\,50)\nDomenica 20 Novembre ore 09.30 e 11.00 \nDomenica 27 Novembre ore 09.30 e 11.00 \n  \nTEATRO COMETA OFF\nVia Luca della Robbia 47 (angolo Piazza Testaccio) \nInfoline e prenotazioni : 06 57284637 \nemail : cometa.off@cometa.org \nTeatro sanificato nel rispetto delle misure ANTICOVID. \nPer partecipare all’evento devi essere socio dell’Associazione Culturale Cometa Off\nASSOCIATI
URL:https://www.cometaoff.it/evento/grimmrock-20-novembre/
LOCATION:Teatro Cometa Off\, Via Luca della Robbia\, 47\, Roma\, RM\, 00157\, Italy
CATEGORIES:2022-2023
ATTACH;FMTTYPE=image/jpeg:https://www.cometaoff.it/wp-content/uploads/2022/09/2-GrimmRock-compressed.jpg
ORGANIZER;CN="Associazione Culturale Ariadne":MAILTO:ateatro.assariadne@gmail.com
END:VEVENT
END:VCALENDAR