BEGIN:VCALENDAR
VERSION:2.0
PRODID:-//Teatro Cometa Off - ECPv6.15.20//NONSGML v1.0//EN
CALSCALE:GREGORIAN
METHOD:PUBLISH
X-WR-CALNAME:Teatro Cometa Off
X-ORIGINAL-URL:https://www.cometaoff.it
X-WR-CALDESC:Eventi per Teatro Cometa Off
REFRESH-INTERVAL;VALUE=DURATION:PT1H
X-Robots-Tag:noindex
X-PUBLISHED-TTL:PT1H
BEGIN:VTIMEZONE
TZID:Europe/Rome
BEGIN:DAYLIGHT
TZOFFSETFROM:+0100
TZOFFSETTO:+0200
TZNAME:CEST
DTSTART:20210328T010000
END:DAYLIGHT
BEGIN:STANDARD
TZOFFSETFROM:+0200
TZOFFSETTO:+0100
TZNAME:CET
DTSTART:20211031T010000
END:STANDARD
BEGIN:DAYLIGHT
TZOFFSETFROM:+0100
TZOFFSETTO:+0200
TZNAME:CEST
DTSTART:20220327T010000
END:DAYLIGHT
BEGIN:STANDARD
TZOFFSETFROM:+0200
TZOFFSETTO:+0100
TZNAME:CET
DTSTART:20221030T010000
END:STANDARD
BEGIN:DAYLIGHT
TZOFFSETFROM:+0100
TZOFFSETTO:+0200
TZNAME:CEST
DTSTART:20230326T010000
END:DAYLIGHT
BEGIN:STANDARD
TZOFFSETFROM:+0200
TZOFFSETTO:+0100
TZNAME:CET
DTSTART:20231029T010000
END:STANDARD
END:VTIMEZONE
BEGIN:VEVENT
DTSTART;VALUE=DATE:20221223
DTEND;VALUE=DATE:20221224
DTSTAMP:20260421T031853
CREATED:20221121T193817Z
LAST-MODIFIED:20221128T190357Z
UID:11797-1671753600-1671839999@www.cometaoff.it
SUMMARY:IL CANTO DI NATALE DELLA ZIA
DESCRIPTION:Accademia delle Star – Stanze BIT \npresenta \nIL CANTO DI NATALE DELLA ZIA\ncon : Matteo D’Incoronato\, Lorenzo Balestra\, Caterina Petrucci e Angela Di Domenico \nRegia di : Valeria Andreozzi e Ksenija Trbovic Pellegrini \nIl canto di Natale della Zia.\nCommedia brillante musicale\, messa in scena dalla compagnia Stanze BIT insieme all’Accademia delle Star con 20 attori\, riprende il celebre Canto di Natale.\nLo spettacolo è un viaggio nel tempo di una “zia”\, cinica e avida\, che detesta il Natale\, non sopporta i festeggiamenti e vive la sua vita solo in base ai ricavi che può ottenere.\nLa zia ha perso il valore delle relazioni umane e ha chiuso il suo cuore in una cassaforte come i suoi denari.\nVari spiriti appaiono a lei assumendo diverse forme: creature danzanti\, entità canterine\, voci profonde\, tutti insieme\, facendole anche un po’ paura\, riescono a farle ritrovare una parte di sé\, che neanche lei stessa credeva di avere più.\nEsiste un solo modo per cambiare il futuro\, essere diversi nel momento presente\, assumendosi la responsabilità della nostra vita e indirizzandola al meglio delle nostre possibilità.\nFatevi coinvolgere nella Magia di Natale presso il Teatro Cometa Off il giorno 23 Dicembre 2022 a ridosso della Vigilia di Natale! Ci saranno 2 spettacoli\, il primo ore 18.00 e il secondo ore 20.30. Vi aspettiamo! \nBiglietto Unico : € 13.00 (+ tessera associativa di € 2\,50)\nVenerdì 23 Dicembre ore 18.00 e ore 20.30 \n  \nTEATRO COMETA OFF\nVia Luca della Robbia 47 (angolo Piazza Testaccio) \nInfoline e prenotazioni : 06 57284637 \nemail : cometa.off@cometa.org \nTeatro sanificato nel rispetto delle misure ANTICOVID. \nPer partecipare all’evento devi essere socio dell’Associazione Culturale Cometa Off\nASSOCIATI
URL:https://www.cometaoff.it/evento/il-canto-di-natale-della-zia/
LOCATION:Teatro Cometa Off\, Via Luca della Robbia\, 47\, Roma\, RM\, 00157\, Italy
CATEGORIES:2022-2023
ATTACH;FMTTYPE=image/jpeg:https://www.cometaoff.it/wp-content/uploads/2022/11/WhatsApp-Image-2022-11-21-at-10.32.35.jpeg
END:VEVENT
END:VCALENDAR