BEGIN:VCALENDAR
VERSION:2.0
PRODID:-//Teatro Cometa Off - ECPv6.15.20//NONSGML v1.0//EN
CALSCALE:GREGORIAN
METHOD:PUBLISH
X-WR-CALNAME:Teatro Cometa Off
X-ORIGINAL-URL:https://www.cometaoff.it
X-WR-CALDESC:Eventi per Teatro Cometa Off
REFRESH-INTERVAL;VALUE=DURATION:PT1H
X-Robots-Tag:noindex
X-PUBLISHED-TTL:PT1H
BEGIN:VTIMEZONE
TZID:Europe/Rome
BEGIN:DAYLIGHT
TZOFFSETFROM:+0100
TZOFFSETTO:+0200
TZNAME:CEST
DTSTART:20210328T010000
END:DAYLIGHT
BEGIN:STANDARD
TZOFFSETFROM:+0200
TZOFFSETTO:+0100
TZNAME:CET
DTSTART:20211031T010000
END:STANDARD
BEGIN:DAYLIGHT
TZOFFSETFROM:+0100
TZOFFSETTO:+0200
TZNAME:CEST
DTSTART:20220327T010000
END:DAYLIGHT
BEGIN:STANDARD
TZOFFSETFROM:+0200
TZOFFSETTO:+0100
TZNAME:CET
DTSTART:20221030T010000
END:STANDARD
BEGIN:DAYLIGHT
TZOFFSETFROM:+0100
TZOFFSETTO:+0200
TZNAME:CEST
DTSTART:20230326T010000
END:DAYLIGHT
BEGIN:STANDARD
TZOFFSETFROM:+0200
TZOFFSETTO:+0100
TZNAME:CET
DTSTART:20231029T010000
END:STANDARD
END:VTIMEZONE
BEGIN:VEVENT
DTSTART;VALUE=DATE:20221226
DTEND;VALUE=DATE:20221227
DTSTAMP:20260420T162918
CREATED:20221211T140754Z
LAST-MODIFIED:20221211T140754Z
UID:11951-1672012800-1672099199@www.cometaoff.it
SUMMARY:AMBO CO' LEMBO
DESCRIPTION:AMBO CO’ LEMBO\nShow e Tombolata \ncon : Luciano Lembo \npresenta : Giancarlo Gagliardi e….ospiti a sorpresa \nSanto Stefano a Teatro con l’artista romano Luciano Lembo.(Radio Globo\, Comedy Central\,Colorado Cafè).\nTra gags comiche\,musica e improvvisazione con il pubblico\, sarà come trascorrere la Festa a casa di Amici.\nLa tombola che coinvolgerà tutto il pubblico (ognuno con la sua cartella) farà da atmosfera natalizia.\nInsomma…UNA FESTA CONDIVISA. \n  \nLunedì 26 Dicembre 2022 alle ore 18.00  \n  \nBiglietto Unico Botteghino :  € 12\,50  (+ tessera associativa di € 2\,50) \n  \nL’evento è riservato ESCLUSIVAMENTE ai soci di Cometa Off. \n? ASSOCIATI qui ?\nASSOCIATI\n  \nTEATRO COMETA OFF\nVia Luca della Robbia 47 (angolo Piazza Testaccio) \nInfoline e prenotazioni : 06 57284637 \nemail : cometa.off@cometa.org \nTeatro sanificato nel rispetto delle misure ANTICOVID.
URL:https://www.cometaoff.it/evento/ambo-co-lembo/
LOCATION:Teatro Cometa Off\, Via Luca della Robbia\, 47\, Roma\, RM\, 00157\, Italy
CATEGORIES:2022-2023
ATTACH;FMTTYPE=image/jpeg:https://www.cometaoff.it/wp-content/uploads/2022/12/locandina-26-dicembre.jpeg
END:VEVENT
END:VCALENDAR