BEGIN:VCALENDAR
VERSION:2.0
PRODID:-//Teatro Cometa Off - ECPv6.15.20//NONSGML v1.0//EN
CALSCALE:GREGORIAN
METHOD:PUBLISH
X-WR-CALNAME:Teatro Cometa Off
X-ORIGINAL-URL:https://www.cometaoff.it
X-WR-CALDESC:Eventi per Teatro Cometa Off
REFRESH-INTERVAL;VALUE=DURATION:PT1H
X-Robots-Tag:noindex
X-PUBLISHED-TTL:PT1H
BEGIN:VTIMEZONE
TZID:Europe/Rome
BEGIN:DAYLIGHT
TZOFFSETFROM:+0100
TZOFFSETTO:+0200
TZNAME:CEST
DTSTART:20220327T010000
END:DAYLIGHT
BEGIN:STANDARD
TZOFFSETFROM:+0200
TZOFFSETTO:+0100
TZNAME:CET
DTSTART:20221030T010000
END:STANDARD
BEGIN:DAYLIGHT
TZOFFSETFROM:+0100
TZOFFSETTO:+0200
TZNAME:CEST
DTSTART:20230326T010000
END:DAYLIGHT
BEGIN:STANDARD
TZOFFSETFROM:+0200
TZOFFSETTO:+0100
TZNAME:CET
DTSTART:20231029T010000
END:STANDARD
BEGIN:DAYLIGHT
TZOFFSETFROM:+0100
TZOFFSETTO:+0200
TZNAME:CEST
DTSTART:20240331T010000
END:DAYLIGHT
BEGIN:STANDARD
TZOFFSETFROM:+0200
TZOFFSETTO:+0100
TZNAME:CET
DTSTART:20241027T010000
END:STANDARD
END:VTIMEZONE
BEGIN:VEVENT
DTSTART;VALUE=DATE:20230308
DTEND;VALUE=DATE:20230313
DTSTAMP:20260420T081258
CREATED:20230210T172023Z
LAST-MODIFIED:20230304T111748Z
UID:12869-1678233600-1678665599@www.cometaoff.it
SUMMARY:GIOVANNA DARK
DESCRIPTION:DarkSide LabTheatre Company \npresenta \nGIOVANNA DARK\nda Andrew Birkin – Luc Besson – George Bernard Shaw \nAdattamento e Regia di Matteo Fasanella \ncon : Virna Zorzan\, Alessio Giusto\, Federico Boccanera\, Lorenzo Martinelli\, \nDiana Forlani\, Matteo Fasanella\ne con Luca Negroni \n  \nVisionaria? Eretica? Medium? Condottiera? Strega? Santa\, 478 anni dopo. \nGiovanna D’Arco\, la Pulzella d’Orlèans\, negli anni più infuocati della “Guerra dei Cent’anni”\, riuscì a farsi accreditare presso la corte francese grazie a un carisma straordinario. Condusse varie offensive contro gli inglesi e nel maggio del 1429 ottenne due storiche vittorie ad Orlèans e a Patay\, permettendo all’esercito francese di conquistare il territorio fino a Reims e al Delfino di Francia di ricevere una solenne incoronazione con il nome di Carlo VII.\nSuccessivamente\, patti politici tra potenti e una controversa intercessione della Chiesa Cattolica (allora ancora unita) portarono Giovanna a finire catturata e\, nel giro di un anno\, tra il 1430 e il 1431\, condannata ed arsa viva sulla piazza del Mercato vecchio a Rouen.\nQuesta è la storia. Per quel che possiamo riscontrare.\nIl vero motore di questa vicenda resta però l’insoluta risposta: chi era davvero Giovanna D’Arco? Cosa muoveva la sua passione? Uno dei più sofisticati e misteriosi personaggi della storia dell’umanità\, sempre in bilico tra oscuro e divino\, 114 anni dopo una beatificazione che sa più di appropriazione di fatti storici che di risposta. \nCoerentemete con lo stile e le modalità tipiche della Darkside LabTheatre Company\, collettivo teatrale under 35 attivo a Roma dal 2015\, “Giovanna Dark” vuole porre l’accento sulle ombre che accompagnano la figura eroica della pulzella d’Orleans\, ponendo interrogativi che scavalcano la vicenda storica per arrivare a noi\, a quel mistero che rappresenta il nucleo fondativo di ogni essere umano. \n  \n? Da Mercoledì 08 Marzo a Sabato 11 Marzo 2023 alle ore 21.00  \n? Domenica 12 Marzo 2023 alle ore 18.00 \n  \n?️ Biglietto Intero Botteghino :  € 17\,50 – Ridotto : € 15\,00 (+ ? tessera associativa di € 2\,50) \n  \nL’evento è riservato ESCLUSIVAMENTE ai soci di Cometa Off. \n? 1) Prima ASSOCIATI qui ?\nASSOCIATI\n? 2) Poi acquista i biglietti ON-LINE ?\nBIGLIETTI\n  \nTEATRO COMETA OFF\nVia Luca della Robbia 47 (angolo Piazza Testaccio) \nInfoline e prenotazioni : 06 57284637 \nemail : cometa.off@cometa.org \nTeatro sanificato nel rispetto delle misure ANTICOVID.
URL:https://www.cometaoff.it/evento/giovanna-dark/
LOCATION:Teatro Cometa Off\, Via Luca della Robbia\, 47\, Roma\, RM\, 00157\, Italy
CATEGORIES:2022-2023
ATTACH;FMTTYPE=image/jpeg:https://www.cometaoff.it/wp-content/uploads/2023/02/LOCANDINA-COMETA-compresso-scaled.jpg
END:VEVENT
END:VCALENDAR