BEGIN:VCALENDAR
VERSION:2.0
PRODID:-//Teatro Cometa Off - ECPv6.15.20//NONSGML v1.0//EN
CALSCALE:GREGORIAN
METHOD:PUBLISH
X-WR-CALNAME:Teatro Cometa Off
X-ORIGINAL-URL:https://www.cometaoff.it
X-WR-CALDESC:Eventi per Teatro Cometa Off
REFRESH-INTERVAL;VALUE=DURATION:PT1H
X-Robots-Tag:noindex
X-PUBLISHED-TTL:PT1H
BEGIN:VTIMEZONE
TZID:Europe/Rome
BEGIN:DAYLIGHT
TZOFFSETFROM:+0100
TZOFFSETTO:+0200
TZNAME:CEST
DTSTART:20220327T010000
END:DAYLIGHT
BEGIN:STANDARD
TZOFFSETFROM:+0200
TZOFFSETTO:+0100
TZNAME:CET
DTSTART:20221030T010000
END:STANDARD
BEGIN:DAYLIGHT
TZOFFSETFROM:+0100
TZOFFSETTO:+0200
TZNAME:CEST
DTSTART:20230326T010000
END:DAYLIGHT
BEGIN:STANDARD
TZOFFSETFROM:+0200
TZOFFSETTO:+0100
TZNAME:CET
DTSTART:20231029T010000
END:STANDARD
BEGIN:DAYLIGHT
TZOFFSETFROM:+0100
TZOFFSETTO:+0200
TZNAME:CEST
DTSTART:20240331T010000
END:DAYLIGHT
BEGIN:STANDARD
TZOFFSETFROM:+0200
TZOFFSETTO:+0100
TZNAME:CET
DTSTART:20241027T010000
END:STANDARD
END:VTIMEZONE
BEGIN:VEVENT
DTSTART;VALUE=DATE:20230321
DTEND;VALUE=DATE:20230323
DTSTAMP:20260420T081301
CREATED:20230227T170509Z
LAST-MODIFIED:20230227T170509Z
UID:13105-1679356800-1679529599@www.cometaoff.it
SUMMARY:NANNARE'
DESCRIPTION:Associazione Culturale Arcadinoè \n\npresenta \nNANNARE’\nIn memoria di tutti i femminicidi\nNovità di e con Giulia Ricciardi \nRegia di Patrizio Cigliano \nRegista collaboratrice : Claudia Genolini – Ufficio Stampa : Maresa Palmacci \n  \nNannarè è una puttana romana\, già “matura”\, che si racconta senza falsi pudori. Nell’ambiente “di lavoro” è stata ribattezzata Nannarè perché\, con la sua romanità spudorata\, la sua schiettezza ineluttabile\, il suo aspetto e i suoi colori ricorda l’indimenticata Anna Magnani. E’ una donna del popolo\, e forse la troviamo durante un interrogatorio di fronte alla Polizia. O forse no. A chi parla? Con chi\, si mette così a nudo mostrando anche le sue molte fragilità? Parla di una vita difficile\, faticosa\, pericolosa\, lasciandoci intuire le molte violenze cui è stata sottoposta fin da bambina\,già obbligata a “battere” il marciapiede.\nCerca un perdono? Una redenzione? …E davanti a chi? La sua umanità è emozionante\, commovente\, trasgressiva e a volte persino fastidiosa\, ma niente è come sembra e Nannarè si metterà in gioco… forse per l’ultima volta. \n  \nMartedì 21 Marzo e Mercoledì 22 Marzo 2023 alle ore 21.00  \n  \nBiglietto Intero Botteghino :  € 17\,50 – Ridotto Botteghino : € 15\,00  (+ tessera associativa di € 2\,50) \n  \nL’evento è riservato ESCLUSIVAMENTE ai soci di Cometa Off. \n? ASSOCIATI qui ?\nASSOCIATI\n  \nTEATRO COMETA OFF\nVia Luca della Robbia 47 (angolo Piazza Testaccio) \nInfoline e prenotazioni : 06 57284637 \nemail : cometa.off@cometa.org \nTeatro sanificato nel rispetto delle misure ANTICOVID.
URL:https://www.cometaoff.it/evento/nannare/
LOCATION:Teatro Cometa Off\, Via Luca della Robbia\, 47\, Roma\, RM\, 00157\, Italy
CATEGORIES:2022-2023
ATTACH;FMTTYPE=image/jpeg:https://www.cometaoff.it/wp-content/uploads/2023/02/nannare-loca-Definitiva-A3-compressed.jpg
END:VEVENT
END:VCALENDAR