BEGIN:VCALENDAR
VERSION:2.0
PRODID:-//Teatro Cometa Off - ECPv6.15.20//NONSGML v1.0//EN
CALSCALE:GREGORIAN
METHOD:PUBLISH
X-ORIGINAL-URL:https://www.cometaoff.it
X-WR-CALDESC:Eventi per Teatro Cometa Off
REFRESH-INTERVAL;VALUE=DURATION:PT1H
X-Robots-Tag:noindex
X-PUBLISHED-TTL:PT1H
BEGIN:VTIMEZONE
TZID:Europe/Rome
BEGIN:DAYLIGHT
TZOFFSETFROM:+0100
TZOFFSETTO:+0200
TZNAME:CEST
DTSTART:20220327T010000
END:DAYLIGHT
BEGIN:STANDARD
TZOFFSETFROM:+0200
TZOFFSETTO:+0100
TZNAME:CET
DTSTART:20221030T010000
END:STANDARD
BEGIN:DAYLIGHT
TZOFFSETFROM:+0100
TZOFFSETTO:+0200
TZNAME:CEST
DTSTART:20230326T010000
END:DAYLIGHT
BEGIN:STANDARD
TZOFFSETFROM:+0200
TZOFFSETTO:+0100
TZNAME:CET
DTSTART:20231029T010000
END:STANDARD
BEGIN:DAYLIGHT
TZOFFSETFROM:+0100
TZOFFSETTO:+0200
TZNAME:CEST
DTSTART:20240331T010000
END:DAYLIGHT
BEGIN:STANDARD
TZOFFSETFROM:+0200
TZOFFSETTO:+0100
TZNAME:CET
DTSTART:20241027T010000
END:STANDARD
END:VTIMEZONE
BEGIN:VEVENT
DTSTART;VALUE=DATE:20230328
DTEND;VALUE=DATE:20230331
DTSTAMP:20260420T062355
CREATED:20230227T174041Z
LAST-MODIFIED:20230305T190454Z
UID:13174-1679961600-1680220799@www.cometaoff.it
SUMMARY:TOCCATA E FUGA
DESCRIPTION:COMPAGNIA LINEA DI CONFINE A.P.S. \npresenta \nTOCCATA E FUGA\ndi Derek Benfield \ncon  Raffaele La Pegna\, Andrea Taurino\, Antonella De Cesare\, Francesca Antonucci\, Savina Scaramuzzino \nRegia di Roberto Belli \nScenografie di Federica Sollazzo –  Audio e Luci : Renato Barabotti \n  \nMentre sua moglie è in viaggio per lavoro\, George presta il suo appartamento all’amico Brian che intende “intrattenersi” con una giovane e bella ragazza. Il gesto è meno generoso di quanto possa sembrare perché\, in realtà\, mentre Brian è con l’amante\, George è nell’appartamento di Brian “intrattenuto” da sua moglie! Tutto andrebbe a meraviglia se la moglie di George non tornasse a casa da un viaggio di lavoro prima del previsto…\nToccata e fuga è la più famosa commedia di Derek Benfield che\, con tipico humor inglese\, narra in maniera esilarante tradimenti ed equivoci di ogni genere. Una scena doppia\, come doppie sono le vite dei singoli personaggi che vivono le reciproche tresche in maniera molto diversa\, con leggerezza e padronanza le donne\, con ansia e imbarazzo gli uomini.\nPerché anche per tradire il proprio partner ci vuole stile!\nUna serie esilarante di situazioni al limite\, scandiscono il ritmo della commedia\, deliziando lo spettatore con innumerevoli e continui colpi di scena. \nDurata : 2 atti per una durata di 90 minuti \n  \n? Da Martedì 28 Marzo a Giovedì 30 Marzo 2023 alle ore 21.00  \n  \n?️ Biglietto Intero Botteghino :  € 15\,00 (+ ? tessera associativa di € 2\,50) \n  \nL’evento è riservato ESCLUSIVAMENTE ai soci di Cometa Off. \n? ASSOCIATI qui ?\nASSOCIATI\n  \nTEATRO COMETA OFF\nVia Luca della Robbia 47 (angolo Piazza Testaccio) \nInfoline e prenotazioni : 06 57284637 \nemail : cometa.off@cometa.org \nTeatro sanificato nel rispetto delle misure ANTICOVID.
URL:https://www.cometaoff.it/evento/toccata-e-fuga/
LOCATION:Teatro Cometa Off\, Via Luca della Robbia\, 47\, Roma\, RM\, 00157\, Italy
CATEGORIES:2022-2023
ATTACH;FMTTYPE=image/jpeg:https://www.cometaoff.it/wp-content/uploads/2023/02/Locandina_TOC_01_nuova-scaled.jpg
ORGANIZER;CN="Compagnia Linea di Confine A.P.S.":MAILTO:info@lineadiconfine.eu
END:VEVENT
END:VCALENDAR