BEGIN:VCALENDAR
VERSION:2.0
PRODID:-//Teatro Cometa Off - ECPv6.15.20//NONSGML v1.0//EN
CALSCALE:GREGORIAN
METHOD:PUBLISH
X-ORIGINAL-URL:https://www.cometaoff.it
X-WR-CALDESC:Eventi per Teatro Cometa Off
REFRESH-INTERVAL;VALUE=DURATION:PT1H
X-Robots-Tag:noindex
X-PUBLISHED-TTL:PT1H
BEGIN:VTIMEZONE
TZID:Europe/Rome
BEGIN:DAYLIGHT
TZOFFSETFROM:+0100
TZOFFSETTO:+0200
TZNAME:CEST
DTSTART:20220327T010000
END:DAYLIGHT
BEGIN:STANDARD
TZOFFSETFROM:+0200
TZOFFSETTO:+0100
TZNAME:CET
DTSTART:20221030T010000
END:STANDARD
BEGIN:DAYLIGHT
TZOFFSETFROM:+0100
TZOFFSETTO:+0200
TZNAME:CEST
DTSTART:20230326T010000
END:DAYLIGHT
BEGIN:STANDARD
TZOFFSETFROM:+0200
TZOFFSETTO:+0100
TZNAME:CET
DTSTART:20231029T010000
END:STANDARD
BEGIN:DAYLIGHT
TZOFFSETFROM:+0100
TZOFFSETTO:+0200
TZNAME:CEST
DTSTART:20240331T010000
END:DAYLIGHT
BEGIN:STANDARD
TZOFFSETFROM:+0200
TZOFFSETTO:+0100
TZNAME:CET
DTSTART:20241027T010000
END:STANDARD
END:VTIMEZONE
BEGIN:VEVENT
DTSTART;VALUE=DATE:20230411
DTEND;VALUE=DATE:20230413
DTSTAMP:20260420T062458
CREATED:20230324T181709Z
LAST-MODIFIED:20230330T170106Z
UID:13638-1681171200-1681343999@www.cometaoff.it
SUMMARY:LOVE RENTAL
DESCRIPTION:LABORATORIO DI ARTI SCENICHE DI MASSIMILIANO BRUNO \npresenta \nLOVE RENTAL\ncon  Elena Biagetti\, Giulia Vittoria Cavallo\, Alessandro Nistri\, Niccolò Felici \nRegia di : Massimiliano Vado \nAiuto Regia di : Sofia Pasquali \n  \nUna coppia per caso: lui\, disagiato cronico\, nerd\, impacciato quanto curioso\, ovviamente timido; lei più spregiudicata\, per difesa\, certamente disinibita ma in fuga dal vero amore; cosa che invece lui cerca\, quasi disperatamente e con qualsiasi mezzo.\nEra destino che si incontrassero o c’è qualcosa sotto? Sono destinati ad essere il tanto ricercato l’incastro perfetto\, oppure sono una delle tante volte in cui le dichiarazioni di amore imperituro si dissolveranno nel vento? Stanno e si stanno dicendo la verità oppure hanno sempre pronta una via di fuga? E soprattutto perché realizzare una nuova commedia che parla d’amore?\nPerché tutte queste domande? A cosa servono le commedie d’amore? A farci capire che l’amore esiste? O è solo una invenzione dei poeti? ..Stiamo divagando.\nLei ha deciso\, dopo una vita non semplice all’ombra di una madre sempre troppo presente\, di intraprendere il lavoro più antico del mondo\, con il mezzo al momento più tecnologico del mondo: onlyfans; lui non è riuscito a resisterle e piomba a casa sua\, inizialmente come cliente\, ma con il fermo proposito di rimanerle impresso.\nUna forma comunque bizzarra di commedia sull’amore.\nLe parole rincorrono altre parole\, gli imbarazzi si accavallano ai sorrisi qualcosa dentro i due protagonisti si comincia a muovere. Un ragazzo innamorato di una prostituta\, una prostituta che respinge l’amore\, qualche incomprensione ma un amore che freme per sbocciare: Love Rental. \n  \n? Martedì 11 e Mercoledì 12 Aprile 2023 alle ore 21.00  \n? Martedì 18 e Mercoledì 19 Aprile 2023 alle ore 21.00  \n  \n?️ Biglietto Intero Botteghino :  € 13\,00 – Ridotto Gruppi e Scuole : € 10\,00 (+ ? tessera associativa di € 2\,50) \n  \nL’evento è riservato ESCLUSIVAMENTE ai soci di Cometa Off. \n? ASSOCIATI qui ?\nASSOCIATI\n  \nTEATRO COMETA OFF\nVia Luca della Robbia 47 (angolo Piazza Testaccio) \nInfoline e prenotazioni : 06 57284637 \nemail : cometa.off@cometa.org \nTeatro sanificato nel rispetto delle misure ANTICOVID.
URL:https://www.cometaoff.it/evento/love-rental-11-12-aprile/
LOCATION:Teatro Cometa Off\, Via Luca della Robbia\, 47\, Roma\, RM\, 00157\, Italy
CATEGORIES:2022-2023
ATTACH;FMTTYPE=image/png:https://www.cometaoff.it/wp-content/uploads/2023/03/Love-Rental-compressed.png
END:VEVENT
END:VCALENDAR