BEGIN:VCALENDAR
VERSION:2.0
PRODID:-//Teatro Cometa Off - ECPv6.15.20//NONSGML v1.0//EN
CALSCALE:GREGORIAN
METHOD:PUBLISH
X-ORIGINAL-URL:https://www.cometaoff.it
X-WR-CALDESC:Eventi per Teatro Cometa Off
REFRESH-INTERVAL;VALUE=DURATION:PT1H
X-Robots-Tag:noindex
X-PUBLISHED-TTL:PT1H
BEGIN:VTIMEZONE
TZID:Europe/Rome
BEGIN:DAYLIGHT
TZOFFSETFROM:+0100
TZOFFSETTO:+0200
TZNAME:CEST
DTSTART:20220327T010000
END:DAYLIGHT
BEGIN:STANDARD
TZOFFSETFROM:+0200
TZOFFSETTO:+0100
TZNAME:CET
DTSTART:20221030T010000
END:STANDARD
BEGIN:DAYLIGHT
TZOFFSETFROM:+0100
TZOFFSETTO:+0200
TZNAME:CEST
DTSTART:20230326T010000
END:DAYLIGHT
BEGIN:STANDARD
TZOFFSETFROM:+0200
TZOFFSETTO:+0100
TZNAME:CET
DTSTART:20231029T010000
END:STANDARD
BEGIN:DAYLIGHT
TZOFFSETFROM:+0100
TZOFFSETTO:+0200
TZNAME:CEST
DTSTART:20240331T010000
END:DAYLIGHT
BEGIN:STANDARD
TZOFFSETFROM:+0200
TZOFFSETTO:+0100
TZNAME:CET
DTSTART:20241027T010000
END:STANDARD
END:VTIMEZONE
BEGIN:VEVENT
DTSTART;VALUE=DATE:20230415
DTEND;VALUE=DATE:20230417
DTSTAMP:20260420T062459
CREATED:20230324T184140Z
LAST-MODIFIED:20230325T150054Z
UID:13650-1681516800-1681689599@www.cometaoff.it
SUMMARY:FACCIO TUTTO PURE SE NON SO' CAPACE
DESCRIPTION:PAOLO DIONISI \nin \nFACCIO TUTTO PURE SE NON SO’ CAPACE\nscritto e diretto da : Paolo Dionisi e Maurizio Francabandiera \ncon la partecipazione straordinaria di Giulia Pulcini e Martina Bove  \n  \nLo spettacolo prende spunto esattamente dal titolo “Faccio tutto pure se non sò capace”. Partendo da questo presupposto Paolo Dionisi va ad interpretare ed omaggiare tutte le forme di spettacolo…ma ovviamente alla sua maniera e sempre in chiave comica! \nGrazie anche alla partecipazione di due bravissime ballerine\, Giulia Pulcini e Martina Bove in questo caso anche attrici\, parte questa sorta di viaggio-tributo che spazierà tra la magia\, la canzone\, il cabaret\, il ballo\, la musica fino ad arrivare alla sorpresa dello sketch finale! \nInsomma…un vulcanico contenitore che non mancherà di divertirvi e magari dare anche qualche spunto di riflessione! \n  \n? Sabato 15 Aprile alle ore 21.00 e Domenica 16 Aprile 2023 alle ore 18.00  \n  \n?️ Biglietto Intero Botteghino :  € 12\,50 (+ ? tessera associativa di € 2\,50) \n  \nL’evento è riservato ESCLUSIVAMENTE ai soci di Cometa Off. \n? ASSOCIATI qui ?\nASSOCIATI\n  \nTEATRO COMETA OFF\nVia Luca della Robbia 47 (angolo Piazza Testaccio) \nInfoline e prenotazioni : 06 57284637 \nemail : cometa.off@cometa.org \nTeatro sanificato nel rispetto delle misure ANTICOVID.
URL:https://www.cometaoff.it/evento/faccio-tutto-pure-se-non-so-capace/
LOCATION:Teatro Cometa Off\, Via Luca della Robbia\, 47\, Roma\, RM\, 00157\, Italy
CATEGORIES:2022-2023
ATTACH;FMTTYPE=image/png:https://www.cometaoff.it/wp-content/uploads/2023/03/20230119_105526_9127100052517044506_2.png
END:VEVENT
END:VCALENDAR