BEGIN:VCALENDAR
VERSION:2.0
PRODID:-//Teatro Cometa Off - ECPv6.15.20//NONSGML v1.0//EN
CALSCALE:GREGORIAN
METHOD:PUBLISH
X-WR-CALNAME:Teatro Cometa Off
X-ORIGINAL-URL:https://www.cometaoff.it
X-WR-CALDESC:Eventi per Teatro Cometa Off
REFRESH-INTERVAL;VALUE=DURATION:PT1H
X-Robots-Tag:noindex
X-PUBLISHED-TTL:PT1H
BEGIN:VTIMEZONE
TZID:Europe/Rome
BEGIN:DAYLIGHT
TZOFFSETFROM:+0100
TZOFFSETTO:+0200
TZNAME:CEST
DTSTART:20220327T010000
END:DAYLIGHT
BEGIN:STANDARD
TZOFFSETFROM:+0200
TZOFFSETTO:+0100
TZNAME:CET
DTSTART:20221030T010000
END:STANDARD
BEGIN:DAYLIGHT
TZOFFSETFROM:+0100
TZOFFSETTO:+0200
TZNAME:CEST
DTSTART:20230326T010000
END:DAYLIGHT
BEGIN:STANDARD
TZOFFSETFROM:+0200
TZOFFSETTO:+0100
TZNAME:CET
DTSTART:20231029T010000
END:STANDARD
BEGIN:DAYLIGHT
TZOFFSETFROM:+0100
TZOFFSETTO:+0200
TZNAME:CEST
DTSTART:20240331T010000
END:DAYLIGHT
BEGIN:STANDARD
TZOFFSETFROM:+0200
TZOFFSETTO:+0100
TZNAME:CET
DTSTART:20241027T010000
END:STANDARD
END:VTIMEZONE
BEGIN:VEVENT
DTSTART;VALUE=DATE:20230502
DTEND;VALUE=DATE:20230508
DTSTAMP:20260420T050040
CREATED:20230408T153805Z
LAST-MODIFIED:20230408T160353Z
UID:13742-1682985600-1683503999@www.cometaoff.it
SUMMARY:PANE\, LATTE E LACRIME
DESCRIPTION:PANE\, LATTE E LACRIME\ndi Veronica Liberale \ndiretto da Pietro De Silva \ncon  Federica Bianconi\, Ugo Caprarella\, Mariachiara Di Mitri\, Silvia Grassi\, Lorenzo Mastrangeli\, Marianna Menga\, Lorenza Molina \nAiuto Regia : Giovanni Marra –  Fonica e Luci : Denis Persichini \n  \nCi troviamo a piazzale del Verano\, dove Alvise Trevisan\, un distinto signore del nord\, da tutto il quartiere chiamato con il rispettoso appellativo di “dottore” per i suoi modi eleganti\, il suo garbo e la sua cultura\, aspetta davanti al suo banco preferito di fiori l’arrivo delle sue proprietarie. Ed è questa piazza dove “le urla dei fiorai s’incontrano a mezz’aria col silenzio dei morti del Verano”\, lo scenario dove si svolge la commedia umana e dove incontriamo i suoi protagonisti. Insieme ad Alvise conosciamo Umberto\, custode del cimitero e dei segreti più reconditi del quartiere\, emblema pittoresco di un’umanità pigra e indolente e quintessenza della romanità; la sora Assunta\, fioraia pungente\, sarcastica e disillusa e Angeletta\, la pazza del quartiere\, grottesca\, tragica e poetica\, in grado di dire e fare cose straordinarie. Troviamo poi Iole\, madre di sette figlie\, con il marito antifascista in carcere\, costretta a diventare capo-famiglia e a gestire questioni e decisioni importanti\, stretta tra una cognata vedova\, apparentemente superficiale e vanitosa-Franca- e una figlia ribelle e determinata- Firmina.\nL’arrivo di una lettera dal carcere indirizzata a Iole\, contenente un messaggio cifrato\, darà l’avvio a una serie di accadimenti\, che porterà i protagonisti a vivere questi ultimi giorni prima del bombardamento\, rimettendo in discussione la loro vita\, le loro scelte\, i loro ideali\, fino al tragico epilogo\, che consegnerà per sempre un quartiere e i suoi abitanti alla storia del nostro paese. La condizione della donna negli anni di guerra\, la maternità\, la sopravvivenza\, sono questi i principali temi trattati dallo spettacolo. Un affresco della vita dei quartieri popolari negli anni quaranta e della società italiana durante il fascismo e la guerra. \nAmbientato a Roma nel popolare quartiere San Lorenzo\, nei giorni che precedono il tragico bombardamento del 19 luglio 1943\, il testo trae ispirazione e nello stesso tempo vuole omaggiare la grande Commedia all’italiana. Partendo dalla lezione del neorealismo\, il lavoro coniuga i contenuti comici-brillanti con una satira di costume a volte amara\, in grado di far ridere e riflettere nello stesso tempo.\nE’ una commedia corale\, uno spaccato di vita di alcuni san lorenzini costretti dalla guerra a rimettere in discussione le proprie vite\, alla vigilia di un evento che cambierà totalmente la storia di un quartiere e dei suoi abitanti. \nPane\, latte e lacrime è anche storia di amore\, amicizia\, ironia\, incoscienza e saggezza\, in un periodo in cui i rioni romani rappresentavano tutti una grande famiglia\, ed è soprattutto storia di donne. Eroine che escono dalle mura domestiche\, dove la società le aveva relegate\, per affrontare il mondo\, consegnandosi alla storia di un piccolo quartiere\, microcosmo dell’umanità intera. \nUn tributo sincero e sentito a tutti i caduti delle guerre e alla nostra memoria storica. \n  \n? Da Martedì 02 Maggio a  Sabato 06 Maggio 2023 alle ore 21.00  \n? Domenica 07 Maggio 2023 alle ore 18.00  \n  \n?️ Biglietto Intero Botteghino :  € 17\,50 – Ridotto : € 12\,50 – Ridotto Gruppi e Scuole : € 10\,00 (+ ? tessera associativa di € 2\,50) \n  \nL’evento è riservato ESCLUSIVAMENTE ai soci di Cometa Off. \n? ASSOCIATI qui ?\nASSOCIATI\n  \nTEATRO COMETA OFF\nVia Luca della Robbia 47 (angolo Piazza Testaccio) \nInfoline e prenotazioni : 06 57284637 \nemail : cometa.off@cometa.org \nTeatro sanificato nel rispetto delle misure ANTICOVID.
URL:https://www.cometaoff.it/evento/pane-latte-e-lacrime/
LOCATION:Teatro Cometa Off\, Via Luca della Robbia\, 47\, Roma\, RM\, 00157\, Italy
CATEGORIES:2022-2023
ATTACH;FMTTYPE=image/jpeg:https://www.cometaoff.it/wp-content/uploads/2023/04/Immagine-WhatsApp-2023-04-07-ore-19.40.18.jpg
END:VEVENT
END:VCALENDAR