BEGIN:VCALENDAR
VERSION:2.0
PRODID:-//Teatro Cometa Off - ECPv6.15.20//NONSGML v1.0//EN
CALSCALE:GREGORIAN
METHOD:PUBLISH
X-ORIGINAL-URL:https://www.cometaoff.it
X-WR-CALDESC:Eventi per Teatro Cometa Off
REFRESH-INTERVAL;VALUE=DURATION:PT1H
X-Robots-Tag:noindex
X-PUBLISHED-TTL:PT1H
BEGIN:VTIMEZONE
TZID:Europe/Rome
BEGIN:DAYLIGHT
TZOFFSETFROM:+0100
TZOFFSETTO:+0200
TZNAME:CEST
DTSTART:20220327T010000
END:DAYLIGHT
BEGIN:STANDARD
TZOFFSETFROM:+0200
TZOFFSETTO:+0100
TZNAME:CET
DTSTART:20221030T010000
END:STANDARD
BEGIN:DAYLIGHT
TZOFFSETFROM:+0100
TZOFFSETTO:+0200
TZNAME:CEST
DTSTART:20230326T010000
END:DAYLIGHT
BEGIN:STANDARD
TZOFFSETFROM:+0200
TZOFFSETTO:+0100
TZNAME:CET
DTSTART:20231029T010000
END:STANDARD
BEGIN:DAYLIGHT
TZOFFSETFROM:+0100
TZOFFSETTO:+0200
TZNAME:CEST
DTSTART:20240331T010000
END:DAYLIGHT
BEGIN:STANDARD
TZOFFSETFROM:+0200
TZOFFSETTO:+0100
TZNAME:CET
DTSTART:20241027T010000
END:STANDARD
END:VTIMEZONE
BEGIN:VEVENT
DTSTART;VALUE=DATE:20230526
DTEND;VALUE=DATE:20230529
DTSTAMP:20260420T050158
CREATED:20230504T174648Z
LAST-MODIFIED:20230517T161207Z
UID:14329-1685059200-1685318399@www.cometaoff.it
SUMMARY:PICCOLI CRIMINI CONIUGALI
DESCRIPTION:Associazione Culturale Saval Spettacoli \npresenta \nPICCOLI CRIMINI CONIUGALI\ndi E.E. Schmitt \ncon  Sara Valerio e Giancarlo Fares \nRegia di Nicola Pistoia \nAiuto Regia : Loredana Piedimonte – Assistente alla Regia : Giacomo Chiaro  \nLight Designer : Francesco Barbera – Tecnico Luci : Alessandro Greco \nin collaborazione con FESTIVAL TEATRALE DI BORGIO VEREZZI \n  \nQuando vediamo un uomo e una donna davanti al giudice o al prete dobbiamo davvero chiederci chi dei due sarà l’assassino? \nQuindici giorni fa\, Guido scivolava dalla scala di casa sua\, finendo a sbattere con la testa per terra. Oggi invece Lisa è fuori dall’ospedale che lo aspetta\, finalmente riporterà Guido a casa loro. Ma entrati in casa\, e toccandosi il vistoso cerotto bianco che ha dietro alla testa\, lui si guarderà intorno\, senza riconoscere nulla. \n“Questa è casa mia?” E tu sei veramente mia moglie? \nLisa allora inizierà ad aiutare Guido a ricordare la loro vita. Un viaggio\, un percorso zeppo di domande\, bugie e dubbi. Dove a slanci amorosi\, si alterneranno momenti bui e crudeli. \nAttraverso serrati dialoghi\, cambi d’umore\, e continui colpi di scena non si saprà a chi credere se a lei o a lui. Una commedia nera\, un humor nero\, una riflessione sulla madre di tutte le guerre: quella dentro la coppia. \nE per rappresentare questa “guerra” ho pensato di mettere in scena un “ring” dove i due avversari Guido e Lisa\, a forza di allusioni verbali\, e intellettuali\, se le daranno di “santa ragione”. Chi vincerà? Non si sa\, l’importante è non soccombere e se uno dei due dovesse vedersela brutta meglio gettare la “spugna”. Questo testo è una “palestra” fondamentale per i due attori. Battute che sembrano chiare\, evidenti nell’esprimere un concetto\, un sentimento ma che invece nascondono tutto il contrario. Momenti dove si grida\, ci si sfoga\, si rigetta tutto quello che di malato si ha dentro\, a momenti dove invece ci si accarezza\, ci si commuove\, si gioca fino a diventare “scemi”. Insomma\, quando vediamo un uomo e una donna davanti al sindaco o al prete\, chiediamoci “ ma quale dei due sarà l’assassino?” \n  \n? Venerdì 26 e Sabato 27 Maggio 2023 alle ore 21.00 \n? Domenica 28 Maggio 2023 alle ore 18.00 \n  \n?️ Biglietto Intero Botteghino :  € 15\,00 – Ridotto Botteghino : € 12\,50 (+ ? tessera associativa di € 2\,50) \n  \nL’evento è riservato ESCLUSIVAMENTE ai soci di Cometa Off. \n? 1) Prima ASSOCIATI qui ?\nASSOCIATI\n? 2) Poi acquista i biglietti ON-LINE ?\nBIGLIETTI\n  \nTEATRO COMETA OFF\nVia Luca della Robbia 47 (angolo Piazza Testaccio) \nInfoline e prenotazioni : 06 57284637 \nemail : cometa.off@cometa.org \nTeatro sanificato nel rispetto delle misure ANTICOVID.
URL:https://www.cometaoff.it/evento/piccoli-crimini-coniugali/
LOCATION:Teatro Cometa Off\, Via Luca della Robbia\, 47\, Roma\, RM\, 00157\, Italy
CATEGORIES:2022-2023
ATTACH;FMTTYPE=image/jpeg:https://www.cometaoff.it/wp-content/uploads/2023/05/piccoli-crimini-roma.jpg
END:VEVENT
END:VCALENDAR