BEGIN:VCALENDAR
VERSION:2.0
PRODID:-//Teatro Cometa Off - ECPv6.15.20//NONSGML v1.0//EN
CALSCALE:GREGORIAN
METHOD:PUBLISH
X-ORIGINAL-URL:https://www.cometaoff.it
X-WR-CALDESC:Eventi per Teatro Cometa Off
REFRESH-INTERVAL;VALUE=DURATION:PT1H
X-Robots-Tag:noindex
X-PUBLISHED-TTL:PT1H
BEGIN:VTIMEZONE
TZID:Europe/Rome
BEGIN:DAYLIGHT
TZOFFSETFROM:+0100
TZOFFSETTO:+0200
TZNAME:CEST
DTSTART:20220327T010000
END:DAYLIGHT
BEGIN:STANDARD
TZOFFSETFROM:+0200
TZOFFSETTO:+0100
TZNAME:CET
DTSTART:20221030T010000
END:STANDARD
BEGIN:DAYLIGHT
TZOFFSETFROM:+0100
TZOFFSETTO:+0200
TZNAME:CEST
DTSTART:20230326T010000
END:DAYLIGHT
BEGIN:STANDARD
TZOFFSETFROM:+0200
TZOFFSETTO:+0100
TZNAME:CET
DTSTART:20231029T010000
END:STANDARD
BEGIN:DAYLIGHT
TZOFFSETFROM:+0100
TZOFFSETTO:+0200
TZNAME:CEST
DTSTART:20240331T010000
END:DAYLIGHT
BEGIN:STANDARD
TZOFFSETFROM:+0200
TZOFFSETTO:+0100
TZNAME:CET
DTSTART:20241027T010000
END:STANDARD
END:VTIMEZONE
BEGIN:VEVENT
DTSTART;VALUE=DATE:20230611
DTEND;VALUE=DATE:20230612
DTSTAMP:20260420T032729
CREATED:20230529T180410Z
LAST-MODIFIED:20230529T180410Z
UID:14823-1686441600-1686527999@www.cometaoff.it
SUMMARY:MAKKETIRIDI - FESTIVAL NAZIONALE DELLA COMICITÀ
DESCRIPTION:Makkekomico \npresenta \nMAKKETIRIDI\nFestival Nazionale della Comicità \npresenta le serate Alessandro Mago Mancini \ninterverranno i comici del Makkekomiko \nVi hanno mai detto “Ma che ti ridi?” e voi presi dall’imbarazzo non avete saputo cosa rispondere?\nDomenica 11 Giugno 2023 alle 21:00 a Roma presso il Cometa Off si riderà tantissimo e nessuno verrà giudicato per le proprie risate!\nAd essere giudicati saranno i 9 comici che dopo aver superato all’Accento Teatro di Roma i tre giorni di selezioni (8 – 9 – 10 Giugno) tra più di trenta comici provenienti da tutta Italia\, si sfideranno nella finalissima del Festival Nazionale del Cabaret del Makkekomiko\, il “MakkeTiRidi”.\nL’obiettivo del Festival\, è di ricercare tra i partecipanti la creatività\, l’originalità\, il rigore che sono alla base della professione del comico.\nUn vero e proprio talent live show in cui oltre al voto del pubblico sarà determinante anche quello espresso dalla giuria tecnica formata da comici professionisti\, giornalisti\, autori televisivi e radiofonici e agenzie di spettacolo.\nNella serata condotta da Alessandro Mago Mancini\, ideatore e fondatore del Makkekomiko\, il laboratorio di scrittura per soli professionisti\, verranno assegnati premi alla carriera a comici che si sono distinti per le loro qualità e per il loro inpegno nel campo artistico. Il festival vedrà anche la partecipazione di tanti ospiti noti al grande pubblico delle serate all’Accento Teatro: Sergio Viglianese\, Carmine Faraco\, Oscar Biglia\, Antonio Catalano\, Alexandra Filotei\, Fabrizio Mazzeo\, Gianluca Giugliarelli\, Claudio Sciara\, Stefania Pellegrino\, Elisa Pagin\, Lucia Arrigoni\, Edoardo Licata\, Tiziano Gallo.\nA giudicare i finalisti e a decretare il miglior comico ci sarà anche il giudizio inappellabile del pubblico.\nIl Festival Nazionale della Comicità\, vuole essere un punto di riferimento della comicità italiana\, scoprendo e valorizzando giovani talenti che dimostrino non solo le proprie capacità nel coinvolgere e nel divertire il pubblico\, ma anche l’attitudine alla disciplina e allo studio che sono alla base di una comicità pulita e originale.\nI premi del festival sono infatti mirati allo studio e alla formazione artistica dei comici che risulteranno vincitori della serata.\nSiamo sicuri\, che il pubblico quando il 11 Giugno si recherà al Teatro Cometa Off non rimpiangerà di non essere rimasto in casa a fare zapping col telecomando davanti al forno a microonde!\nDomenica 11 Giugno 2023 è un giorno perfetto per ridere! \n  \n? Domenica 11 Giugno 2023 alle ore 21.00 \n  \n?️ Biglietto Intero Botteghino :  € 10\,00 (+ ? tessera associativa di € 2\,50) \n  \nL’evento è riservato ESCLUSIVAMENTE ai soci di Cometa Off. \n? ASSOCIATI qui ?\nASSOCIATI\n  \nTEATRO COMETA OFF\nVia Luca della Robbia 47 (angolo Piazza Testaccio) \nInfoline e prenotazioni : 06 57284637 \nemail : cometa.off@cometa.org \nTeatro sanificato nel rispetto delle misure ANTICOVID.
URL:https://www.cometaoff.it/evento/makketiridi/
LOCATION:Teatro Cometa Off\, Via Luca della Robbia\, 47\, Roma\, RM\, 00157\, Italy
CATEGORIES:2022-2023
ATTACH;FMTTYPE=image/png:https://www.cometaoff.it/wp-content/uploads/2023/05/FESTIVAL-NAZIONALE-DELLA-COMICITA-compressed.png
ORGANIZER;CN="Makkekomiko":MAILTO:info@makkekomiko.it
END:VEVENT
END:VCALENDAR