BEGIN:VCALENDAR
VERSION:2.0
PRODID:-//Teatro Cometa Off - ECPv6.15.20//NONSGML v1.0//EN
CALSCALE:GREGORIAN
METHOD:PUBLISH
X-ORIGINAL-URL:https://www.cometaoff.it
X-WR-CALDESC:Eventi per Teatro Cometa Off
REFRESH-INTERVAL;VALUE=DURATION:PT1H
X-Robots-Tag:noindex
X-PUBLISHED-TTL:PT1H
BEGIN:VTIMEZONE
TZID:Europe/Rome
BEGIN:DAYLIGHT
TZOFFSETFROM:+0100
TZOFFSETTO:+0200
TZNAME:CEST
DTSTART:20250330T010000
END:DAYLIGHT
BEGIN:STANDARD
TZOFFSETFROM:+0200
TZOFFSETTO:+0100
TZNAME:CET
DTSTART:20251026T010000
END:STANDARD
BEGIN:DAYLIGHT
TZOFFSETFROM:+0100
TZOFFSETTO:+0200
TZNAME:CEST
DTSTART:20260329T010000
END:DAYLIGHT
BEGIN:STANDARD
TZOFFSETFROM:+0200
TZOFFSETTO:+0100
TZNAME:CET
DTSTART:20261025T010000
END:STANDARD
BEGIN:DAYLIGHT
TZOFFSETFROM:+0100
TZOFFSETTO:+0200
TZNAME:CEST
DTSTART:20270328T010000
END:DAYLIGHT
BEGIN:STANDARD
TZOFFSETFROM:+0200
TZOFFSETTO:+0100
TZNAME:CET
DTSTART:20271031T010000
END:STANDARD
END:VTIMEZONE
BEGIN:VEVENT
DTSTART;TZID=Europe/Rome:20260518T000000
DTEND;TZID=Europe/Rome:20260518T235900
DTSTAMP:20260425T155118
CREATED:20260417T140817Z
LAST-MODIFIED:20260417T153233Z
UID:24026-1779062400-1779148740@www.cometaoff.it
SUMMARY:FACCE CASO
DESCRIPTION:FACCE CASO\nScritto e Interpretato da Alessia Francescangeli\nAiuto Regia : Lorenza Giacometti\nLuci e Audio : Cecilia Sensi – Foto & Grafica : Riccardo Giacomini \n  \n“FACCE CASO” AL TEATRO COMETA OFF : Un’indagine tragicomica sulla felicità. \nMonologo scritto e interpretato da Alessia Francescangeli\, un’ora di ironia tagliente e autoironia disarmante per affrontare una domanda tutt’altro che banale : Cos’è la felicità?\nInvece di spiegare cos’è la felicità\, Facce Caso racconta con precisione chirurgica tutto quello che non è: non è il senso di inadeguatezza\, non è l’insoddisfazione cronica\, non è la pressione che la società ci consegna ogni giorno con un sorriso. Soprattutto se sei donna.\nEppure stiamo facendo tutto nel modo giusto: scuola\, lavoro\, acquisti\, famiglia. Il copione è rispettato. E allora perché fatichiamo a ricordare l’ultima volta che abbiamo provato una gioia vera? I nostri desideri sono davvero nostri? E quando la felicità si presenta\, siamo in grado di riconoscerla? \n  \nData e Ora Spettacolo\n\nLunedì 18 Maggio 2026\nOre 21:00\n\nBiglietti\n\nBiglietto Intero :  € 17\,00\n\ncompresi diritti di prevendita\nI BIGLIETTI NON SONO DISPONIBILI ONLINE
URL:https://www.cometaoff.it/evento/facce-caso/
LOCATION:Teatro Cometa Off\, Via Luca della Robbia\, 47\, Roma\, RM\, 00157\, Italy
CATEGORIES:2025-2026
ATTACH;FMTTYPE=image/jpeg:https://www.cometaoff.it/wp-content/uploads/2026/04/locandina-FACCE-CASO_Cometa-OFF_STAMPA_page-0001-scaled.jpg
END:VEVENT
BEGIN:VEVENT
DTSTART;TZID=Europe/Rome:20260520T000000
DTEND;TZID=Europe/Rome:20260524T235900
DTSTAMP:20260425T155118
CREATED:20260417T162234Z
LAST-MODIFIED:20260417T162546Z
UID:24048-1779235200-1779667140@www.cometaoff.it
SUMMARY:FORTUNA
DESCRIPTION:ACQUA SALATA PRODUZIONI\npresenta \nFORTUNA\nLiberamente ispirato a “La Locandiera” di C. Goldoni\ncon Raffaella Montanaro\, Damiano Lepri\, Mery Calamita\, Gianluca Rossetti\, Lorenzo Baruzzi e Barbara Monetti\nRegia e Drammaturgia di Raffaella Montanaro\nAiuto Regia : Mery Calamita e Adriano Gardumi – Costumi e Scenografia : Mery Calamita\nCon la collaborazione di : Gerarda Uva\, Carmela Capelluto e Filomena Di Canio\nCoordinamento Musicale : Alberto Manco – Grafica : Tony Petroff\nRevisione Linguistica : Martina Paolino \n  \nLa vicenda è ambientata nel 1861\, nel momento cruciale che precede l’Unità d’Italia e la fine del Regno delle Due Sicilie. Protagonista è Mirandolina\, locandiera indipendente e determinata\, immersa in un microcosmo popolato da personaggi di diversa estrazione sociale. In un contesto attraversato da tensioni politiche e sociali\, Mirandolina lotta per la propria autonomia e coltiva il desiderio di tornare nella sua Napoli.\nLa regia rielabora il modello goldoniano introducendo una nuova profondità psicologica del personaggio\, arricchita da momenti di introspezione. Il linguaggio scenico intreccia elementi del teatro classico\, espressioni dialettali e musica\, fondendo tradizione napoletana e sonorità contemporanee\, mentre il mare – presenza sonora e simbolica – accompagna la narrazione come richiamo alle origini e al destino. Il risultato è uno spettacolo che mette in dialogo passato e presente\, affrontando temi attuali come identità\, appartenenza e desiderio di cambiamento. \nDott.ssa Alessandra Savino\nUfficio Stampa – Asteria Space\nTel. 3773872180\nMail. ufficiostampa@asteriaspace.it \n  \nData e Ora Spettacolo\n\nDa Mercoledì 20 a Domenica 24 Maggio 2026 \nDa Mercoledì a Sabato ore 21:00 – Domenica ore 17.30\n\nBiglietti\n\nBiglietto Intero :  € 19\,00\n\ncompresi diritti di prevendita\nACQUISTO ON LINE\nBIGLIETTI
URL:https://www.cometaoff.it/evento/fortuna/
LOCATION:Teatro Cometa Off\, Via Luca della Robbia\, 47\, Roma\, RM\, 00157\, Italy
CATEGORIES:2025-2026
ATTACH;FMTTYPE=image/jpeg:https://www.cometaoff.it/wp-content/uploads/2026/04/FORTUNA-TEATRO_WEB.jpg-scaled.jpeg
END:VEVENT
BEGIN:VEVENT
DTSTART;TZID=Europe/Rome:20260601T000000
DTEND;TZID=Europe/Rome:20260601T235900
DTSTAMP:20260425T155118
CREATED:20260423T143355Z
LAST-MODIFIED:20260423T143726Z
UID:24065-1780272000-1780358340@www.cometaoff.it
SUMMARY:AMORI E NO
DESCRIPTION:AMORI E NO\ndi e con Cecilia Lavatore\n  \n“Amori e no” è uno spettacolo di poesia performativa. Le storie sono tratte dall’omonimo libro pubblicato da Red Star Press con il quale l’autrice ha vinto il bando SIAE Per chi crea 2025.\nI versi compiono un’indagine verticale nelle relazioni e nel linguaggio che le racconta\, restituendo immagini ed esperienze dal respiro circolare in un mutuo soccorso poetico tra la performer e il pubblico.\nTrame di nodi familiari si mescolano alle eredità emotive e ai ricordi più o meno vividi di relazioni sentimentali.\nI propositi per il futuro emergono dagli appunti di viaggio e dalle meditazioni nel ritorno.\nLa ricerca identitaria passa attraverso il bisogno di essere\, almeno ogni tanto\, felici.\nIl percorso è articolato ma semplice: va dall’eccezionale al quotidiano\, dalla cronaca all’immaginazione.\nIl concetto di femminilità\, nei suoi compositi prismi\, fa da fil rouge alle narrazioni in scena.\nAttraverso piccoli scavi più che intimi e privati\, il testo accosta il cuore alla parola e la parola allo spettatore\, compiendo quel rito antico che trasforma la solitudine della scrittura nella collettività dell’esibizione. \n60 minuti di strofe libere si intrecciano alle musiche strumentali scelte per accompagnare la performance. Il risultato è un contatto con le corde più tese di ciò che per comodità chiameremo essere umano. \n  \nData e Ora Spettacolo\n\nLunedì 01 Giugno 2026 ore 20.00 \n\nBiglietti\n\nBiglietto Intero :  € 15\,00\n\ncompresi diritti di prevendita\nI BIGLIETTI NON SONO DISPONIBILI ONLINE
URL:https://www.cometaoff.it/evento/amori-e-no/
LOCATION:Teatro Cometa Off\, Via Luca della Robbia\, 47\, Roma\, RM\, 00157\, Italy
CATEGORIES:2025-2026
ATTACH;FMTTYPE=image/jpeg:https://www.cometaoff.it/wp-content/uploads/2026/04/locandina-Cometa-Off.jpg
END:VEVENT
BEGIN:VEVENT
DTSTART;TZID=Europe/Rome:20260611T000000
DTEND;TZID=Europe/Rome:20260614T235900
DTSTAMP:20260425T155118
CREATED:20260424T145058Z
LAST-MODIFIED:20260424T145222Z
UID:24073-1781136000-1781481540@www.cometaoff.it
SUMMARY:LA SCARLATTA PROVA
DESCRIPTION:A & F DUBBING ETS\npresenta \nLA SCARLATTA PROVA\nSherlock Holmes: Lo Studio in Rosso\nDrammaturgia originale di Emanuele Cerracchio\ncon Alessandro Parise\, Matteo Arlotta\, Ivan Guidi\, Emanuele Cerracchio\, Federica Randazzo\,\nStefano Piccolo\, Nicola Mercadante\, Andrea Lucarini Trucco\, Giorgio Fea e Leonardo Casoni\nRegia di Alessandro Parise\nAiuto Regia : Andrea Di Francesco – Costumi e Scenografia : Andrea Viotti\nMusicale Originali : Giacomo del Colle Lauri Volpi – Light Design : Daniele Compagnone – Fonico : Stefano Losito\nAssistente Costumi : Flavia Di Leonardo – Scenografie e Scenotecnica : Bigballoon Group \n  \n“La Scarlatta Prova” è lo spettacolo di fine anno della Scuola A&F Dubbing ETS\, realtà romana di formazione professionale in doppiaggio\, cinema e teatro fondata e diretta da Alessandro Parise e Perla Liberatori. Quattro serate al Teatro Cometa Off di Testaccio — dall’11 al 14 giugno 2026 — per un debutto che segna la conclusione del primo anno accademico della scuola. \nSul palco dieci interpreti: nove allievi del primo anno e Alessandro Parise — attore e doppiatore professionista — nel duplice ruolo di regista e protagonista. Una scelta pedagogica precisa: mettere in scena non solo un testo teatrale\, ma un atto di formazione reale\, dove la sala prove diventa sala prove vera\, e il pubblico testimone di un percorso. \nLondon\, 221B Baker Street. Sherlock Holmes riceve una visita che non si aspettava: il Professor Moriarty\, il suo acerrimo nemico\, lo assume come investigatore. La sua potente organizzazione criminale è sotto attacco da un misterioso assassino e lui ha bisogno del miglior detective di Londra per fermarlo. L’indagine ruota attorno all’omicidio di Enoch Drebber\, avvelenato e trovato senza vita a Brixton Road. Holmes identifica rapidamente il colpevole nel vetturino Jefferson Hope\, la cui confessione rivela una storia devastante di vendetta\, amore perduto e fanatismo religioso nella comunità mormone dello Utah. Ma quando Hope muore portando con sé un segreto custodito fino all’ultimo respiro\, Holmes comprende di essere stato usato: Moriarty lo ha manovrato come un pedone sulla scacchiera per eliminare i propri nemici interni. Lo scontro finale è inevitabile. Le cascate di Hardraw Force saranno il teatro dell’ultimo atto tra le due più grandi menti di Londra. \nLo spettacolo si ispira liberamente a “Uno studio in rosso” e a “L’ultima avventura” di Arthur Conan Doyle\, in una drammaturgia originale che re-immagina la mitologia holmesiana con uno sguardo contemporaneo sul potere\, la manipolazione e il prezzo della giustizia. \n  \nNOTE DI REGIA — ALESSANDRO PARISE\n“Sherlock Holmes non è solo il detective più celebre della letteratura. È un archetipo: l’uomo che vede ciò che gli altri non vogliono vedere. In questo spettacolo ho scelto di mostrarlo vulnerabile\, manipolabile — un uomo che\, accecato dall’odio per il suo nemico\, cade esattamente nella trappola che avrebbe dovuto smontare. È una storia di intelligenza e cecità\, di etica e compromesso. \nPer i miei allievi\, questo spettacolo è qualcosa di più di un saggio di fine anno. È il loro primo contatto reale con la responsabilità della scena: un testo complesso\, un teatro vero\, un pubblico pagante. La formazione che facciamo ad A&F non separa mai il corpo attoriale dalla tecnica vocale\, né la recitazione dalla consapevolezza del personaggio. Questo palco è la dimostrazione di quella filosofia.” \n  \nData e Ora Spettacolo\n\nDa Giovedì 11 a Domenica 14 Giugno 2026 \nDa Giovedì a Sabato ore 21:00 – Domenica ore 17.30\n\nBiglietti\n\nBiglietto Intero :  € 16\,50\n\ncompresi diritti di prevendita\nI BIGLIETTI NON SONO DISPONIBILI ONLINE
URL:https://www.cometaoff.it/evento/la-scarlatta-prova/
LOCATION:Teatro Cometa Off\, Via Luca della Robbia\, 47\, Roma\, RM\, 00157\, Italy
CATEGORIES:2025-2026
ATTACH;FMTTYPE=image/jpeg:https://www.cometaoff.it/wp-content/uploads/2026/04/Locandina_Sherlock_4.jpg
END:VEVENT
END:VCALENDAR