BEGIN:VCALENDAR
VERSION:2.0
PRODID:-//Teatro Cometa Off - ECPv6.15.20//NONSGML v1.0//EN
CALSCALE:GREGORIAN
METHOD:PUBLISH
X-ORIGINAL-URL:https://www.cometaoff.it
X-WR-CALDESC:Eventi per Teatro Cometa Off
REFRESH-INTERVAL;VALUE=DURATION:PT1H
X-Robots-Tag:noindex
X-PUBLISHED-TTL:PT1H
BEGIN:VTIMEZONE
TZID:Europe/Rome
BEGIN:DAYLIGHT
TZOFFSETFROM:+0100
TZOFFSETTO:+0200
TZNAME:CEST
DTSTART:20200329T010000
END:DAYLIGHT
BEGIN:STANDARD
TZOFFSETFROM:+0200
TZOFFSETTO:+0100
TZNAME:CET
DTSTART:20201025T010000
END:STANDARD
BEGIN:DAYLIGHT
TZOFFSETFROM:+0100
TZOFFSETTO:+0200
TZNAME:CEST
DTSTART:20210328T010000
END:DAYLIGHT
BEGIN:STANDARD
TZOFFSETFROM:+0200
TZOFFSETTO:+0100
TZNAME:CET
DTSTART:20211031T010000
END:STANDARD
BEGIN:DAYLIGHT
TZOFFSETFROM:+0100
TZOFFSETTO:+0200
TZNAME:CEST
DTSTART:20220327T010000
END:DAYLIGHT
BEGIN:STANDARD
TZOFFSETFROM:+0200
TZOFFSETTO:+0100
TZNAME:CET
DTSTART:20221030T010000
END:STANDARD
END:VTIMEZONE
BEGIN:VEVENT
DTSTART;VALUE=DATE:20211201
DTEND;VALUE=DATE:20211206
DTSTAMP:20260422T033114
CREATED:20211105T132730Z
LAST-MODIFIED:20211117T180212Z
UID:7049-1638316800-1638748799@www.cometaoff.it
SUMMARY:FANTASTICO - La Terza Repubblica della TV
DESCRIPTION:I GATTI DI VICOLO VALDINA \npresenta \nFANTASTICO – La Terza Repubblica della TV\n scritto da Gennaro Pesante \ncon Daniele Coscarella\, Dario Tacconelli\, Adriano Russo\nRegia di Dario Tacconelli – Musiche di Adriano Russo \n  \nÈ il 15 novembre del 1986. Il noto comico Beppe Grillo si presenta sul palco del programma di punta del sabato sera televisivo – Fantastico – davanti a 15 milioni di italiani per il suo pezzo di satira di costume. Racconta\, invece\, una feroce barzelletta sui Socialisti italiani che fa infuriare il Presidente del Consiglio Bettino Craxi. Si scatena un’epica crisi politica. I partiti di governo chiedono punizioni. Quelli di opposizione accennano una timida difesa del comico\, ma in realtà ne sono spaventati. Davanti a una bufera mediatica senza precedenti il ‘sistema’ scricchiola pericolosamente per la prima volta. E un anno dopo\, quando il pubblico televisivo sarà letteralmente travolto da un fenomeno ancora più potente\, andrà anche peggio. La politica italiana\, apparentemente stabile da 40 anni\, è agitata da tempeste internazionali e dalle lotte delle correnti interne ai partiti. Nei sondaggi il gradimento popolare è tutto per i personaggi del piccolo schermo. I professionisti della politica sono visti ormai con antipatia e sospetto. E nelle segreterie c’è chi comincia a cercare strategie per correre ai ripari\, magari cavalcando l’onda di larga approvazione che gli italiani riservano ai divi della TV. Come\, con che cosa e con chi potrebbe essere rimpiazzato un sistema che per decenni è apparso granitico? \nBiglietto : € 10 – 12 (+ tessera associativa di € 2\,50)\nBIGLIETTI\n  \ndal 1 al 5 Dicembre 2021 \nMercoledi\, Giovedi\, Venerdì e Sabato ore 21.00 – Domenica ore 18.30 \n  \nTEATRO COMETA OFF \nVia Luca della Robbia 47 (Testaccio) \nInfoline e prenotazioni 0657284637 \nBiglietto unico: 10 -12 € \nTeatro sanificato nel rispetto delle misure ANTICOVID. \nPer partecipare all’evento devi essere socio dell’Associazione Culturale Cometa Off\nASSOCIATI
URL:https://www.cometaoff.it/evento/fantastico/
LOCATION:Teatro Cometa Off\, Via Luca della Robbia\, 47\, Roma\, RM\, 00157\, Italy
CATEGORIES:2021-2022
ATTACH;FMTTYPE=image/jpeg:https://www.cometaoff.it/wp-content/uploads/2021/11/Locandina-Fantastico-Versione-Roma-scaled.jpg
END:VEVENT
BEGIN:VEVENT
DTSTART;VALUE=DATE:20211207
DTEND;VALUE=DATE:20211208
DTSTAMP:20260422T033114
CREATED:20211130T110416Z
LAST-MODIFIED:20211130T110416Z
UID:7441-1638835200-1638921599@www.cometaoff.it
SUMMARY:IL VIAGGIO DI GHERDA / LA REGINA DELLE NEVI
DESCRIPTION:ASSOCIAZIONE ARIADNE – TEATRO A\nPROJECTSCUOLA 2021/2022 \npresenta \nLA REGINA DELLE NEVI\ndi ANDERSEN E ŠVARC  \nRegia Valeria freiberg\nMARTEDì 7 DICEMBRE 2021\, ORE 11 \nROMA\, Teatro Cometa Off \nLETTERA A UN GIOVANE REGISTA\nRICORDANDO GIORGIO STREHLER  \nNEL CENTENARIO DELLA NASCITA \nRegia Valeria freiberg\nMARTEDì 7 DICEMBRE 2021\, ORE 20.30 \nROMA\, Teatro Cometa Off \nIl 7 dicembre due spettacoli al Teatro Cometa Off di Roma\, nell’ambito della rassegna ProjectSCUOLA ideata da Valeria Freiberg e dall’Associazione Ariadne – Compagnia Teatro A. Si parte alle ore 11 con la rappresentazione per i bambini (5+) de “La Regina delle Nevi”\, la fiaba dello scrittore danese Hans Christian Andersen\, nella rilettura dello scrittore e sceneggiatore russo Evgenij L’vovič Švarc. Una storia di coraggio e di amicizia\, che spingerà Gerda\, protagonista del racconto\, a partire alla ricerca dell’amico scomparso Kay\, fino al castello della glaciale Regina delle Nevi.  \n“La Regina delle Nevi” è una storia piena di significati e messaggi universali. Il viaggio che Gerda intraprende per ritrovare Kay è una metafora del passaggio dalla fanciullezza all’età dell’adolescenza. La scheggia di ghiaccio finita nel cuore di Kay è quella che un po’ tutti oggi conserviamo nel cuore in attesa di un amore sincero che riuscirà a scioglierla. \n“È una favola davvero attuale – osserva Valeria Freiberg – perché racconta la vittoria delle forze del cuore. La pandemia ci sta dimostrando che solo amore\, solidarietà e empatia\, termini un po’ tralasciati nel passato\, aiutano a superare le difficoltà e distanze. La Regina minaccia di raffreddare i nostri cuori ma l’amore – inteso come comprensione e fiducia – vince l’indifferenza e la rabbia. Ai bambini dobbiamo dire che non c’è solo freddo\, pericolo\, virus; devono recuperare il calore delle piccole cose e delle emozioni\, devono scoprire l’importanza dell’accoglienza nei loro cuori”. \nIl secondo appuntamento al Teatro Cometa Off\, è indicato per i più giovani (15+)\, ma anche per gli adulti. Si tratta di “Lettera a un giovane regista“\, sentito omaggio al compianto regista Giorgio Strehler\, per celebrarne il Centenario della nascita (1921-2021). Strehler è stato uno dei più grandi registi del Novecento\, fondatore del Piccolo Teatro di Milano assieme a Paolo Grassi nell’immediato dopoguerra. \nDa un lato si vuole far conoscere ai giovani l’eredità creativa del regista triestino e dall’altro avvicinarli alle straordinarie opere realizzate\, approfondendo in particolare alcune messe in scena. Attraverso parole\, musiche e immagini si realizza un ritratto a tutto tondo del geniale Maestro. \nOsserva la regista: “Credo sia importante ricordare ai più giovani e celebrare Strehler\, uno dei Maestri assoluti del Novecento teatrale\, addentrandosi nel suo magistrale lavoro. Il teatro attuale è figlio di quell’eccezionale manipolatore della finzione scenica”. \n“ProjectSCUOLA” è una rassegna teatrale pensata per i giovani\, che ha come obiettivi l’avvicinamento del pubblico young al teatro e alla cultura; il ruolo educativo della cultura in generale e del teatro in particolare; la formazione del pubblico nuovo costituito dai giovanissimi. \n“Vogliamo riportare i giovani a teatro dopo il travagliato periodo del lockdown e di chiusure – conclude Valeria Freiberg -. E ci teniamo a sottolineare la valenza educativa\, oltre che di intrattenimento\, di questa e delle altre rappresentazioni che abbiamo pensato per loro. Scuola e teatro marciano in sintonia”. \nLa Regina delle Nevi \ndi Andersen\, nella rilettura di Švarc \nRegia Valeria Freiberg \ncon Cristina Colonnetti\, Andrea Stefani e Tomas Acosta \nprezzo biglietto 10€/12€ \nLettera a un giovane regista \nRicordando Giorgio Strehler nel Centenario della nascita \nRegia Valeria Freiberg \ncon Cristina Colonnetti\, Andrea Stefani \nprezzo biglietto 12€ + tessera iscrizione (8 euro se anticipato su Paypal + tessera) \ne-mail info.ariadneteatroa@gmail.com \nWhatsApp: +39-3714125639 \nInformazioni su www.compagniateatroa.it \nufficio stampa Monica Menna \nmob. 328.9448311 \nmonicapress88@gmail.com  \nTEATRO COMETA OFF \nVia Luca della Robbia 47 (angolo Piazza Testaccio) \nInfoline e prenotazioni 0657284637 \nBiglietto 10 € 12 € \nTeatro sanificato nel rispetto delle misure ANTICOVID. \nPer partecipare all’evento devi essere socio dell’Associazione Culturale Cometa Off\nASSOCIATI
URL:https://www.cometaoff.it/evento/il-viaggio-di-gherda-la-regina-delle-nevi/
LOCATION:Teatro Cometa Off\, Via Luca della Robbia\, 47\, Roma\, RM\, 00157\, Italy
CATEGORIES:2021-2022
ATTACH;FMTTYPE=image/jpeg:https://www.cometaoff.it/wp-content/uploads/2021/11/La-regina-delle-nevi-7.12-Cometa.jpg
END:VEVENT
BEGIN:VEVENT
DTSTART;VALUE=DATE:20211207
DTEND;VALUE=DATE:20211208
DTSTAMP:20260422T033114
CREATED:20211130T110925Z
LAST-MODIFIED:20211208T165948Z
UID:7446-1638835200-1638921599@www.cometaoff.it
SUMMARY:LETTERA A UN GIOVANE REGISTA
DESCRIPTION:ASSOCIAZIONE ARIADNE – TEATRO A\nPROJECTSCUOLA 2021/2022 \npresenta \nLETTERA A UN GIOVANE REGISTA\nRICORDANDO GIORGIO STREHLER NEL CENTENARIO DELLA NASCITA \nRegia Valeria Freiberg \nMartedì 7 Dicembre 2021\, ORE 20.30 \n  \nLA REGINA DELLE NEVI \ndi ANDERSEN E ŠVARC \nRegia Valeria Freiberg \nMartedì 7 Dicembre 2021\, ORE 11.00 \nIl 7 dicembre due spettacoli al Teatro Cometa Off di Roma\, nell’ambito della rassegna ProjectSCUOLA ideata da Valeria Freiberg e dall’Associazione Ariadne – Compagnia Teatro A. Si parte alle ore 11 con la rappresentazione per i bambini (5+) de “La Regina delle Nevi”\, la fiaba dello scrittore danese Hans Christian Andersen\, nella rilettura dello scrittore e sceneggiatore russo Evgenij L’vovič Švarc. Una storia di coraggio e di amicizia\, che spingerà Gerda\, protagonista del racconto\, a partire alla ricerca dell’amico scomparso Kay\, fino al castello della glaciale Regina delle Nevi.\n“La Regina delle Nevi” è una storia piena di significati e messaggi universali. Il viaggio che Gerda intraprende per ritrovare Kay è una metafora del passaggio dalla fanciullezza all’età dell’adolescenza. La scheggia di ghiaccio finita nel cuore di Kay è quella che un po’ tutti oggi conserviamo nel cuore in attesa di un amore sincero che riuscirà a scioglierla.\n“È una favola davvero attuale – osserva Valeria Freiberg – perché racconta la vittoria delle forze del cuore. La pandemia ci sta dimostrando che solo amore\, solidarietà e empatia\, termini un po’ tralasciati nel passato\, aiutano a superare le difficoltà e distanze. La Regina minaccia di raffreddare i nostri cuori ma l’amore – inteso come comprensione e fiducia – vince l’indifferenza e la rabbia. Ai bambini dobbiamo dire che non c’è solo freddo\, pericolo\, virus; devono recuperare il calore delle piccole cose e delle emozioni\, devono scoprire l’importanza dell’accoglienza nei loro cuori”.\nIl secondo appuntamento al Teatro Cometa Off\, è indicato per i più giovani (15+)\, ma anche per gli adulti. Si tratta di “Lettera a un giovane regista“\, sentito omaggio al compianto regista Giorgio Strehler\, per celebrarne il Centenario della nascita (1921-2021). Strehler è stato uno dei più grandi registi del Novecento\, fondatore del Piccolo Teatro di Milano assieme a Paolo Grassi nell’immediato dopoguerra.\nDa un lato si vuole far conoscere ai giovani l’eredità creativa del regista triestino e dall’altro avvicinarli alle straordinarie opere realizzate\, approfondendo in particolare alcune messe in scena. Attraverso parole\, musiche e immagini si realizza un ritratto a tutto tondo del geniale Maestro.\nOsserva la regista: “Credo sia importante ricordare ai più giovani e celebrare Strehler\, uno dei Maestri assoluti del Novecento teatrale\, addentrandosi nel suo magistrale lavoro. Il teatro attuale è figlio di quell’eccezionale manipolatore della finzione scenica”.\n“ProjectSCUOLA” è una rassegna teatrale pensata per i giovani\, che ha come obiettivi l’avvicinamento del pubblico young al teatro e alla cultura; il ruolo educativo della cultura in generale e del teatro in particolare; la formazione del pubblico nuovo costituito dai giovanissimi.\n“Vogliamo riportare i giovani a teatro dopo il travagliato periodo del lockdown e di chiusure – conclude Valeria Freiberg -. E ci teniamo a sottolineare la valenza educativa\, oltre che di intrattenimento\, di questa e delle altre rappresentazioni che abbiamo pensato per loro. Scuola e teatro marciano in sintonia”. \nLa Regina delle Nevi\ndi Andersen\, nella rilettura di Švarc\nRegia Valeria Freiberg\ncon Cristina Colonnetti\, Andrea Stefani e Tomas Acosta\nprezzo biglietto 10€/12€ \nLettera a un giovane regista\nRicordando Giorgio Strehler nel Centenario della nascita\nRegia Valeria Freiberg\ncon Cristina Colonnetti\, Andrea Stefani\nprezzo biglietto 12€ + tessera iscrizione (8 euro se anticipato su Paypal + tessera) \n  \ne-mail info.ariadneteatroa@gmail.com\nWhatsApp: +39-3714125639 \nInformazioni su www.compagniateatroa.it\nUfficio Stampa Monica Menna\nmob. 328.9448311\nmonicapress88@gmail.com \n  \nTEATRO COMETA OFF \nVia Luca della Robbia 47 (angolo Piazza Testaccio) \nInfoline e prenotazioni 0657284637 \nBiglietto 10 € 12 € \nTeatro sanificato nel rispetto delle misure ANTICOVID. \nPer partecipare all’evento devi essere socio dell’Associazione Culturale Cometa Off\nASSOCIATI
URL:https://www.cometaoff.it/evento/lettera-a-un-giovane-regista/
LOCATION:Teatro Cometa Off\, Via Luca della Robbia\, 47\, Roma\, RM\, 00157\, Italy
CATEGORIES:2021-2022
ATTACH;FMTTYPE=image/jpeg:https://www.cometaoff.it/wp-content/uploads/2021/11/Lettera-ad-un-giovane-regista-7.12-Cometa.jpg
END:VEVENT
BEGIN:VEVENT
DTSTART;VALUE=DATE:20211209
DTEND;VALUE=DATE:20211213
DTSTAMP:20260422T033114
CREATED:20211110T164638Z
LAST-MODIFIED:20211110T170221Z
UID:7212-1639008000-1639353599@www.cometaoff.it
SUMMARY:SERATA OMICIDIO (SPETTACOLO DAL 9 AL 12 DICEMBRE 2021)
DESCRIPTION:SERATA OMICIDIO (Repliche dal 9 al 12 Dicembre 2021)\nScritto e diretto da Giuseppe Sorgi\nIn scena: Emanuela D’Antoni\, Shara Guandalini\, Elena Mazza\, Micol Pavoncello\, Alessandra Pagnotta\, Giuseppe Sorgi \nDopo il sold-out dello scorso ottobre\, torna in scena nella sua versione “d’autore”\, scritta e diretta da Giuseppe Sorgi\, il giallo comico più rappresentato in Italia negli ultimi due anni.\nSu un sito web compare una misteriosa inserzione: giorno\, ora e indirizzo in cui un delitto avrà luogo. Immaginate se fosse l’indirizzo di casa vostra. Uno scherzo?! Se giungessero degli ospiti inattesi\, diverrebbe un gioco mortalmente comico.\n“In Serata Omicidio si ride e si resta legati alla suspence della trama. Meritati gli applausi.” – Annalisa Venditti\, Italia Sera.\n“Esilarante ed avvincente. Spettacolo consigliatissimo.” – IL Foyeur.\n“E’ una commedia geniale per l’ilarità che suscita con una struttura narrativa semplicissima. Nessun tempo morto ed un ventaglio di personaggi irresistibili.” – Giulia Di Clemente\, Labcreativity.\nUn omicidio preannunciato su internet. L’assassino comunica giorno\, ora e luogo in cui verrà commesso il crimine. L’indirizzo risulta essere quello di una giovane donna che non prende sul serio la vicenda. Eppure\, la sera in questione si recano sul “luogo del delitto” alcuni ospiti inattesi\, ognuno spinto da motivazioni diverse. Così il giallo si tinge di rosa e si fa commedia. Ma l’assassino ha costruito un piano perfetto e il misfatto si compirà sotto gli occhi increduli di tutti. Un giallo a tutti gli effetti\, dove i cultori del genere ritroveranno succulenti riferimenti a più di un’opera di Agatha Christie (“Macabro Quiz” e “Un delitto avrà luogo”) e dove\, al tempo stesso\, la comicità fa da padrona senza nulla sottrarre al gioco ad incastro del mistero da risolvere. E quando i fatti volgeranno al peggio\, sfuggendo di mano ai presenti\, quel gioco comico e mortale esigerà una soluzione.\nChi ha premeditato il tutto? Perché? Come ha fatto l’assassino a tessere le fila della sua “Serata Omicidio”? \nBiglietto unico: € 14 (+ tessera associativa di € 2\,50)\nBIGLIETTI\n  \nDa Giovedì 9 a Sabato 11 Dicembre ore 21.00 \nDomenica 12 Dicembre ore 18.30 \nTEATRO COMETA OFF \nVia Luca della Robbia 47 (angolo Piazza Testaccio) \nInfoline e prenotazioni 0657284637 \nTeatro sanificato nel rispetto delle misure ANTICOVID. \nPer partecipare all’evento devi essere socio dell’Associazione Culturale Cometa Off\nASSOCIATI\n  \n 
URL:https://www.cometaoff.it/evento/serata-omicidio-spettacolo-dal-09-al-12-dicembre-2021/
LOCATION:Teatro Cometa Off\, Via Luca della Robbia\, 47\, Roma\, RM\, 00157\, Italy
CATEGORIES:2021-2022
ATTACH;FMTTYPE=image/jpeg:https://www.cometaoff.it/wp-content/uploads/2021/11/dicembre-2021-serata-omicidio-cometaoff-2020_page-0001.jpg
END:VEVENT
BEGIN:VEVENT
DTSTART;VALUE=DATE:20211214
DTEND;VALUE=DATE:20211215
DTSTAMP:20260422T033114
CREATED:20211122T191103Z
LAST-MODIFIED:20211122T191456Z
UID:7360-1639440000-1639526399@www.cometaoff.it
SUMMARY:SUAD
DESCRIPTION:ASSOCIAZIONE ARIADNE – TEATRO A\nPROJECTSCUOLA 2021/2022 \npresenta \nSUAD\nIL DRAMMA DI SUAD ARRIVA IN TEATRO \nRegia di Valeria Freiberg \n  \nIn occasione della Giornata internazionale per l’eliminazione della violenza contro le donne la Compagnia Teatro A propone\, nell’ambito della rassegna Project Scuola\, la pièce Suad il 24 e 25 novembre presso il Teatro Cometa Off con musica dal vivo.\nL’adattamento scenico\, diretto da Valeria Freiberg\, è liberamente tratto dal romanzo autobiografico “Bruciata viva. Vittima della legge degli uomini”\, della scrittrice cisgiordana Suad (il nome è uno pseudonimo). I versi sono di uno dei più grandi poeti persiani\, Nezami Ganjavi (XII° sec.). Sul palco Giorgia Fabiani\, Cristina Colonnetti e Andrea Stefani\, accompagnati dalla musica dal vivo di Leonardo Mirenda alla chitarra elettrica e di Pablo Monterisi al lud e flauto indiano.\nSuad racconta la sua tragica storia di donna costretta a subire un sopruso\, punita per una gravidanza arrivata prima del matrimonio. Il suo corpo viene cosparso di benzina e le viene dato fuoco su volere della sua stessa famiglia. Una vicenda sconvolgente e\, purtroppo\, di viva attualità\, basti pensare alla recente storia di Saman Abbas\, la 18enne di origine pakistana scomparsa da Novellara a maggio scorso\, presumibilmente uccisa dalla sua stessa famiglia e di cui il corpo non è ancora stato ritrovato.\nLa rappresentazione “Suad” è ideata come un sound dramma\, un monologo delirante della giovane\, sospesa tra la vita e la morte\, che sussurra parole grezze e semplici trasformandole\, suo malgrado\, in una narrazione poetica capace di raccogliere e raccontare le confidenze dell’animo.\n“Suad” è una delle proposte della sesta edizione di “ProjectSCUOLA”\, la rassegna di teatro letterario pensata per i giovani\, che ha come obiettivo: l’avvicinamento del pubblico young al teatro e alla cultura; il ruolo educativo della cultura in generale e del teatro in particolare; la formazione del pubblico nuovo costituito dai giovani. \n14 Dicembre ore 11.00 \ne-mail : info.ariadneteatroa@gmail.com\nWhatsApp: +39-3714125639\nInformazioni su www.compagniateatroa.it \nUfficio Stampa Monica Menna\nmob. 328.9448311\nmonicapress88@gmail.com \n  \nTEATRO COMETA OFF \nVia Luca della Robbia 47 (angolo Piazza Testaccio) \nInfoline e prenotazioni 0657284637 \nBiglietto unico: 10 € \nTeatro sanificato nel rispetto delle misure ANTICOVID. \nPer partecipare all’evento devi essere socio dell’Associazione Culturale Cometa Off\nASSOCIATI
URL:https://www.cometaoff.it/evento/suad-2/
LOCATION:Teatro Cometa Off\, Via Luca della Robbia\, 47\, Roma\, RM\, 00157\, Italy
CATEGORIES:2021-2022
ATTACH;FMTTYPE=image/jpeg:https://www.cometaoff.it/wp-content/uploads/2021/11/Suad-Cometa-Off.jpg
END:VEVENT
BEGIN:VEVENT
DTSTART;VALUE=DATE:20211217
DTEND;VALUE=DATE:20211219
DTSTAMP:20260422T033114
CREATED:20211105T134724Z
LAST-MODIFIED:20211129T215355Z
UID:7054-1639699200-1639871999@www.cometaoff.it
SUMMARY:LA DÉFI (La Sfida)
DESCRIPTION:COMPAGNIA INTERPRETAZIONE DANZA \npresenta \nLA DÉFI (La Sfida)\n ideato e diretto da Antonella Gionta \nInterpreti  : Serena Arco\, Roberta Bassani\, Sara Bertoglio\, Stefania Fontana e Patrizia Rosa \n  \nLe Dèfi è la nuova creazione della compagnia Interpretazione Danza\, una performance che unisce la suggestione simbolica della parola all’arte del movimento corporeo in un concerto emozionale. \nRiflessione\, distanza \,smarrimento\, solitudine\, confini materiali e mentali da dover superare\, un passaggio obbligato per poter avanzare nel cammino oltre la nostra mente\, aldilà dell’io. \nIn questa atmosfera surreale sospesa tra il cielo e la terra\, si muovono i personaggi alla ricerca di una nuova dimensione. \nSPETTACOLO RINVIATO A DATA DA DESTINARSI \n  \nTEATRO COMETA OFF \nVia Luca della Robbia 47 (angolo Piazza Testaccio) \nInfoline e prenotazioni 0657284637 \nBiglietto unico: \nTeatro sanificato nel rispetto delle misure ANTICOVID. \nPer partecipare all’evento devi essere socio dell’Associazione Culturale Cometa Off\nASSOCIATI
URL:https://www.cometaoff.it/evento/la-defi/
LOCATION:Teatro Cometa Off\, Via Luca della Robbia\, 47\, Roma\, RM\, 00157\, Italy
CATEGORIES:2021-2022
ATTACH;FMTTYPE=image/png:https://www.cometaoff.it/wp-content/uploads/2021/11/1_20211129_224935_0000.png
END:VEVENT
BEGIN:VEVENT
DTSTART;VALUE=DATE:20211218
DTEND;VALUE=DATE:20211219
DTSTAMP:20260422T033114
CREATED:20211211T213320Z
LAST-MODIFIED:20211211T213446Z
UID:7588-1639785600-1639871999@www.cometaoff.it
SUMMARY:MONOLOCALE - Natale a casa nostra
DESCRIPTION:ARTISTI COLLETTIVO MONOLOCALE \npresentano \nMONOLOCALE – Natale a casa nostra – Il presepe vivente\nda un’idea di Daniele Coscarella \nCon: Artisti collettivo Monolocale \n  \nLa serata più dolce dell’anno\, tutti buoni e gentili per un massimo di 5 minuti.\nTorna come da tradizione la serata natalizia di Monolocale: Home Comedy di performance teatrale ambientato in un Monolocale.\nIl pubblico si ritrova immerso in una casa spettacolo coinvolgente piena di storie\, parole\, musica e colpi di scena. Mattatori della serata sono gli attori Inquilini\, con i loro monologhi che nascono da un vissuto quotidiano.\nIl risultato è un’esperienza tragicomica collettiva\, dove il pubblico si sente parte integrante della serata e protagonista dei temi scelti.\nImprovvisazione\, ritmo e divertimento\, saranno gli ingredienti di un evento da ricordare. Non c’è palco o quarta parete ma solo un’ipotetico salone di casa! \nIL NATALE A CASA NOSTRA \nPresentazione del vero:\nPresepe Vivente \nBingo Natalizio: ricchi premi e grandi sole!\nMonologhi.Canzoni. Letterine. Vino e Schiacciapensieri \nInsieme a @magicaburla e i torroni più buoni di Natale. \nDurata: 80 minuti\nTipologia: Monologhi – Stand up – Comedy e Musica dal Vivo \nwww.monolocalespettacolo.com \nInfo : monolocaleaccento@gmail.com \nBiglietto : €12 \n  \nSabato 18 Dicembre 2021 ore 21.00 \n  \nTEATRO COMETA OFF \nVia Luca della Robbia 47 (Testaccio) \nInfoline e prenotazioni 0657284637 \nBiglietti in prevendita. \nTeatro sanificato nel rispetto delle misure ANTICOVID. \nPer partecipare all’evento devi essere socio dell’Associazione Culturale Cometa Off\nASSOCIATI
URL:https://www.cometaoff.it/evento/monolocale-natale-a-casa-nostra/
LOCATION:Teatro Cometa Off\, Via Luca della Robbia\, 47\, Roma\, RM\, 00157\, Italy
CATEGORIES:2021-2022
ATTACH;FMTTYPE=image/jpeg:https://www.cometaoff.it/wp-content/uploads/2021/12/social-.jpg
END:VEVENT
BEGIN:VEVENT
DTSTART;TZID=Europe/Rome:20211219T110000
DTEND;TZID=Europe/Rome:20211219T130000
DTSTAMP:20260422T033114
CREATED:20211215T153948Z
LAST-MODIFIED:20211215T153948Z
UID:7605-1639911600-1639918800@www.cometaoff.it
SUMMARY:LO SPECCHIO MAGICO
DESCRIPTION:ASSOCIAZIONE ARIADNE – TEATRO A\nPROJECTSCUOLA 2021/2022 \npresenta \nLO SPECCHIO MAGICO e LETTERA A UN GIOVANE REGISTA\nRegia Valeria Freiberg \nDomenica 19 Dicembre 2021\, ORE 11.00 e ORE 17.00 \n  \nDomenica 19 dicembre vanno in scena al Teatro Cometa Off due spettacoli allestiti dalla Compagnia Teatro A: “Lo specchio magico\, poema fantastico” (ore 11) e “Lettera a un giovane regista” (ore 17) diretti da Valeria Freiberg. Sono inseriti all’interno della rassegna Project Scuola VI edizione\, iniziativa finanziata dalla Regione Lazio.\n“Lo specchio magico” è un fantasioso mosaico delle più celebri fiabe del Nord\, pièce per i più piccoli pensata per ricreare suggestioni e atmosfere del periodo natalizio.\n“Lettera a un giovane regista” è un sentito omaggio al compianto regista Giorgio Strehler\, per celebrarne il Centenario della nascita (1921-2021). Strehler è stato uno dei più grandi registi del Novecento\, fondatore del Piccolo Teatro di Milano assieme a\nPaolo Grassi nell’immediato dopoguerra.\nDa un lato si vuole far conoscere ai giovani l’eredità creativa del regista triestino e dall’altro avvicinarli alle straordinarie opere realizzate\, approfondendo in particolare alcune messe in scena. Attraverso parole\, musiche e immagini si realizza un ritratto a tutto tondo del geniale Maestro.\nOsserva la regista: “Credo sia importante ricordare ai più giovani e celebrare Strehler\, uno dei Maestri assoluti del Novecento teatrale\, addentrandosi nel suo magistrale lavoro. Il teatro attuale è figlio di quell’eccezionale manipolatore della finzione scenica”. \nLo specchio magico\nRegia Valeria Freiberg\ncon Cristina Colonnetti\, Andrea Stefani\, Tomas Acosta\nPrezzo biglietto 5€ \nLettera a un giovane regista – Ricordando Giorgio Strehler nel Centenario della nascita\nRegia Valeria Freiberg\ncon Cristina Colonnetti\, Andrea Stefani\nPrezzo biglietto 7€ \n  \ne-mail info.ariadneteatroa@gmail.com\nWhatsApp: +39-3714125639 \nInformazioni su www.compagniateatroa.it\nUfficio Stampa Monica Menna\nmob. 328.9448311\nmonicapress88@gmail.com \n  \nTEATRO COMETA OFF \nVia Luca della Robbia 47 (angolo Piazza Testaccio) \nInfoline e prenotazioni 0657284637 \nBiglietto 5€ Lo Specchio Magico  e 7€ Lettera ad un giovane regista \nTeatro sanificato nel rispetto delle misure ANTICOVID. \nPer partecipare all’evento devi essere socio dell’Associazione Culturale Cometa Off\nASSOCIATI
URL:https://www.cometaoff.it/evento/lo-specchio-magico/
LOCATION:Teatro Cometa Off\, Via Luca della Robbia\, 47\, Roma\, RM\, 00157\, Italy
CATEGORIES:2021-2022
ATTACH;FMTTYPE=image/jpeg:https://www.cometaoff.it/wp-content/uploads/2021/12/lo-specchio-magico-19-dic.jpg
END:VEVENT
BEGIN:VEVENT
DTSTART;TZID=Europe/Rome:20211219T170000
DTEND;TZID=Europe/Rome:20211219T190000
DTSTAMP:20260422T033114
CREATED:20211208T173313Z
LAST-MODIFIED:20211215T154039Z
UID:7530-1639933200-1639940400@www.cometaoff.it
SUMMARY:LETTERA A UN GIOVANE REGISTA
DESCRIPTION:ASSOCIAZIONE ARIADNE – TEATRO A\nPROJECTSCUOLA 2021/2022 \npresenta \nLO SPECCHIO MAGICO e LETTERA A UN GIOVANE REGISTA\nRegia Valeria Freiberg \nDomenica 19 Dicembre 2021\, ORE 11.00 e ORE 17.00 \n  \nDomenica 19 dicembre vanno in scena al Teatro Cometa Off due spettacoli allestiti dalla Compagnia Teatro A: “Lo specchio magico\, poema fantastico” (ore 11) e “Lettera a un giovane regista” (ore 17) diretti da Valeria Freiberg. Sono inseriti all’interno della rassegna Project Scuola VI edizione\, iniziativa finanziata dalla Regione Lazio.\n“Lo specchio magico” è un fantasioso mosaico delle più celebri fiabe del Nord\, pièce per i più piccoli pensata per ricreare suggestioni e atmosfere del periodo natalizio.\n“Lettera a un giovane regista” è un sentito omaggio al compianto regista Giorgio Strehler\, per celebrarne il Centenario della nascita (1921-2021). Strehler è stato uno dei più grandi registi del Novecento\, fondatore del Piccolo Teatro di Milano assieme a\nPaolo Grassi nell’immediato dopoguerra.\nDa un lato si vuole far conoscere ai giovani l’eredità creativa del regista triestino e dall’altro avvicinarli alle straordinarie opere realizzate\, approfondendo in particolare alcune messe in scena. Attraverso parole\, musiche e immagini si realizza un ritratto a tutto tondo del geniale Maestro.\nOsserva la regista: “Credo sia importante ricordare ai più giovani e celebrare Strehler\, uno dei Maestri assoluti del Novecento teatrale\, addentrandosi nel suo magistrale lavoro. Il teatro attuale è figlio di quell’eccezionale manipolatore della finzione scenica”. \nLo specchio magico\nRegia Valeria Freiberg\ncon Cristina Colonnetti\, Andrea Stefani\, Tomas Acosta\nPrezzo biglietto 5€ \nLettera a un giovane regista – Ricordando Giorgio Strehler nel Centenario della nascita\nRegia Valeria Freiberg\ncon Cristina Colonnetti\, Andrea Stefani\nPrezzo biglietto 7€ \n  \ne-mail info.ariadneteatroa@gmail.com\nWhatsApp: +39-3714125639 \nInformazioni su www.compagniateatroa.it\nUfficio Stampa Monica Menna\nmob. 328.9448311\nmonicapress88@gmail.com \n  \nTEATRO COMETA OFF \nVia Luca della Robbia 47 (angolo Piazza Testaccio) \nInfoline e prenotazioni 0657284637 \nBiglietto 5€ Lo Specchio Magico  e 7€ Lettera ad un giovane regista \nTeatro sanificato nel rispetto delle misure ANTICOVID. \nPer partecipare all’evento devi essere socio dell’Associazione Culturale Cometa Off\nASSOCIATI
URL:https://www.cometaoff.it/evento/lettera-a-un-giovane-regista-2/
LOCATION:Teatro Cometa Off\, Via Luca della Robbia\, 47\, Roma\, RM\, 00157\, Italy
CATEGORIES:2021-2022
ATTACH;FMTTYPE=image/jpeg:https://www.cometaoff.it/wp-content/uploads/2021/12/lettera-a-un-giovane-regista-19-dic.jpg
END:VEVENT
END:VCALENDAR