BEGIN:VCALENDAR
VERSION:2.0
PRODID:-//Teatro Cometa Off - ECPv6.15.20//NONSGML v1.0//EN
CALSCALE:GREGORIAN
METHOD:PUBLISH
X-WR-CALNAME:Teatro Cometa Off
X-ORIGINAL-URL:https://www.cometaoff.it
X-WR-CALDESC:Eventi per Teatro Cometa Off
REFRESH-INTERVAL;VALUE=DURATION:PT1H
X-Robots-Tag:noindex
X-PUBLISHED-TTL:PT1H
BEGIN:VTIMEZONE
TZID:Europe/Rome
BEGIN:DAYLIGHT
TZOFFSETFROM:+0100
TZOFFSETTO:+0200
TZNAME:CEST
DTSTART:20210328T010000
END:DAYLIGHT
BEGIN:STANDARD
TZOFFSETFROM:+0200
TZOFFSETTO:+0100
TZNAME:CET
DTSTART:20211031T010000
END:STANDARD
BEGIN:DAYLIGHT
TZOFFSETFROM:+0100
TZOFFSETTO:+0200
TZNAME:CEST
DTSTART:20220327T010000
END:DAYLIGHT
BEGIN:STANDARD
TZOFFSETFROM:+0200
TZOFFSETTO:+0100
TZNAME:CET
DTSTART:20221030T010000
END:STANDARD
BEGIN:DAYLIGHT
TZOFFSETFROM:+0100
TZOFFSETTO:+0200
TZNAME:CEST
DTSTART:20230326T010000
END:DAYLIGHT
BEGIN:STANDARD
TZOFFSETFROM:+0200
TZOFFSETTO:+0100
TZNAME:CET
DTSTART:20231029T010000
END:STANDARD
END:VTIMEZONE
BEGIN:VEVENT
DTSTART;VALUE=DATE:20220111
DTEND;VALUE=DATE:20220124
DTSTAMP:20260422T020032
CREATED:20220104T214038Z
LAST-MODIFIED:20220104T214038Z
UID:7615-1641859200-1642982399@www.cometaoff.it
SUMMARY:IL MIRACOLO
DESCRIPTION:Fattore K e ScostumatoTeatro\npresentano \nIL MIRACOLO\ndi Franca De Angelis \nRegia Christian Angeli\ncon Anna Cianca e Galliano Mariani \nDa quando il suo compagno – un ex sacerdote – è morto\, dopo una devastante malattia\, Sergio ha perso la voglia di vivere. Una sera\, nel suo studio medico\, ben oltre l’orario di ricevimento si presenta una donna sulla cinquantina\, che sostiene di essere suora di clausura in un convento poco distante e di essere incinta\, senza essere stata con un uomo. Sergio fa non poca fatica a convincere suor Teresa a sottoporsi agli esami di routine. Quando infine ci riesce\, il referto sembra confermare ciò che il medico sospettava: la donna non aspetta alcun bambino. Un brutto tumore la sta devastando. Suor Teresa rifiuta però di credere alle parole di Sergio e di sottoporsi a qualsiasi cura\, opponendo alla diagnosi la propria fede nell’evento miracoloso che\, secondo lei\, sta per accadere. \nIl miracolo tocca temi di scottante attualità\, come il diritto a decidere del proprio fine-vita e la possibilità per le coppie gay di avere figli. Ma è soprattutto uno spettacolo sull’elaborazione del lutto e sulla fede\, intesa come speranza attiva e come tale costruttrice di realtà. \nBiglietto € 15 (+ tessera associativa di € 2\,50)\nDa Martedì 11 Gennaio a Sabato 15 Gennaio ore 21.00 \nDomenica 16 Gennaio ore 18.00 \nDa Martedì 18 Gennaio a Sabato 12 Gennaio ore 21.00 \nDomenica 23 Gennaio ore 18.00 \n  \nTEATRO COMETA OFF \nVia Luca della Robbia 47 (angolo Piazza Testaccio) \nInfoline e prenotazioni 0657284637 \nTeatro sanificato nel rispetto delle misure ANTICOVID. \nPER PARTECIPARE ALL’EVENTO E’ OBBLIGATORIO L’USO DELLA MASCHERINA FFP2 E DEL SUPER GREEN PASS. \nPer partecipare all’evento devi essere socio dell’Associazione Culturale Cometa Off\nASSOCIATI\n  \n 
URL:https://www.cometaoff.it/evento/il-miracolo/
LOCATION:Teatro Cometa Off\, Via Luca della Robbia\, 47\, Roma\, RM\, 00157\, Italy
CATEGORIES:2021-2022
ATTACH;FMTTYPE=image/jpeg:https://www.cometaoff.it/wp-content/uploads/2022/01/IMG-2659.jpg
END:VEVENT
BEGIN:VEVENT
DTSTART;VALUE=DATE:20220125
DTEND;VALUE=DATE:20220131
DTSTAMP:20260422T020033
CREATED:20220110T182917Z
LAST-MODIFIED:20220128T164445Z
UID:7741-1643068800-1643587199@www.cometaoff.it
SUMMARY:L'AMICO RITROVATO
DESCRIPTION:Spettacolo realizzato in occasione della GIORNATA DELLA MEMORIA 2022\na cura delle Associazioni Culturali\nI GIARDINI DI ANTARES e S.M.ART\npresentano \nL’AMICO RITROVATO\ntraduzione e adattamento dal libro REUNION di Fred Uhlman \na cura di Alessandro Sena e Marco Tassotti \ncon \nMichele Albini\, Alessio Chiodini\, Maria Marra e Vittoria Rossi \nRegia di Alessandro Sena \nAiuto regia: Simonetta Di Coste – Disegno Luci: Mattia Albanese – Consulenza musiche: Peste\nOrganizzazione ed ufficio stampa: Studio Antares Produzioni 339 8784860.\nemail : igiardinidiantares@libero.it \nTratto dall’omonimo libro edito in tutto il mondo con uno straordinario successo di pubblico e di critica\, l’Amico Ritrovato racconta l’amicizia nata sui banchi di scuola tra Hans e Konradin\, due ragazzi legati da una sincera e profonda amicizia\, improvvisamente interrotta dalle leggi razziali emanate da Hitler nel 1935 attraverso il Partito Nazionalsocialista. Il solido legame fra un ragazzo ebreo e uno tedesco\, viene compromesso da episodi che divideranno per sempre le vite dei due giovani amici\, fino a quando una lettera pervenuta ad Hans\, dopo molti anni dalla sua separazione da Konradin\, riscriverà in modo inaspettato una parte del loro passato. \nAlessandro Sena firma la sua regia più intimista avvalendosi di un adattamento scritto in collaborazione con Marco Tassotti per raccontare una storia fra due ragazzi che si sono amati attraverso il sentimento dell’amicizia\, costretti a separarsi dalle loro vite e da loro stessi\, a causa degli orrori causati dal Nazismo.\nUno spettacolo dove la parola\, il movimento e la musica\, creano un forte impatto scenico nel quale i personaggi interpretati da Michele Albini\, Alessio Chiodini\, Maria Marra e Vittoria Rossi si muovono in momenti storici diversi: gli anni ‘70\, nei quali Hans ricorda la sua storia con Konradin e gli anni ‘30\, nei quali Konradin in prima persona vive il suo rapporto con Hans\, dando vita ad una suggestiva performance che parla di una amicizia speciale\, come sentimento che unisce le persone e che riempie la vita. \nBiglietto Intero : € 16 Ridotto : € 12\,50 (+ tessera associativa di € 2\,50)\nDa Martedì 25 Gennaio a Sabato 29 Gennaio ore 21.00 \nDomenica 30 Gennaio ore 18.00 \n  \nTEATRO COMETA OFF \nVia Luca della Robbia 47 (angolo Piazza Testaccio) \nInfoline e prenotazioni 0657284637 \nEmail : cometa.off@cometa.org \nTeatro sanificato nel rispetto delle misure ANTICOVID. \nPER PARTECIPARE ALL’EVENTO E’ OBBLIGATORIO L’USO DELLA MASCHERINA FFP2 E DEL GREEN PASS RAFFORZATO.\nL’accesso a teatro è riservato ai soci di  Cometa Off. Non sei ancora associato? \nClicca qui ? ASSOCIATI\n 
URL:https://www.cometaoff.it/evento/l-amico-ritrovato/
LOCATION:Teatro Cometa Off\, Via Luca della Robbia\, 47\, Roma\, RM\, 00157\, Italy
CATEGORIES:2021-2022
ATTACH;FMTTYPE=image/jpeg:https://www.cometaoff.it/wp-content/uploads/2022/01/LOCANDINA-LAMICO-RITROVATO-2021-scaled.jpg
END:VEVENT
END:VCALENDAR