BEGIN:VCALENDAR
VERSION:2.0
PRODID:-//Teatro Cometa Off - ECPv6.15.20//NONSGML v1.0//EN
CALSCALE:GREGORIAN
METHOD:PUBLISH
X-WR-CALNAME:Teatro Cometa Off
X-ORIGINAL-URL:https://www.cometaoff.it
X-WR-CALDESC:Eventi per Teatro Cometa Off
REFRESH-INTERVAL;VALUE=DURATION:PT1H
X-Robots-Tag:noindex
X-PUBLISHED-TTL:PT1H
BEGIN:VTIMEZONE
TZID:Europe/Rome
BEGIN:DAYLIGHT
TZOFFSETFROM:+0100
TZOFFSETTO:+0200
TZNAME:CEST
DTSTART:20210328T010000
END:DAYLIGHT
BEGIN:STANDARD
TZOFFSETFROM:+0200
TZOFFSETTO:+0100
TZNAME:CET
DTSTART:20211031T010000
END:STANDARD
BEGIN:DAYLIGHT
TZOFFSETFROM:+0100
TZOFFSETTO:+0200
TZNAME:CEST
DTSTART:20220327T010000
END:DAYLIGHT
BEGIN:STANDARD
TZOFFSETFROM:+0200
TZOFFSETTO:+0100
TZNAME:CET
DTSTART:20221030T010000
END:STANDARD
BEGIN:DAYLIGHT
TZOFFSETFROM:+0100
TZOFFSETTO:+0200
TZNAME:CEST
DTSTART:20230326T010000
END:DAYLIGHT
BEGIN:STANDARD
TZOFFSETFROM:+0200
TZOFFSETTO:+0100
TZNAME:CET
DTSTART:20231029T010000
END:STANDARD
END:VTIMEZONE
BEGIN:VEVENT
DTSTART;VALUE=DATE:20220506
DTEND;VALUE=DATE:20220508
DTSTAMP:20260421T182955
CREATED:20220404T131723Z
LAST-MODIFIED:20220427T132156Z
UID:9434-1651795200-1651967999@www.cometaoff.it
SUMMARY:SPIRITO LIBERO
DESCRIPTION:Luciano Lembo\npresenta \nSPIRITO LIBERO\nL’artista romano passa da una gag e l’altra seguendo il filo conduttore della sua propria vita\, dalle sue giovanili ‘disavventure amorose’ nella periferia\, al romanticismo del matrimonio e al tragicomico epilogo del divorzio.\nIl tutto condito dalla musica tipica degli anni 80…a scandire i tempi di un’epoca da raccontare e salutare con nostalgia. \nBiglietto Intero : € 12\,50 (+ tessera associativa di € 2\,50)\nBiglietti non vendibili ON-LINE\nVenerdì 6 Maggio e Sabato 7 Maggio 2022 ore 21.00 \n  \nTEATRO COMETA OFF \nVia Luca della Robbia 47 (angolo Piazza Testaccio) \nInfoline e prenotazioni : 06 57284637 \nemail : cometa.off@cometa.org \nTeatro sanificato nel rispetto delle misure ANTICOVID. \nPer partecipare all’evento devi essere socio dell’Associazione Culturale Cometa Off\nASSOCIATI
URL:https://www.cometaoff.it/evento/spirito-libero/
LOCATION:Teatro Cometa Off\, Via Luca della Robbia\, 47\, Roma\, RM\, 00157\, Italy
CATEGORIES:2021-2022
ATTACH;FMTTYPE=image/jpeg:https://www.cometaoff.it/wp-content/uploads/2022/04/1648843563338-scaled.jpg
END:VEVENT
BEGIN:VEVENT
DTSTART;VALUE=DATE:20220509
DTEND;VALUE=DATE:20220512
DTSTAMP:20260421T182955
CREATED:20220405T171939Z
LAST-MODIFIED:20220405T171939Z
UID:9449-1652054400-1652313599@www.cometaoff.it
SUMMARY:B
DESCRIPTION:B\ncon : Davide Lepore e Francesco Venerando \nscritto e diretto da : Piergiorgio Seidita \n“B” ha come tema principale\, il Bullismo. Lo spettacolo racconta l’interrogatorio tra un poliziotto\, Giuseppe\, e un giovane bullo\, Bernardo\, che ha ucciso un suo coetaneo.\nBernardo appare molto orgoglioso e saccente di fronte a quello che ha fatto\, ma dietro questo aspetto si nascondono emozioni e dolori\, mai raccontati a nessuno.\nGiuseppe\, farà molta fatica a mantenere la calma durante tutto l’interrogatorio\, a causa di un segreto che motiverà questo suo oscuro comportamento.\nSi alterneranno momenti di riflessione\, rabbia e commozione. Si andrà a fondo al tema del Bullismo\, analizzando i giovani di adesso\, i grandi che gli stanno intorno ma che non li ascoltano.\n“B” è un pugno allo stomaco\, fatto di verità e dolore\, evolvendosi in riflessione\, grazie anche ad un doppio finale. \nNote del Regista :\nIl Bullismo esiste da sempre\, come l’Amore. Il Bullismo\, secondo me\, nasce da un amore mancato. Che avvenga in famiglia\, in amicizia\, o a scuola. “B” racconta tutto ciò\, cercando di “svegliare” lo spettatore dal Limbo del “va tutto bene”. Stimola alla protezione e all’amore per se stessi\, guardando in faccia la cruda realtà. \nInfo generiche sul Regista : Regista di Videoclip\, Cortometraggi\, Serie Web e Spettacoli Teatrali.\nNell’Ottobre 2013 presenta in anteprima al Roma Fiction Fest la serie “Imperfetti”.\nNel 2018 vince il Critics Choice Award in Australia. \nDurata Spettacolo : 45 minuti. \nBiglietto Intero : € 15\,00 – Ridotto : € 10\,00 (+ tessera associativa di € 2\,50)\nBiglietti non vendibili ON-LINE\nDa Lunedì 9 Maggio a Mercoledì 11 Maggio 2022 ore 21.00 \n  \nTEATRO COMETA OFF \nVia Luca della Robbia 47 (angolo Piazza Testaccio) \nInfoline e prenotazioni : 06 57284637 \nemail : cometa.off@cometa.org \nTeatro sanificato nel rispetto delle misure ANTICOVID. \nPer partecipare all’evento devi essere socio dell’Associazione Culturale Cometa Off\nASSOCIATI
URL:https://www.cometaoff.it/evento/b/
LOCATION:Teatro Cometa Off\, Via Luca della Robbia\, 47\, Roma\, RM\, 00157\, Italy
CATEGORIES:2021-2022
ATTACH;FMTTYPE=image/jpeg:https://www.cometaoff.it/wp-content/uploads/2022/04/LocandinaB2022-compresso.jpg
END:VEVENT
BEGIN:VEVENT
DTSTART;VALUE=DATE:20220511
DTEND;VALUE=DATE:20220512
DTSTAMP:20260421T182955
CREATED:20220422T163938Z
LAST-MODIFIED:20220422T170809Z
UID:9550-1652227200-1652313599@www.cometaoff.it
SUMMARY:FRANCO BATTIATO - L'UOMO DELL'ISOLA DEI GIARDINI
DESCRIPTION:Presentazione del libro\nFRANCO BATTIATO – L’UOMO DELL’ISOLA DEI GIARDINI\ndi Guido G. Guerrera  \ndialogano con l’autore  : \nUmberto Broccoli : accademico e conduttore radiotelevisivo \nGennaro Cannavacciuolo : attore \n«La musica e le parole di Franco toccavano l’anima e questo sarebbe stato il miracolo che lo avrebbe accompagnato per sempre.» \nUn mese fa si affacciava nelle librerie “Franco Battiato. L’uomo dell’isola dei giardini”\, il nuovo libro del giornalista e scrittore Guido G. Guerrera  dedicato all’amico Franco Battiato ed edito da Edizioni Minerva.\nIl volume è impreziosito dalla bellissima copertina a cura del celebre artista pratese di fama mondiale Andrea Martinelli e ha testimonianze e ricordi di Umberto Broccoli\, Filippo Destrieri\, Juri Camisasca\, Antonio Ballista\, Giusto Pio\, Fabio Cinti\, Carlo Guaitoli\, Manlio Sgalambro\, Pino Pischetola\, Syusy Blady\, Giovanni Caccamo.\nL’evento è GRATUITO per tutti i soci di Cometa Off\nMercoledì 11 Maggio 2022 ore 17.45 \n  \nTEATRO COMETA OFF \nVia Luca della Robbia 47 (angolo Piazza Testaccio) \nInfoline e prenotazioni : 06 57284637 \nemail : cometa.off@cometa.org \nTeatro sanificato nel rispetto delle misure ANTICOVID. \nPer partecipare all’evento devi essere socio dell’Associazione Culturale Cometa Off\nASSOCIATI
URL:https://www.cometaoff.it/evento/franco-battiato-l-uomo-dell-isola-dei-giardini/
LOCATION:Teatro Cometa Off\, Via Luca della Robbia\, 47\, Roma\, RM\, 00157\, Italy
CATEGORIES:2021-2022
ATTACH;FMTTYPE=image/jpeg:https://www.cometaoff.it/wp-content/uploads/2022/04/Invito-11.5_Roma_Minerva-scaled.jpg
END:VEVENT
BEGIN:VEVENT
DTSTART;VALUE=DATE:20220524
DTEND;VALUE=DATE:20220530
DTSTAMP:20260421T182955
CREATED:20220421T180501Z
LAST-MODIFIED:20220427T133205Z
UID:9545-1653350400-1653868799@www.cometaoff.it
SUMMARY:CASO\, MAI
DESCRIPTION:CASO\, MAI\ncon : Simone Guarany\, Marco Giustini\, Licia Amendola\, Maria Sessa\, Giorgio Gobbi\, Chiara Becchimanzi\, Giulia Bornacin \nscritto da : Simone Guarany – diretto da : Simone Guarany e Licia Amendola \nmusiche originali di : Giacomo Vezzani – scenografia : Fabrizio Piergiovanni \nMassimiliano e Flaminia vivono insieme. Lui è un artista\, lavora a casa\, per vivere disegna. È una persona estremamente semplice\, un buontempone davvero innamorato della sua fidanzata. Lei lavora come organizzatrice di eventi per una grossa società. È una donna estremamente fragile\, calcolatrice\, intelligente e profonda\, anche se spesso per lei la forma assume più importanza della sostanza. Ogni giorno Flaminia torna a casa dal lavoro e sa che probabilmente si lamenterà del suo fidanzato un po’ disordinato. A volte discutono e a volte finiscono per guardarsi un film\, tutto sommato sono felici e hanno tutta la vita davanti. Non lontano\, nella stessa città\, vivono Giuseppe e Paola. Giuseppe ha perso i genitori quando aveva 20 anni e non ha mai guarito la sua rabbia in merito. È uno sportivo\, lavora in palestra. Da un anno e mezzo vive con Paola: dopo anni passati a fare bagordi ha finalmente trovato la persona giusta ma l’essere preso da sé stesso lo porta spesso a non essere troppo corretto con lei. Paola è una persona estremamente semplice\, quasi superficiale\, ma profondamente buona e vera\, incapace di fare del male. Nonostante le sue fragilità e insicurezze\, lei ama incredibilmente Giuseppe e per lui farebbe qualsiasi cosa con devozione. Come ogni coppia\, discutono e vivono piccoli litigi sempre però superati dal profondo legame che\, nonostante tutto\, c’è tra loro. Un giorno\, Giuseppe e Massimiliano hanno un malore e scoprono di essere affetti da SLA. Le vite di queste quattro persone cambiano drasticamente\, passando dal dover scegliere dove andare in vacanza\, al dover scegliere se e come vivere il resto della propria vita. Massimiliano sceglierà la via della speranza\, Giuseppe quella del fine vita. Tale scelta non combacerà con quella delle loro fidanzate: Flaminia deciderà di lasciare Massimiliano\, Paola lotterà in nome del proprio amore. Accompagnate dal Dott.Giomberti – uomo mite\, sorridente\, sensibile e di cuore\, brillante neurologo dedito più agli altri che a se stesso – e da Suor Lucia\, infermiera “sui generis”\, le due giovani coppie affronteranno un percorso difficile\, profondo\, tra paure\, domande e nuove consapevolezze: una tra tutte\, che il caso non esiste\, mai. Tutti\, nessuno escluso\, ne uscirà trasformato. \nBiglietto Intero : € 15\,00 – Ridotto : € 12\,00 (+ tessera associativa di € 2\,50)\nBiglietti non vendibili ON-LINE\nDa Martedì 24 Maggio a Sabato 28 Maggio 2022 ore 21.00 – Domenica 29 Maggio 2022 ore 18.00 \n  \nTEATRO COMETA OFF \nVia Luca della Robbia 47 (angolo Piazza Testaccio) \nInfoline e prenotazioni : 06 57284637 \nemail : cometa.off@cometa.org \nTeatro sanificato nel rispetto delle misure ANTICOVID. \nPer partecipare all’evento devi essere socio dell’Associazione Culturale Cometa Off\nASSOCIATI
URL:https://www.cometaoff.it/evento/caso-mai/
LOCATION:Teatro Cometa Off\, Via Luca della Robbia\, 47\, Roma\, RM\, 00157\, Italy
CATEGORIES:2021-2022
ATTACH;FMTTYPE=image/png:https://www.cometaoff.it/wp-content/uploads/2022/04/275176034_357272629750774_4438858115063842130_n.png
END:VEVENT
BEGIN:VEVENT
DTSTART;VALUE=DATE:20220531
DTEND;VALUE=DATE:20220602
DTSTAMP:20260421T182955
CREATED:20220518T173432Z
LAST-MODIFIED:20220518T173432Z
UID:9614-1653955200-1654127999@www.cometaoff.it
SUMMARY:DIARILAB
DESCRIPTION:Associazione Culturale Ariadne – Compagnia Teatro A\npresenta \nDIARILAB – MEMORIE\, TESTIMONIANZE\, LETTURE SULLA GUERRA\ncon \nCristina Colonnetti\, Thomas Acosta e Andrea Stefani \nRegia di : Valeria Freiberg \nValeria Freiberg propone al Teatro Cometa Off il nuovo spettacolo della Compagnia Teatro A\, “DiariLAB – Memorie\, testimonianze\, letture sulla guerra”\, portando il difficile e quanto mai attuale tema della guerra.\nQuella proposta è una pièce realizzata con i diari personali dei nonni e bisnonni degli attori coinvolti. Ricomprende testimonianze pervenute attraverso testi scritti\, ma anche registrazioni audio e video che gli anziani hanno lasciato perché i loro nipoti e pronipoti conoscessero il dramma della guerra che hanno vissuto.\nGli attori sul palco non raccontano storie astratte\, ma reali\, dei propri familiari. Sono portatori di memoria\, sono pienamente coinvolti. \nIn scena gli attori Cristina Colonnetti\, Thomas Acosta e Andrea Stefani. Il tessuto narrativo è formato: dal diario di Alessandro Pardi (‘I Monti della Romagna Primavera 1943 – settembre 1944’); dalle lettere da Roma di Laura Baldini Confalonieri (Colonnetti) – 1944/1945; dalle registrazioni audio della famiglia Stefani. A questi documenti personali si uniscono quelle di importanti opere letterarie come ‘Il sergente nella neve’ di Mario Rigoni Stern.\n“È sorprendente vedere – spiega Freiberg – come i giovani attori in palcoscenico\, immedesimandosi nei propri nonni\, facendosi portatori di memoria\, scoprano e esprimano il loro legame con le loro famiglie\, con la collettività\, in senso più largo e universale del termine; il sentimento “scenico” si trasforma in un sentimento vero e personale di giovani attori che parlano invitando alla riflessione anche il pubblico”.\n“Il nostro lavoro non parla di guerra in termini politici o documentaristici\, ma cerca di scoprire la profondità e la bellezza degli esseri umani capaci di restare tali anche nonostante la follia e la disperazione che la guerra porta” \nInfoline :   Whatsapp:+39-3714125639 – e.mail: ateatro.assariadne@gmail.com – cell: 3313584190 \nUfficio Stampa :  Monica Menna – mobile 328.9448311 – email : monicapress88@gmail.com \nBiglietto Intero : € 12.00 (+ tessera associativa di € 2\,50)\nMartedì 31 Maggio e Mercoledì 1 Giugno 2022 ore 21.00 \n  \nTEATRO COMETA OFF \nVia Luca della Robbia 47 (angolo Piazza Testaccio) \nInfoline e prenotazioni : 06 57284637 \nemail : cometa.off@cometa.org \nTeatro sanificato nel rispetto delle misure ANTICOVID. \nPer partecipare all’evento devi essere socio dell’Associazione Culturale Cometa Off\nASSOCIATI
URL:https://www.cometaoff.it/evento/diarilab/
LOCATION:Teatro Cometa Off\, Via Luca della Robbia\, 47\, Roma\, RM\, 00157\, Italy
CATEGORIES:2021-2022
ATTACH;FMTTYPE=image/jpeg:https://www.cometaoff.it/wp-content/uploads/2022/05/DiariLab-31-maggio-Cometa-Off.jpeg
ORGANIZER;CN="Associazione Culturale Ariadne":MAILTO:ateatro.assariadne@gmail.com
END:VEVENT
END:VCALENDAR