BEGIN:VCALENDAR
VERSION:2.0
PRODID:-//Teatro Cometa Off - ECPv6.15.20//NONSGML v1.0//EN
CALSCALE:GREGORIAN
METHOD:PUBLISH
X-ORIGINAL-URL:https://www.cometaoff.it
X-WR-CALDESC:Eventi per Teatro Cometa Off
REFRESH-INTERVAL;VALUE=DURATION:PT1H
X-Robots-Tag:noindex
X-PUBLISHED-TTL:PT1H
BEGIN:VTIMEZONE
TZID:Europe/Rome
BEGIN:DAYLIGHT
TZOFFSETFROM:+0100
TZOFFSETTO:+0200
TZNAME:CEST
DTSTART:20210328T010000
END:DAYLIGHT
BEGIN:STANDARD
TZOFFSETFROM:+0200
TZOFFSETTO:+0100
TZNAME:CET
DTSTART:20211031T010000
END:STANDARD
BEGIN:DAYLIGHT
TZOFFSETFROM:+0100
TZOFFSETTO:+0200
TZNAME:CEST
DTSTART:20220327T010000
END:DAYLIGHT
BEGIN:STANDARD
TZOFFSETFROM:+0200
TZOFFSETTO:+0100
TZNAME:CET
DTSTART:20221030T010000
END:STANDARD
BEGIN:DAYLIGHT
TZOFFSETFROM:+0100
TZOFFSETTO:+0200
TZNAME:CEST
DTSTART:20230326T010000
END:DAYLIGHT
BEGIN:STANDARD
TZOFFSETFROM:+0200
TZOFFSETTO:+0100
TZNAME:CET
DTSTART:20231029T010000
END:STANDARD
END:VTIMEZONE
BEGIN:VEVENT
DTSTART;VALUE=DATE:20220915
DTEND;VALUE=DATE:20220917
DTSTAMP:20260421T061627
CREATED:20220812T145016Z
LAST-MODIFIED:20220902T100442Z
UID:10570-1663200000-1663372799@www.cometaoff.it
SUMMARY:ASCOLTO
DESCRIPTION:COMPAGNIA IMPROV APS\npresenta \nASCOLTO\n15 e 16 settembre 2022 h 21.00\nRegia di: Giovanni Salvatori \ncon: Maria Caterina Catroppa\, Clarissa Ciaccio\, Andrea Frattali\, Ornella Lorenzano\, Valeria Pian e Giovanni Salvatori \nAiuto Regia: Chiara Cappelli \nDirettore Tecnico: Andrea Vannini \nE se potessi realizzare ogni tuo desiderio semplicemente recandoti in un ufficio\, come fai per ogni barbosa pratica amministrativa? Quale sarebbe la tua richiesta? \nQuale prezzo saresti disposto a pagare per vederla realizzata? \nIn cambio\, accetteresti di far conoscere a tutti il tuo segreto più nascosto? \nRealizza il tuo desiderio e pagane il prezzo! \nTi aspettiamo a braccia aperte! \nVieni alla UNIVERSAL AGENCY… \nSemplicemente partecipando allo Spettacolo di Improvvisazione Teatrale \nASCOLTO\nDue eccezionali repliche al Teatro Cometa Off ( Via Luca della Robbia\, 47 – Roma) \nBiglietto Unico: € 7\,50 (+ tessera associativa da fare almeno un giorno prima di venire a Teatro)\nPrenotazione OBBLIGATORIA allo 06 57284637\nBiglietti non vendibili ON-LINE\n  \nTEATRO COMETA OFF \nVia Luca della Robbia 47 (angolo Piazza Testaccio) \nInfoline e prenotazioni : 06 57284637 \nemail : cometa.off@cometa.org \nTeatro sanificato nel rispetto delle misure ANTICOVID. \nPer partecipare all’evento devi essere socio di Cometa Off\nASSOCIATI
URL:https://www.cometaoff.it/evento/ascolto/
LOCATION:Teatro Cometa Off\, Via Luca della Robbia\, 47\, Roma\, RM\, 00157\, Italy
CATEGORIES:2022-2023
ATTACH;FMTTYPE=image/jpeg:https://www.cometaoff.it/wp-content/uploads/2022/08/Locandina-corretta-Pdf_page-0001-scaled.jpg
END:VEVENT
BEGIN:VEVENT
DTSTART;VALUE=DATE:20220917
DTEND;VALUE=DATE:20220918
DTSTAMP:20260421T061627
CREATED:20220821T142849Z
LAST-MODIFIED:20220825T152439Z
UID:10586-1663372800-1663459199@www.cometaoff.it
SUMMARY:EUNOMOS TOUR 2022
DESCRIPTION:EUNOMOS TOUR 2022\nDARMAN\nData Unica sabato 17 settembre 2022 h 21.00\nIl 17 giugno è uscito Agay\, il nuovo singolo di Darman con il featuring di Christian Lisi alle congas. Il cantautore calabrese dopo il successo dei tre album precedenti pubblicati dall’etichetta Ayawasca Sciamani Musicali\, torna con un nuovo brano una scheggia emotiva nata in quell’attimo cristallizzato sulla spiaggia di Agay\, in Costa Azzurra. \nIl Tour continua al Teatro Cometa Off\, per l’unica data Romana del 2022. \nBiglietto Unico: € 10\,00 (+ tessera associativa da fare almeno un giorno prima di venire a Teatro)\nPrenotazione OBBLIGATORIA allo 06 57284637\nBiglietti non vendibili ON-LINE\n  \nTEATRO COMETA OFF \nVia Luca della Robbia 47 (angolo Piazza Testaccio) \nInfoline e prenotazioni : 06 57284637 \nemail : cometa.off@cometa.org \nTeatro sanificato nel rispetto delle misure ANTICOVID. \nPer partecipare all’evento devi essere socio di Cometa Off\nASSOCIATI
URL:https://www.cometaoff.it/evento/eunomos-tour-2022/
LOCATION:Teatro Cometa Off\, Via Luca della Robbia\, 47\, Roma\, RM\, 00157\, Italy
CATEGORIES:2022-2023
ATTACH;FMTTYPE=image/jpeg:https://www.cometaoff.it/wp-content/uploads/2022/08/WhatsApp-Image-2022-08-19-at-13.38.55.jpeg
END:VEVENT
END:VCALENDAR