BEGIN:VCALENDAR
VERSION:2.0
PRODID:-//Teatro Cometa Off - ECPv6.15.20//NONSGML v1.0//EN
CALSCALE:GREGORIAN
METHOD:PUBLISH
X-ORIGINAL-URL:https://www.cometaoff.it
X-WR-CALDESC:Eventi per Teatro Cometa Off
REFRESH-INTERVAL;VALUE=DURATION:PT1H
X-Robots-Tag:noindex
X-PUBLISHED-TTL:PT1H
BEGIN:VTIMEZONE
TZID:Europe/Rome
BEGIN:DAYLIGHT
TZOFFSETFROM:+0100
TZOFFSETTO:+0200
TZNAME:CEST
DTSTART:20210328T010000
END:DAYLIGHT
BEGIN:STANDARD
TZOFFSETFROM:+0200
TZOFFSETTO:+0100
TZNAME:CET
DTSTART:20211031T010000
END:STANDARD
BEGIN:DAYLIGHT
TZOFFSETFROM:+0100
TZOFFSETTO:+0200
TZNAME:CEST
DTSTART:20220327T010000
END:DAYLIGHT
BEGIN:STANDARD
TZOFFSETFROM:+0200
TZOFFSETTO:+0100
TZNAME:CET
DTSTART:20221030T010000
END:STANDARD
BEGIN:DAYLIGHT
TZOFFSETFROM:+0100
TZOFFSETTO:+0200
TZNAME:CEST
DTSTART:20230326T010000
END:DAYLIGHT
BEGIN:STANDARD
TZOFFSETFROM:+0200
TZOFFSETTO:+0100
TZNAME:CET
DTSTART:20231029T010000
END:STANDARD
END:VTIMEZONE
BEGIN:VEVENT
DTSTART;VALUE=DATE:20221122
DTEND;VALUE=DATE:20221219
DTSTAMP:20260420T162856
CREATED:20220928T120812Z
LAST-MODIFIED:20221206T182219Z
UID:10736-1669075200-1671407999@www.cometaoff.it
SUMMARY:DIARIO DI UN INADEGUATO
DESCRIPTION:Società per Attori in collaborazione con  Altra Scena art management \npresentano \nDIARIO DI UN INADEGUATO\ndi Emanuele Salce \ncon la collaborazione di Andrea Pergolari \ncon : Emanuele Salce e Paolo Giommarelli \nRegia di Giuseppe Marini \nMusiche : Paolo Coletta \nDisegno Luci : Giacomo Cursi – Costumi : Duma D’Andrea – Assistente alla Regia : Marta Selvaggio  \n  \n  \nCon il suo nuovo spettacolo Emanuele Salce rinnova\, a dodici anni di distanza dal fortunatissimo “Mumble Mumble“\, quell’esigenza impudica di confessare sul palco\, tra verità e finzione\, un vissuto che reclama di essere raccontato\, condiviso e quindi esorcizzato. Tra l’intimità del diario e lo straniamento dell’ironia\, nel flusso ininterrotto della drammaturgia\, fatti\, personaggi ed intenzioni orbitano intorno ad un privato che nel momento stesso della sua esibizione si fa testimone di sentimenti ed emozioni universali. \nUn racconto in due tempi\, dal tono tragicomico. \nDue attori in un camerino discutono di uno spettacolo da farsi. \nUn narratore ed un maieuta che cercano di comporre una struttura da idee\, fatti e personaggi tratti dalla propria esperienza. Con l’esigenza di esprimersi e di continuare\, da una parte\, a scavare nel proprio vissuto e dall’altra\, con la voglia di mettersi in gioco\, di scommettere con una posta alta. \nAl centro l’ansia e la preoccupazione per un opera seconda\, spauracchio inesorabile e ostacolo inevitabile per chiunque abbia l’esigenza di esporre una emozione artistica. \nDa questa struttura al quadrato\, che mette in scena uno spettacolo e il suo farsi\, si estraggono due storie intime\, due pagine dal diario privato\, sofferto e sarcastico\, di un uomo inadeguato all’amore e alla morte e quindi alla vita. \nEcco Il Diario di un Inadeguato. \n? Le repliche di Mercoledì 7 Dicembre e Giovedì 8 Dicembre sono annullate ❌\n? Ci vediamo Venerdì 9 Dicembre alle ore 21.00 ? ?\nDa Mercoledì 22 Novembre a  Sabato 26 Novembre ore 21.00 – Domenica 27 Novembre ore 17.30 \nDa Martedì 29 Novembre a Sabato 03 Dicembre ore 21.00 – Domenica 04 Dicembre ore 17.30 \nDa Martedì 06 Dicembre a  Sabato 10 Dicembre ore 21.00 – Domenica 11 Dicembre ore 17.30 \nDa Martedì 13 Dicembre a  Sabato 17 Dicembre ore 21.00 – Domenica 18 Dicembre ore 17.30 \n  \nBiglietto Intero Botteghino :  € 15\,00 (+ tessera associativa di € 2\,50) \n  \nL’evento è riservato ESCLUSIVAMENTE ai soci di Cometa Off. \n? 1) Prima ASSOCIATI qui ?\nASSOCIATI\n? 2) Poi acquista i biglietti ON-LINE ?\nBIGLIETTI\n  \nTEATRO COMETA OFF\nVia Luca della Robbia 47 (angolo Piazza Testaccio) \nInfoline e prenotazioni : 06 57284637 \nemail : cometa.off@cometa.org \nTeatro sanificato nel rispetto delle misure ANTICOVID.
URL:https://www.cometaoff.it/evento/diario-di-un-inadeguato/
LOCATION:Teatro Cometa Off\, Via Luca della Robbia\, 47\, Roma\, RM\, 00157\, Italy
CATEGORIES:2022-2023
ATTACH;FMTTYPE=image/jpeg:https://www.cometaoff.it/wp-content/uploads/2022/09/ddui_websitebanner.jpg
END:VEVENT
BEGIN:VEVENT
DTSTART;VALUE=DATE:20221211
DTEND;VALUE=DATE:20221212
DTSTAMP:20260420T162857
CREATED:20220916T172444Z
LAST-MODIFIED:20220920T165437Z
UID:10666-1670716800-1670803199@www.cometaoff.it
SUMMARY:LA REGINA DELLE NEVI
DESCRIPTION:Compagnia Teatro A – Associazione Culturale Ariadne\npresenta \nLA REGINA DELLE NEVI\ncon \nCristina Colonnetti\,Tomas Acosta e Andrea Stefani \nRegia di : Valeria Freiberg \nTorna in scena al Cometa Off la Compagnia Teatro A – Associazione Ariadne con “Le fiabe della nostra infanzia”\, format di successo che ha conquistato intere famiglie.\nIn cartellone tre favole per bambini rivisitate in chiave moderna e dirette dalla regista Valeria Freiberg: Diario dei cattivi consigli\, in scena domenica 16 e 30 ottobre. Grimmrock I musicisti di Brema in programmazione nel mese di novembre (domenica 20 e 27 novembre). L’anno si chiude infine con La regina delle nevi allestita domenica 11 e 18 dicembre. Protagonisti Tomas Acosta\, Andrea Stefani e Cristina Colonnetti. \n“Diario dei cattivi consigli” ha per protagonista un giovane particolare. Ha un’anima vivace e birichina. È capace di unire la timidezza e la vanità\, i capricci e l’affetto\, l’avidità e il risentimento\, l’infinita fiducia in se stesso e la tristezza – tutto ciò che paradossalmente riempie il mondo interiore di un bambino. \n“GrimmRock” è uno spettacolo multimediale\, coniuga teatro di prosa\, poesia\, musica\, balletti e gioco. Si vuole coinvolgere i bambini nel gioco teatrale dandogli la possibilità di esprimere loro stessi. Protagonisti il giovane Trovatore e i suoi amici; un asino\, un cane\, un gatto e un gallo che giungono a Brema per allestire uno spettacolo musicale. \n“La Regina delle Nevi”\, la fiaba dello scrittore danese Hans Christian Andersen\, nella rilettura dello scrittore e sceneggiatore russo Evgenij L’vovič Švarc. Una storia di coraggio e di amicizia\, che spingerà Gerda\, protagonista del racconto\, a partire alla ricerca dell’amico scomparso Kay\, fino al castello della glaciale Regina delle Nevi. \n“Il linguaggio della fiaba – spiega la regista – è ricco e variegato\, sospeso tra poesia e incantesimo\, utilizziamo nelle pièce immagini animate proiettate a ricreare atmosfere fiabesche in cui i bimbi possono immergersi”. \nInfoline :   Whatsapp:+39-3714125639 – e.mail: ateatro.assariadne@gmail.com – cell: 3313584190 \nUfficio Stampa :  Monica Menna – mobile 328.9448311 – email : monicapress88@gmail.com \nBiglietto Intero : € 10.00 (+ tessera associativa di € 2\,50)\nDomenica 11 Dicembre ore 09.30 e 11.00 \nDomenica 18 Dicembre ore 09.30 e 11.00 \n  \nTEATRO COMETA OFF\nVia Luca della Robbia 47 (angolo Piazza Testaccio) \nInfoline e prenotazioni : 06 57284637 \nemail : cometa.off@cometa.org \nTeatro sanificato nel rispetto delle misure ANTICOVID. \nPer partecipare all’evento devi essere socio dell’Associazione Culturale Cometa Off\nASSOCIATI
URL:https://www.cometaoff.it/evento/la-regina-delle-nevi-11-dicembre/
LOCATION:Teatro Cometa Off\, Via Luca della Robbia\, 47\, Roma\, RM\, 00157\, Italy
CATEGORIES:2022-2023
ATTACH;FMTTYPE=image/jpeg:https://www.cometaoff.it/wp-content/uploads/2022/09/3-La-Regina-delle-Nevi-compressed.jpg
ORGANIZER;CN="Associazione Culturale Ariadne":MAILTO:ateatro.assariadne@gmail.com
END:VEVENT
BEGIN:VEVENT
DTSTART;VALUE=DATE:20221218
DTEND;VALUE=DATE:20221219
DTSTAMP:20260420T162857
CREATED:20220916T172559Z
LAST-MODIFIED:20220920T165503Z
UID:10669-1671321600-1671407999@www.cometaoff.it
SUMMARY:LA REGINA DELLE NEVI
DESCRIPTION:Compagnia Teatro A – Associazione Culturale Ariadne\npresenta \nLA REGINA DELLE NEVI\ncon \nCristina Colonnetti\,Tomas Acosta e Andrea Stefani \nRegia di : Valeria Freiberg \nTorna in scena al Cometa Off la Compagnia Teatro A – Associazione Ariadne con “Le fiabe della nostra infanzia”\, format di successo che ha conquistato intere famiglie.\nIn cartellone tre favole per bambini rivisitate in chiave moderna e dirette dalla regista Valeria Freiberg: Diario dei cattivi consigli\, in scena domenica 16 e 30 ottobre. Grimmrock I musicisti di Brema in programmazione nel mese di novembre (domenica 20 e 27 novembre). L’anno si chiude infine con La regina delle nevi allestita domenica 11 e 18 dicembre. Protagonisti Tomas Acosta\, Andrea Stefani e Cristina Colonnetti. \n“Diario dei cattivi consigli” ha per protagonista un giovane particolare. Ha un’anima vivace e birichina. È capace di unire la timidezza e la vanità\, i capricci e l’affetto\, l’avidità e il risentimento\, l’infinita fiducia in se stesso e la tristezza – tutto ciò che paradossalmente riempie il mondo interiore di un bambino. \n“GrimmRock” è uno spettacolo multimediale\, coniuga teatro di prosa\, poesia\, musica\, balletti e gioco. Si vuole coinvolgere i bambini nel gioco teatrale dandogli la possibilità di esprimere loro stessi. Protagonisti il giovane Trovatore e i suoi amici; un asino\, un cane\, un gatto e un gallo che giungono a Brema per allestire uno spettacolo musicale. \n“La Regina delle Nevi”\, la fiaba dello scrittore danese Hans Christian Andersen\, nella rilettura dello scrittore e sceneggiatore russo Evgenij L’vovič Švarc. Una storia di coraggio e di amicizia\, che spingerà Gerda\, protagonista del racconto\, a partire alla ricerca dell’amico scomparso Kay\, fino al castello della glaciale Regina delle Nevi. \n“Il linguaggio della fiaba – spiega la regista – è ricco e variegato\, sospeso tra poesia e incantesimo\, utilizziamo nelle pièce immagini animate proiettate a ricreare atmosfere fiabesche in cui i bimbi possono immergersi”. \nInfoline :   Whatsapp:+39-3714125639 – e.mail: ateatro.assariadne@gmail.com – cell: 3313584190 \nUfficio Stampa :  Monica Menna – mobile 328.9448311 – email : monicapress88@gmail.com \nBiglietto Intero : € 10.00 (+ tessera associativa di € 2\,50)\nDomenica 11 Dicembre ore 09.30 e 11.00 \nDomenica 18 Dicembre ore 09.30 e 11.00 \n  \nTEATRO COMETA OFF\nVia Luca della Robbia 47 (angolo Piazza Testaccio) \nInfoline e prenotazioni : 06 57284637 \nemail : cometa.off@cometa.org \nTeatro sanificato nel rispetto delle misure ANTICOVID. \nPer partecipare all’evento devi essere socio dell’Associazione Culturale Cometa Off\nASSOCIATI
URL:https://www.cometaoff.it/evento/la-regina-delle-nevi-18-dicembre/
LOCATION:Teatro Cometa Off\, Via Luca della Robbia\, 47\, Roma\, RM\, 00157\, Italy
CATEGORIES:2022-2023
ATTACH;FMTTYPE=image/jpeg:https://www.cometaoff.it/wp-content/uploads/2022/09/3-La-Regina-delle-Nevi-compressed.jpg
ORGANIZER;CN="Associazione Culturale Ariadne":MAILTO:ateatro.assariadne@gmail.com
END:VEVENT
BEGIN:VEVENT
DTSTART;VALUE=DATE:20221222
DTEND;VALUE=DATE:20221223
DTSTAMP:20260420T162857
CREATED:20221204T200242Z
LAST-MODIFIED:20221204T200355Z
UID:11900-1671667200-1671753599@www.cometaoff.it
SUMMARY:SALOME'
DESCRIPTION:Collettivo Cenerentola \npresenta \nSALOME’\nda O. Wilde e G. Flaubert \nadattamento e regia di Francesco Lonano \ncon Eleonora Cimafonte\, Dario Guidi\, Katia D’Ambrosio \ndrammaturgia : Sabrina Fasanella – Musica dal vivo : Dario Guidi \ncostumi : Daiana Biondo – Scene : Fonderia Artistica Ruocco \n“Ogni uomo è chiuso in una cisterna. Ma per molti è più facile stare in catene che essere in libertà”.\nSalomè non è che un’ombra nei testi sacri. La sua leggenda ha attraversato i secoli e tanti autori hanno condensato nella sua figura gli archetipi della tentazione e della volubilità umana. Eppure la sua storia racconta molto di più\, descrive il nostro tempo. Rifacendosi ai testi di Wilde e Flaubert\, il collettivo Cenerentola porta in scena una storia di amore\, potere\, sesso e morte. Come perno fatale\, Salomè attiva attorno a sé i destini di Erode\, di Erodiade\, di Giovanni il Battista. Quest’ultimo è una presenza invisibile\, presagio latente\, che insieme attrae e respinge Salomè (Katia D’ambrosio). Erode (Eleonora Cimafonte) ed Erodiade (Dario Guidi) rincorrono l’inevitabile sorte di chi\, credendo di comandare\, è comandato. Sul fondo della cisterna\, spicca la purezza di Narraboth e del suo amore incontaminato per la principessa. Ma questo amore non può da solo reggere il peso di tanta oscurità. La luna\, presenza costante\, cangiante e viva\, sembra scrutare dall’alto la miseria di chi la contempla.\nLa riflessione sulla doppiezza\, sul potere e la volubilità umana è stato al centro del lavoro attoriale e registico. Giocando su una compresenza di ruoli e inclinazioni\, vogliamo restituire la parabola di un’umanità alla deriva\, schiava del desiderio e oppressa dal senso della fine incombente\, tragicamente speculare alla nostra quotidianità contemporanea. \n  \nGiovedì 22 Dicembre 2022 ore 21.00 \n  \nBiglietto Intero Botteghino :  € 12\,50  – Ridotto Botteghino : € 7\,50 (+ tessera associativa di € 2\,50) \n  \nL’evento è riservato ESCLUSIVAMENTE ai soci di Cometa Off. \n? ASSOCIATI qui ?\nASSOCIATI\n  \nTEATRO COMETA OFF\nVia Luca della Robbia 47 (angolo Piazza Testaccio) \nInfoline e prenotazioni : 06 57284637 \nemail : cometa.off@cometa.org \nTeatro sanificato nel rispetto delle misure ANTICOVID.
URL:https://www.cometaoff.it/evento/salome/
LOCATION:Teatro Cometa Off\, Via Luca della Robbia\, 47\, Roma\, RM\, 00157\, Italy
CATEGORIES:2022-2023
ATTACH;FMTTYPE=image/jpeg:https://www.cometaoff.it/wp-content/uploads/2022/12/Salome-Roma.jpeg
END:VEVENT
BEGIN:VEVENT
DTSTART;VALUE=DATE:20221223
DTEND;VALUE=DATE:20221224
DTSTAMP:20260420T162857
CREATED:20221121T193817Z
LAST-MODIFIED:20221128T190357Z
UID:11797-1671753600-1671839999@www.cometaoff.it
SUMMARY:IL CANTO DI NATALE DELLA ZIA
DESCRIPTION:Accademia delle Star – Stanze BIT \npresenta \nIL CANTO DI NATALE DELLA ZIA\ncon : Matteo D’Incoronato\, Lorenzo Balestra\, Caterina Petrucci e Angela Di Domenico \nRegia di : Valeria Andreozzi e Ksenija Trbovic Pellegrini \nIl canto di Natale della Zia.\nCommedia brillante musicale\, messa in scena dalla compagnia Stanze BIT insieme all’Accademia delle Star con 20 attori\, riprende il celebre Canto di Natale.\nLo spettacolo è un viaggio nel tempo di una “zia”\, cinica e avida\, che detesta il Natale\, non sopporta i festeggiamenti e vive la sua vita solo in base ai ricavi che può ottenere.\nLa zia ha perso il valore delle relazioni umane e ha chiuso il suo cuore in una cassaforte come i suoi denari.\nVari spiriti appaiono a lei assumendo diverse forme: creature danzanti\, entità canterine\, voci profonde\, tutti insieme\, facendole anche un po’ paura\, riescono a farle ritrovare una parte di sé\, che neanche lei stessa credeva di avere più.\nEsiste un solo modo per cambiare il futuro\, essere diversi nel momento presente\, assumendosi la responsabilità della nostra vita e indirizzandola al meglio delle nostre possibilità.\nFatevi coinvolgere nella Magia di Natale presso il Teatro Cometa Off il giorno 23 Dicembre 2022 a ridosso della Vigilia di Natale! Ci saranno 2 spettacoli\, il primo ore 18.00 e il secondo ore 20.30. Vi aspettiamo! \nBiglietto Unico : € 13.00 (+ tessera associativa di € 2\,50)\nVenerdì 23 Dicembre ore 18.00 e ore 20.30 \n  \nTEATRO COMETA OFF\nVia Luca della Robbia 47 (angolo Piazza Testaccio) \nInfoline e prenotazioni : 06 57284637 \nemail : cometa.off@cometa.org \nTeatro sanificato nel rispetto delle misure ANTICOVID. \nPer partecipare all’evento devi essere socio dell’Associazione Culturale Cometa Off\nASSOCIATI
URL:https://www.cometaoff.it/evento/il-canto-di-natale-della-zia/
LOCATION:Teatro Cometa Off\, Via Luca della Robbia\, 47\, Roma\, RM\, 00157\, Italy
CATEGORIES:2022-2023
ATTACH;FMTTYPE=image/jpeg:https://www.cometaoff.it/wp-content/uploads/2022/11/WhatsApp-Image-2022-11-21-at-10.32.35.jpeg
END:VEVENT
BEGIN:VEVENT
DTSTART;VALUE=DATE:20221226
DTEND;VALUE=DATE:20221227
DTSTAMP:20260420T162857
CREATED:20221211T140754Z
LAST-MODIFIED:20221211T140754Z
UID:11951-1672012800-1672099199@www.cometaoff.it
SUMMARY:AMBO CO' LEMBO
DESCRIPTION:AMBO CO’ LEMBO\nShow e Tombolata \ncon : Luciano Lembo \npresenta : Giancarlo Gagliardi e….ospiti a sorpresa \nSanto Stefano a Teatro con l’artista romano Luciano Lembo.(Radio Globo\, Comedy Central\,Colorado Cafè).\nTra gags comiche\,musica e improvvisazione con il pubblico\, sarà come trascorrere la Festa a casa di Amici.\nLa tombola che coinvolgerà tutto il pubblico (ognuno con la sua cartella) farà da atmosfera natalizia.\nInsomma…UNA FESTA CONDIVISA. \n  \nLunedì 26 Dicembre 2022 alle ore 18.00  \n  \nBiglietto Unico Botteghino :  € 12\,50  (+ tessera associativa di € 2\,50) \n  \nL’evento è riservato ESCLUSIVAMENTE ai soci di Cometa Off. \n? ASSOCIATI qui ?\nASSOCIATI\n  \nTEATRO COMETA OFF\nVia Luca della Robbia 47 (angolo Piazza Testaccio) \nInfoline e prenotazioni : 06 57284637 \nemail : cometa.off@cometa.org \nTeatro sanificato nel rispetto delle misure ANTICOVID.
URL:https://www.cometaoff.it/evento/ambo-co-lembo/
LOCATION:Teatro Cometa Off\, Via Luca della Robbia\, 47\, Roma\, RM\, 00157\, Italy
CATEGORIES:2022-2023
ATTACH;FMTTYPE=image/jpeg:https://www.cometaoff.it/wp-content/uploads/2022/12/locandina-26-dicembre.jpeg
END:VEVENT
BEGIN:VEVENT
DTSTART;VALUE=DATE:20221227
DTEND;VALUE=DATE:20221231
DTSTAMP:20260420T162857
CREATED:20220928T134451Z
LAST-MODIFIED:20221029T165649Z
UID:10751-1672099200-1672444799@www.cometaoff.it
SUMMARY:LEGGERISSIMO ME
DESCRIPTION:Dani Bra \nin \nLEGGERISSIMO ME\ndi  Dani Bra \nScritto con : Maurizio Francabandiera \nRegia : Maurizio Francabandiera \nFonica : Emanuele Puleio \n  \n“Affitto un teatro\, do al pubblico un live\, lo spaparacchio sulla poltrona e il tutto senza telecomando\, quello ce l’ho io\, mi cambio canale\, da solo!”.\nSu per giu questo è il pensiero di Dani Bra\, comico romano divenuto personaggio all’interno della trasmissione “S.C.Q.R.” (Sono Comici Questi Romani) in onda su Sky Comedy e nei vari Lab. Zelig sparsi nella penisola.\nTeatrante prestato al cabaret presenta la sua ultima creatura in chiave comica e non solo.\nLo spettacolo presentato lo scorso anno dal titolo “Wonder Bra” forse\, a detta di Dani\, ha segnato la sua epoca “comicarola”. In “Leggerissimo me” ha voluto mettere in piedi uno show allergico a tutti i contenuti\, la curiosità che fa da anticamera alla risata come è nel suo stile\, uno show non giudicabile\, dove le idee sono in eccesso pronte ad essere esibite al pubblico come nuove “BRAvate”.\nSi spazia dal padre/marito vessato\, al rapporto che si ha con un agente di viaggio\, si mette a nudo una città come New York\, amplifica la sua romanità e si ridimensiona l’Europa Unita\, fantasia dei politicanti di turno\, si vede il mondo dietro una transenna\, si critica la non credibilità televisiva. E mentre tutto questo accade si instaura una presa diretta col pubblico.\nMonologhista\, cantante\, fantasista\, intrattenitore\, in “Leggerissimo me” Dani Bra non cerca di cucir pezze al vestito delle “cabarettate” ma prova a mettergli l’abito più elegante. \nDa Martedì 27 Dicembre a  Venerdì 30 Dicembre ore 21.00 \n  \nBiglietto Intero Botteghino :  € 15\,00 (+ tessera associativa di € 2\,50) \n  \nL’evento è riservato ESCLUSIVAMENTE ai soci di Cometa Off. \n? ASSOCIATI qui ?\nASSOCIATI\n  \nTEATRO COMETA OFF\nVia Luca della Robbia 47 (angolo Piazza Testaccio) \nInfoline e prenotazioni : 06 57284637 \nemail : cometa.off@cometa.org \nTeatro sanificato nel rispetto delle misure ANTICOVID.
URL:https://www.cometaoff.it/evento/leggerissimo-me/
LOCATION:Teatro Cometa Off\, Via Luca della Robbia\, 47\, Roma\, RM\, 00157\, Italy
CATEGORIES:2022-2023
ATTACH;FMTTYPE=image/jpeg:https://www.cometaoff.it/wp-content/uploads/2022/09/Sito-Internet.jpg
END:VEVENT
END:VCALENDAR