BEGIN:VCALENDAR
VERSION:2.0
PRODID:-//Teatro Cometa Off - ECPv6.15.20//NONSGML v1.0//EN
CALSCALE:GREGORIAN
METHOD:PUBLISH
X-WR-CALNAME:Teatro Cometa Off
X-ORIGINAL-URL:https://www.cometaoff.it
X-WR-CALDESC:Eventi per Teatro Cometa Off
REFRESH-INTERVAL;VALUE=DURATION:PT1H
X-Robots-Tag:noindex
X-PUBLISHED-TTL:PT1H
BEGIN:VTIMEZONE
TZID:Europe/Rome
BEGIN:DAYLIGHT
TZOFFSETFROM:+0100
TZOFFSETTO:+0200
TZNAME:CEST
DTSTART:20220327T010000
END:DAYLIGHT
BEGIN:STANDARD
TZOFFSETFROM:+0200
TZOFFSETTO:+0100
TZNAME:CET
DTSTART:20221030T010000
END:STANDARD
BEGIN:DAYLIGHT
TZOFFSETFROM:+0100
TZOFFSETTO:+0200
TZNAME:CEST
DTSTART:20230326T010000
END:DAYLIGHT
BEGIN:STANDARD
TZOFFSETFROM:+0200
TZOFFSETTO:+0100
TZNAME:CET
DTSTART:20231029T010000
END:STANDARD
BEGIN:DAYLIGHT
TZOFFSETFROM:+0100
TZOFFSETTO:+0200
TZNAME:CEST
DTSTART:20240331T010000
END:DAYLIGHT
BEGIN:STANDARD
TZOFFSETFROM:+0200
TZOFFSETTO:+0100
TZNAME:CET
DTSTART:20241027T010000
END:STANDARD
END:VTIMEZONE
BEGIN:VEVENT
DTSTART;VALUE=DATE:20230107
DTEND;VALUE=DATE:20230116
DTSTAMP:20260420T093920
CREATED:20221128T193639Z
LAST-MODIFIED:20230104T133600Z
UID:11864-1673049600-1673827199@www.cometaoff.it
SUMMARY:CASO\, MAI - L'IMPREVEDIBILE VIRTU' DELLA DIGNITA'
DESCRIPTION:Gli Ipocriti – Melina Balsamo \npresenta \nCASO\, MAI – L’imprevedibile virtù della dignità\ndi Simone Guarany \ncon Simone Guarany\, Marco Giustini\, Licia Amendola\, Maria Sessa\, Giulia Bornacin \ne la partecipazione straordinaria di Giorgio Gobbi \nRegia di Licia Amendola e Simone Guarany \nAiuto Regia : Giulia Bornacin – Scenografia e Fotografia : Fabrizio Piergiovanni\nCostumi : G.d.F. Studio – Produzione : Gli Ipocriti\nMusiche originali : Giacomo Vezzani \nMassimiliano e Flaminia vivono insieme. Lui è un artista\, lavora a casa\, per vivere disegna. È una persona estremamente semplice\, un buontempone davvero innamorato della sua fidanzata. Lei lavora come organizzatrice di eventi per una grossa società. È una donna estremamente fragile\, calcolatrice\, intelligente e profonda\, anche se spesso per lei la forma assume più importanza della sostanza. Ogni giorno Flaminia torna a casa dal lavoro e sa che probabilmente si lamenterà del suo fidanzato un po’ disordinato. A volte discutono e a volte finiscono per guardarsi un film\, tutto sommato sono felici e hanno tutta la vita davanti.\nNon lontano\, nella stessa città\, vivono Giuseppe e Paola. Giuseppe ha perso i genitori quando aveva 20 anni e non ha mai guarito la sua rabbia in merito. È uno sportivo\, lavora in palestra. Da un anno e mezzo vive con Paola: dopo anni passati a fare bagordi ha finalmente trovato la persona giusta ma l’essere preso da sé stesso lo porta spesso a non essere troppo corretto con lei. Paola è una persona estremamente semplice\, quasi superficiale\, ma profondamente buona e vera\, incapace di fare del male. Nonostante le sue fragilità e insicurezze\, lei ama incredibilmente Giuseppe e per lui farebbe qualsiasi cosa con devozione. Come ogni coppia\, discutono e vivono piccoli litigi sempre però superati dal profondo legame che\, nonostante tutto\, c’è tra loro.\nE poi arriva la SLA che colpisce come uno schiaffo le vite di Giuseppe e Massimiliano. Le esistenze di queste quattro persone cambiano drasticamente. Dalle scelte più semplici di vita quotidiana\, i due giovani si ritrovano costretti a scegliere se e come vivere il resto della propria vita. Decisioni personali\, ma che coinvolgeranno inevitabilmente la loro vita di coppia.\nAccompagnate dal Dott. Giomberti – uomo mite\, sorridente\, sensibile e di cuore\, brillante neurologo dedito più agli altri che a se stesso – e da Suor Lucia\, infermiera “sui generis”\, le due giovani coppie affronteranno un percorso difficile\, profondo\, tra paure\, domande e nuove consapevolezze: una tra tutte\, che il caso non esiste\, mai. Tutti\, nessuno escluso\, ne usciranno trasformati. \n  \nSabato 07 Gennaio 2023 ore 21.00 – Domenica 08 Gennaio 2023 ore 18.00   \nDa Martedì 10 Gennaio 2023 a Sabato 14 Gennaio 2023 ore 21.00 –  Domenica 15 Gennaio 2023 ore 18.00 \n  \nBiglietto Intero Botteghino :  € 17\,50  – Promozione ONLINE : € 14\,99 (+ tessera associativa di € 2\,50) \n  \nL’evento è riservato ESCLUSIVAMENTE ai soci di Cometa Off. \n? 1) Prima ASSOCIATI qui ?\nASSOCIATI\n? 2) Poi acquista i biglietti ON-LINE ?\nBIGLIETTI\n  \nTEATRO COMETA OFF\nVia Luca della Robbia 47 (angolo Piazza Testaccio) \nInfoline e prenotazioni : 06 57284637 \nemail : cometa.off@cometa.org \nTeatro sanificato nel rispetto delle misure ANTICOVID.
URL:https://www.cometaoff.it/evento/caso-mai-2023/
LOCATION:Teatro Cometa Off\, Via Luca della Robbia\, 47\, Roma\, RM\, 00157\, Italy
CATEGORIES:2022-2023
ATTACH;FMTTYPE=image/jpeg:https://www.cometaoff.it/wp-content/uploads/2022/11/Caso-Mai-2023-scaled.jpg
END:VEVENT
BEGIN:VEVENT
DTSTART;VALUE=DATE:20230118
DTEND;VALUE=DATE:20230124
DTSTAMP:20260420T093920
CREATED:20230103T191724Z
LAST-MODIFIED:20230119T235027Z
UID:12032-1674000000-1674518399@www.cometaoff.it
SUMMARY:TUTTO A POSTO
DESCRIPTION:Associazione Culturale Garrincha e MB International World Art \npresentano \nTUTTO A POSTO\ndi Giacomo Ciarrapico e Mattia Torre \ncon : Clarissa Curulli\, Federico Maria Galante\, Giacomo Ciarrapico Jr.\, Giuseppe Zep Ragone\, Kabir Tavani e Marco Landola \nRegia di Maurizio Lops \nAiuto Regia  : Sofia Ferrero – Musiche : Giuliano Taviani \nOrganizzazione Generale : Susan El Sawi e Giovanni Cipolletta \n  \nTorna dopo 28 anni “TUTTO A POSTO”\, uno spettacolo teatrale brillante interpretato da sei giovani attori del panorama artistico italiano\, guidati dall’eccellente penna di Giacomo Ciarrapico e Mattia Torre.\nSotto l’attenta regia di Maurizio Lops questo spettacolo\, che debuttò nel 1994 sempre al teatro Cometa Off\, illustra i sottili equilibri che regolano la vita di ogni uomo e di ogni donna: il rapporto tra il bello e il brutto\, il visibile e l’invisibile e tra cosa è giusto e cosa è sbagliato.\nL’estrema contemporaneità del testo permette di parlare in maniera diretta ad un pubblico ampio utilizzando l’ironia come mezzo per esorcizzare l’inquietudine del vero. \n\nDa Mercoledì 18 Gennaio a Sabato 21 Gennaio 2023 alle ore 21.00  \n? Replica straordinaria Sabato 21 Gennaio 2023 alle ore 18.00 ?\nDomenica 22 Gennaio 2023  ore 18.00 \n  \nBiglietto Intero Botteghino :  € 15\,00 – Biglietto Ridotto Botteghino : € 12\,50 – Biglietto Bambini inferiori 14 anni : € 10\,00 (+ tessera associativa di € 2\,50) \n  \nL’evento è riservato ESCLUSIVAMENTE ai soci di Cometa Off. \n? ASSOCIATI qui ?\nASSOCIATI\n  \nTEATRO COMETA OFF\nVia Luca della Robbia 47 (angolo Piazza Testaccio) \nInfoline e prenotazioni : 06 57284637 \nemail : cometa.off@cometa.org \nTeatro sanificato nel rispetto delle misure ANTICOVID.
URL:https://www.cometaoff.it/evento/tutto-a-posto/
LOCATION:Teatro Cometa Off\, Via Luca della Robbia\, 47\, Roma\, RM\, 00157\, Italy
CATEGORIES:2022-2023
ATTACH;FMTTYPE=image/jpeg:https://www.cometaoff.it/wp-content/uploads/2023/01/Tutto-a-posto.jpeg
END:VEVENT
BEGIN:VEVENT
DTSTART;VALUE=DATE:20230124
DTEND;VALUE=DATE:20230130
DTSTAMP:20260420T093920
CREATED:20230103T212120Z
LAST-MODIFIED:20230103T212223Z
UID:12037-1674518400-1675036799@www.cometaoff.it
SUMMARY:L'AMICO RITROVATO
DESCRIPTION:Studio Antares Produzioni \npresenta \nL’AMICO RITROVATO\nSpettacolo Realizzato in occasione del Giorno della Memoria 2023 \n Traduzione e adattamento dal libro REUNION di Fred Uhlman\na cura di Alessandro Sena e Marco Tassotti \ncon : Alessio Chiodini\, Alessandra Cosimato\, Marco Fiorini e Vittoria Rossi \nRegia di Alessandro Sena \nAiuto Regia  : Simonetta Di Coste – Disegno Luci : Mattia Albanese \nConsulenza musiche : Peste – Ufficio Stampa : Maresa Palmacci \n  \nTratto dall’omonimo libro edito in tutto il mondo con uno straordinario successo di pubblico e di critica\, l’Amico Ritrovato racconta l’amicizia nata sui banchi di scuola tra Hans e Konradin\, due ragazzi legati da una sincera e profonda amicizia\, improvvisamente interrotta dalle leggi razziali emanate da Hitler nel 1935 attraverso il Partito Nazionalsocialista. Il solido legame fra un ragazzo ebreo e uno tedesco\, viene compromesso da episodi che divideranno per sempre le vite dei due giovani amici\, fino a quando una lettera pervenuta ad Hans\, dopo molti anni dalla sua separazione da Konradin\, riscriverà in modo inaspettato una parte del loro passato. \nAlessandro Sena firma la sua regia più intimista avvalendosi di un adattamento scritto in collaborazione con Marco Tassotti per raccontare una storia fra due ragazzi che si sono amati attraverso il sentimento dell’amicizia\, costretti a separarsi dalle loro vite e da loro stessi\, a causa degli orrori causati dal Nazismo.\nUno spettacolo dove la parola\, il movimento e la musica\, creano un forte impatto scenico nel quale i personaggi si muovono in momenti storici diversi: gli anni ‘70\, nei quali Hans ricorda la sua storia con Konradin e gli anni ‘30\, nei quali Konradin in prima persona vive il suo rapporto con Hans\, dando vita ad una suggestiva performance che parla di una amicizia speciale\, come sentimento che unisce le persone e che riempie la vita. \n  \nDa Martedì 24 Gennaio a Sabato 28 Gennaio 2023 alle ore 21.00  \nDomenica 29 Gennaio 2023  ore 18.00 \n  \nBiglietto Intero Botteghino :  € 16\,00 – Biglietto Ridotto Botteghino : € 12\,50 (+ tessera associativa di € 2\,50) \n  \nL’evento è riservato ESCLUSIVAMENTE ai soci di Cometa Off. \n? ASSOCIATI qui ?\nASSOCIATI\n  \nTEATRO COMETA OFF\nVia Luca della Robbia 47 (angolo Piazza Testaccio) \nInfoline e prenotazioni : 06 57284637 \nemail : cometa.off@cometa.org \nTeatro sanificato nel rispetto delle misure ANTICOVID.
URL:https://www.cometaoff.it/evento/l-amico-ritrovato-2023/
LOCATION:Teatro Cometa Off\, Via Luca della Robbia\, 47\, Roma\, RM\, 00157\, Italy
CATEGORIES:2022-2023
ATTACH;FMTTYPE=image/jpeg:https://www.cometaoff.it/wp-content/uploads/2023/01/LOCANDINA-LAMICO-RITROVATO-2023-UV-JPG-e1672781638958.jpg
ORGANIZER;CN="I Giardini di Antares":MAILTO:igiardinidiantares@libero.it
END:VEVENT
BEGIN:VEVENT
DTSTART;VALUE=DATE:20230131
DTEND;VALUE=DATE:20230206
DTSTAMP:20260420T093920
CREATED:20221208T194839Z
LAST-MODIFIED:20230105T183624Z
UID:11936-1675123200-1675641599@www.cometaoff.it
SUMMARY:FIORI DI CAMPO
DESCRIPTION:FIORI DI CAMPO\nscritto e diretto da Siddhartha Prestinari \ncon (in ordine alfabetico) : Alessandra Berton\, Alberto Bognanni\, Manfredi Gelmetti\, Marco Giandomenico\, Caterina Gramaglia\, Paolo Perinelli e Giada Prandi \ndisegno luci : Tony Di Tore – Assistente Regia : Alessandra Berton \ncoreografie : Manfredi Gelmetti – Foto di scena : Daniele Cama \nbackstage : Simone Bonacci – Ufficio Stampa : Elisa Fantinel \nE’ il giorno dei morti. Il bagliore dei lumini rischiara il via vai di coloro che vengono a salutare i propri cari in un momento di preghiera\, di raccoglimento. Al di là del cancello si cristallizza la vita di tutti i giorni. Al di qua del cancello i passi si fanno più leggeri\, lenti\, le voci sussurrate. I gesti degli astanti assumono movenze composte\, rispettose e si ripetono puntuali: ripulire la tomba dalle foglie secche\, spolverare la foto del proprio amato\, ravvivare con nuovi fiori il grigio della lapide e la mancanza che la onora. Seppur la vita resti fuori\, in attesa\, come un cane al guinzaglio\, ogni avventore se la porta addosso la sua storia da raccontare o tacere e tra le lucciole prendono forma racconti struggenti\, crudeli\, tanto paradossali quanto divertenti. C’è chi piange\, chi urla\, chi deride e chi ascolta. \n  \nDa Martedì 31 Gennaio 2023 a  Sabato 04 Febbraio 2023 alle ore 21.00 \nDomenica 05 Febbraio 2023 alle ore 18.00  \n  \nBiglietto Unico Botteghino :  € 17\,50  (+ tessera associativa di € 2\,50) \n  \nL’evento è riservato ESCLUSIVAMENTE ai soci di Cometa Off. \n? ASSOCIATI qui ?\nASSOCIATI\n  \nTEATRO COMETA OFF\nVia Luca della Robbia 47 (angolo Piazza Testaccio) \nInfoline e prenotazioni : 06 57284637 \nemail : cometa.off@cometa.org \nTeatro sanificato nel rispetto delle misure ANTICOVID.
URL:https://www.cometaoff.it/evento/fiori-di-campo/
LOCATION:Teatro Cometa Off\, Via Luca della Robbia\, 47\, Roma\, RM\, 00157\, Italy
CATEGORIES:2022-2023
ATTACH;FMTTYPE=image/jpeg:https://www.cometaoff.it/wp-content/uploads/2022/12/locandina-cometa-off-scaled.jpg
END:VEVENT
END:VCALENDAR