BEGIN:VCALENDAR
VERSION:2.0
PRODID:-//Teatro Cometa Off - ECPv6.15.20//NONSGML v1.0//EN
CALSCALE:GREGORIAN
METHOD:PUBLISH
X-ORIGINAL-URL:https://www.cometaoff.it
X-WR-CALDESC:Eventi per Teatro Cometa Off
REFRESH-INTERVAL;VALUE=DURATION:PT1H
X-Robots-Tag:noindex
X-PUBLISHED-TTL:PT1H
BEGIN:VTIMEZONE
TZID:Europe/Rome
BEGIN:DAYLIGHT
TZOFFSETFROM:+0100
TZOFFSETTO:+0200
TZNAME:CEST
DTSTART:20220327T010000
END:DAYLIGHT
BEGIN:STANDARD
TZOFFSETFROM:+0200
TZOFFSETTO:+0100
TZNAME:CET
DTSTART:20221030T010000
END:STANDARD
BEGIN:DAYLIGHT
TZOFFSETFROM:+0100
TZOFFSETTO:+0200
TZNAME:CEST
DTSTART:20230326T010000
END:DAYLIGHT
BEGIN:STANDARD
TZOFFSETFROM:+0200
TZOFFSETTO:+0100
TZNAME:CET
DTSTART:20231029T010000
END:STANDARD
BEGIN:DAYLIGHT
TZOFFSETFROM:+0100
TZOFFSETTO:+0200
TZNAME:CEST
DTSTART:20240331T010000
END:DAYLIGHT
BEGIN:STANDARD
TZOFFSETFROM:+0200
TZOFFSETTO:+0100
TZNAME:CET
DTSTART:20241027T010000
END:STANDARD
END:VTIMEZONE
BEGIN:VEVENT
DTSTART;VALUE=DATE:20230131
DTEND;VALUE=DATE:20230206
DTSTAMP:20260420T094017
CREATED:20221208T194839Z
LAST-MODIFIED:20230105T183624Z
UID:11936-1675123200-1675641599@www.cometaoff.it
SUMMARY:FIORI DI CAMPO
DESCRIPTION:FIORI DI CAMPO\nscritto e diretto da Siddhartha Prestinari \ncon (in ordine alfabetico) : Alessandra Berton\, Alberto Bognanni\, Manfredi Gelmetti\, Marco Giandomenico\, Caterina Gramaglia\, Paolo Perinelli e Giada Prandi \ndisegno luci : Tony Di Tore – Assistente Regia : Alessandra Berton \ncoreografie : Manfredi Gelmetti – Foto di scena : Daniele Cama \nbackstage : Simone Bonacci – Ufficio Stampa : Elisa Fantinel \nE’ il giorno dei morti. Il bagliore dei lumini rischiara il via vai di coloro che vengono a salutare i propri cari in un momento di preghiera\, di raccoglimento. Al di là del cancello si cristallizza la vita di tutti i giorni. Al di qua del cancello i passi si fanno più leggeri\, lenti\, le voci sussurrate. I gesti degli astanti assumono movenze composte\, rispettose e si ripetono puntuali: ripulire la tomba dalle foglie secche\, spolverare la foto del proprio amato\, ravvivare con nuovi fiori il grigio della lapide e la mancanza che la onora. Seppur la vita resti fuori\, in attesa\, come un cane al guinzaglio\, ogni avventore se la porta addosso la sua storia da raccontare o tacere e tra le lucciole prendono forma racconti struggenti\, crudeli\, tanto paradossali quanto divertenti. C’è chi piange\, chi urla\, chi deride e chi ascolta. \n  \nDa Martedì 31 Gennaio 2023 a  Sabato 04 Febbraio 2023 alle ore 21.00 \nDomenica 05 Febbraio 2023 alle ore 18.00  \n  \nBiglietto Unico Botteghino :  € 17\,50  (+ tessera associativa di € 2\,50) \n  \nL’evento è riservato ESCLUSIVAMENTE ai soci di Cometa Off. \n? ASSOCIATI qui ?\nASSOCIATI\n  \nTEATRO COMETA OFF\nVia Luca della Robbia 47 (angolo Piazza Testaccio) \nInfoline e prenotazioni : 06 57284637 \nemail : cometa.off@cometa.org \nTeatro sanificato nel rispetto delle misure ANTICOVID.
URL:https://www.cometaoff.it/evento/fiori-di-campo/
LOCATION:Teatro Cometa Off\, Via Luca della Robbia\, 47\, Roma\, RM\, 00157\, Italy
CATEGORIES:2022-2023
ATTACH;FMTTYPE=image/jpeg:https://www.cometaoff.it/wp-content/uploads/2022/12/locandina-cometa-off-scaled.jpg
END:VEVENT
BEGIN:VEVENT
DTSTART;VALUE=DATE:20230207
DTEND;VALUE=DATE:20230213
DTSTAMP:20260420T094017
CREATED:20230115T174955Z
LAST-MODIFIED:20230406T161928Z
UID:12185-1675728000-1676246399@www.cometaoff.it
SUMMARY:IL PIU' BELL'ADDIO
DESCRIPTION:Associazione Culturale Racconti Teatrali \npresenta \nIL PIU’ BELL’ADDIO\nTesto e Regia di Pierpaolo Palladino \nSPETTACOLO REALIZZATO CON IL CONTRIBUTO DEL FONDO PSMSAD\ncon Beatrice Fazi e Marina Zanchi \nScena e costumi : Alessia Sambrini – Musiche originali : Pino Cangialosi \nla voce della signora Sorrentino è di Giulia Ricciardi\naiuto regia : Emanuele Di Luca\norganizzazione : Antonella Lepore\nassistente alla regia : Silvia Attimonelli –  assistente di compagnia : Silvia Magri\nfoto di scena : Emanuele Di Luca\ngrafica: Alessia Sambrini \n  \n“La vicenda si ambienta in un appartamento di due donne\, madre e figlia. Il mobilio dignitoso seppur datato suggerisce un’atmosfera tipica degli interni italiani senza tempo. La scena è circolare: come in quelle palle di vetro che se le giri scende la neve insieme a quei piccoli lustrini che galleggiano nell’acqua. È la “casa di mamma” con il pavimento alla veneziana”.\n(dalle note di scena di Alessia Sambrini). \nIl rapporto fra una madre e una figlia e il loro quotidiano\, fatto di piccole ripicche e di ricordi del passato. Questo lo spunto di partenza di uno spettacolo che ha per protagonista un legame intimo e indissolubile\, una giostra costruita sul conflitto e la riappacificazione\, nel tentativo di elaborare un lungo addio che si svela con l’inserto di telefonate esterne\, tra realismo e immaginazione\, lungo il solco tracciato dall’indissolubile dilemma fra la spietatezza della verità e l’opportunità della menzogna. \nUfficio Stampa Maya Amenduni :  mayaamenduni@gmail.com  \n  \nDa Martedì 07 Febbraio a Venerdì 10 Febbraio 2023 alle ore 21.00  \nSabato 11 Febbraio 2023 Doppia Replica alle ore 17.30 e alle ore 21.00 \nDomenica 12 Gennaio 2023  ore 17.30 \n  \nBiglietto Intero Botteghino :  € 17\,50 – Biglietto Ridotto (Over 65\, Under 26\, CRAL): € 15\,00 (+ tessera associativa di € 2\,50) \n  \nL’evento è riservato ESCLUSIVAMENTE ai soci di Cometa Off. \n? 1) Prima ASSOCIATI qui ?\nASSOCIATI\n? 2) Poi acquista i biglietti ON-LINE ?\nBIGLIETTI\n  \nTEATRO COMETA OFF\nVia Luca della Robbia 47 (angolo Piazza Testaccio) \nInfoline e prenotazioni : 06 57284637 \nemail : cometa.off@cometa.org \nTeatro sanificato nel rispetto delle misure ANTICOVID.
URL:https://www.cometaoff.it/evento/il-piu-bell-addio/
LOCATION:Teatro Cometa Off\, Via Luca della Robbia\, 47\, Roma\, RM\, 00157\, Italy
CATEGORIES:2022-2023
ATTACH;FMTTYPE=image/jpeg:https://www.cometaoff.it/wp-content/uploads/2023/01/locandina-il-piu-belladdio-Psmsad.jpg
END:VEVENT
BEGIN:VEVENT
DTSTART;VALUE=DATE:20230214
DTEND;VALUE=DATE:20230220
DTSTAMP:20260420T094017
CREATED:20230120T170754Z
LAST-MODIFIED:20230211T171829Z
UID:12336-1676332800-1676851199@www.cometaoff.it
SUMMARY:LA CASA DELLE API
DESCRIPTION:La Compagnia InControVerso \npresenta \nLA CASA DELLE API\nTesto e Regia Sargis Galstyan \ncon : Marius Bizău\, Mariné Galstyan\, Manuèl Palumbo – Voce : Giorgio Lupano \ncon la partecipazione di : Stefano Antonucci\, Luca Basile\, Giovanni Bonacci\, Ermanno De Biagi\, Lorenzo Girolami\, Cristiano Leopardi\, Enrica Pintore\, Alessandro Sena\, Francesco Sgro \nScenografie : Sargis Galstyan  – Luci : Gabriele Planamente – Ufficio Stampa : Maya Amenduni \n  \nLa Compagnia InControVerso\, debutta in prima nazionale alla Cometa Off dal 14 al 19 Febbraio\, con lo spettacolo LA CASA DELLE API. \nCon lo spettacolo La Casa Delle Api andiamo a scoprire una vita piena di domande alle quali le risposte sembrano esauste. E nonostante il fatto che si tratti di domande globali sulle quali ci interroghiamo oramai da migliaia di anni\, quasi tutte le risposte le abbiamo accettate ed imparate senza analizzare e senza approfondire. Ma la cosa più incomprensibile è che essendo spesso coscienti dell’inganno in cui ci troviamo\, continuiamo comunque ad accettarlo avendo paura di confrontarci con la verità. Una verità che potrebbe essere anche discutibile\, perché la verità è spesso solo un punto di vista\, ma un punto di vista legittimo e pari a qualsiasi altro punto di vista accettata\ne forzatamente legalizzata dalla società. Una società che erroneamente crede di essere democratica. Uno degli argomenti che tratta lo spettacolo è il concetto di lavoro. Cos’è il lavoro? Tanti avrebbero definito come sacro\, diritto\, libertà. Lo scrittore e critico d’arte francese Remy De Gourmont\, invece lo ha definito così: “Siamo arrivati ad un tal grado di imbecillità\, da considerare il lavoro non solo onorevole\, ma persino come sacro\, mentre non è altro che una triste necessità.” Sicuramente per migliaia di persone sarà un’opinione discutibile\, inaccettabile o addirittura scandalosa\, ma è un’opinione che ha diritto di esistere se non essere accettata come una verità. \nLo spettacolo fa riflettere\, trattando temi che non sono facili da discutere. Temi sui quali ci interroghiamo oramai da secoli. Ma nonostante questo lo spettacolo mantiene una linea di comicità che alleggerisce la vera tragedia che stanno vivendo i personaggi dimostrando che in ogni grande tragedia è nascosta una significativa porzione di ironia\, umorismo cinico e comicità in cui ognuno potrebbe trovare se stesso. E grazie ai discorsi e agli strumenti messi in scena dalla regia\, questo evidenziato rapporto tra la comicità e tragedia rende allo spettacolo una particolare leggerezza. \nUfficio Stampa spettacolo\nAgenzia Maya Amenduni comunicazione\nMaya Amenduni +39 392 8157943\nmayaamenduni@gmail.com \n  \nDa Martedì 14 Febbraio a Sabato 18 Febbraio 2023 alle ore 21.00  \nDomenica 19 Gennaio 2023  ore 18.00 \n  \nBiglietto Intero Botteghino :  € 16\,50 – Promo Acquisto ONLINE : € 13\,50  (+ tessera associativa di € 2\,50) \n  \nL’evento è riservato ESCLUSIVAMENTE ai soci di Cometa Off. \n? 1) Prima ASSOCIATI qui ?\nASSOCIATI\n? 2) Poi acquista i biglietti ON-LINE ?\nBIGLIETTI\n  \nTEATRO COMETA OFF\nVia Luca della Robbia 47 (angolo Piazza Testaccio) \nInfoline e prenotazioni : 06 57284637 \nemail : cometa.off@cometa.org \nTeatro sanificato nel rispetto delle misure ANTICOVID.
URL:https://www.cometaoff.it/evento/la-casa-delle-api/
LOCATION:Teatro Cometa Off\, Via Luca della Robbia\, 47\, Roma\, RM\, 00157\, Italy
CATEGORIES:2022-2023
ATTACH;FMTTYPE=image/jpeg:https://www.cometaoff.it/wp-content/uploads/2023/01/La-Casa-Delle-Api-Locandina-.jpeg
END:VEVENT
BEGIN:VEVENT
DTSTART;VALUE=DATE:20230220
DTEND;VALUE=DATE:20230223
DTSTAMP:20260420T094017
CREATED:20230211T110711Z
LAST-MODIFIED:20230211T120351Z
UID:12894-1676851200-1677110399@www.cometaoff.it
SUMMARY:CASO\, MAI - L'IMPREVEDIBILE VIRTU' DELLA DIGNITA' - Evento speciale
DESCRIPTION:CASO\, MAI – L’imprevedibile virtù della dignità\ndi Simone Guarany \ncon Simone Guarany\, Marco Giustini\, Licia Amendola\, Maria Sessa\, Fabiana Bruno\, Giulia Bornacin \ne la partecipazione straordinaria di Giorgio Gobbi \nRegia di Licia Amendola e Simone Guarany \nAiuto Regia : Giulia Bornacin – Scenografia e Fotografia : Fabrizio Piergiovanni\nCostumi : G.d.F. Studio – Produzione : Gli Ipocriti\nMusiche originali : Giacomo Vezzani \nMassimiliano e Flaminia vivono insieme. Lui è un artista\, lavora a casa\, per vivere disegna. È una persona estremamente semplice\, un buontempone davvero innamorato della sua fidanzata. Lei lavora come organizzatrice di eventi per una grossa società. È una donna estremamente fragile\, calcolatrice\, intelligente e profonda\, anche se spesso per lei la forma assume più importanza della sostanza. Ogni giorno Flaminia torna a casa dal lavoro e sa che probabilmente si lamenterà del suo fidanzato un po’ disordinato. A volte discutono e a volte finiscono per guardarsi un film\, tutto sommato sono felici e hanno tutta la vita davanti.\nNon lontano\, nella stessa città\, vivono Giuseppe e Paola. Giuseppe ha perso i genitori quando aveva 20 anni e non ha mai guarito la sua rabbia in merito. È uno sportivo\, lavora in palestra. Da un anno e mezzo vive con Paola: dopo anni passati a fare bagordi ha finalmente trovato la persona giusta ma l’essere preso da sé stesso lo porta spesso a non essere troppo corretto con lei. Paola è una persona estremamente semplice\, quasi superficiale\, ma profondamente buona e vera\, incapace di fare del male. Nonostante le sue fragilità e insicurezze\, lei ama incredibilmente Giuseppe e per lui farebbe qualsiasi cosa con devozione. Come ogni coppia\, discutono e vivono piccoli litigi sempre però superati dal profondo legame che\, nonostante tutto\, c’è tra loro.\nE poi arriva la SLA che colpisce come uno schiaffo le vite di Giuseppe e Massimiliano. Le esistenze di queste quattro persone cambiano drasticamente. Dalle scelte più semplici di vita quotidiana\, i due giovani si ritrovano costretti a scegliere se e come vivere il resto della propria vita. Decisioni personali\, ma che coinvolgeranno inevitabilmente la loro vita di coppia.\nAccompagnate dal Dott. Giomberti – uomo mite\, sorridente\, sensibile e di cuore\, brillante neurologo dedito più agli altri che a se stesso – e da Suor Lucia\, infermiera “sui generis”\, le due giovani coppie affronteranno un percorso difficile\, profondo\, tra paure\, domande e nuove consapevolezze: una tra tutte\, che il caso non esiste\, mai. Tutti\, nessuno escluso\, ne usciranno trasformati. \n  \n? Lunedì 20\, Martedì 21 e Mercoledì 22 Febbraio 2023 ore 21.00  \n  \n?️ Biglietto Intero Botteghino :  € 17\,00 – Ridotto : € 15\,00  (+ ? tessera associativa di € 2\,50) \n  \nL’evento è riservato ESCLUSIVAMENTE ai soci di Cometa Off. \n? ASSOCIATI qui ?\nASSOCIATI\n  \nTEATRO COMETA OFF\nVia Luca della Robbia 47 (angolo Piazza Testaccio) \nInfoline e prenotazioni : 06 57284637 \nemail : cometa.off@cometa.org \nTeatro sanificato nel rispetto delle misure ANTICOVID.
URL:https://www.cometaoff.it/evento/caso-mai-evento-speciale/
LOCATION:Teatro Cometa Off\, Via Luca della Robbia\, 47\, Roma\, RM\, 00157\, Italy
CATEGORIES:2022-2023
ATTACH;FMTTYPE=image/jpeg:https://www.cometaoff.it/wp-content/uploads/2023/02/Caso-mai-20-22-febbraio.jpg
END:VEVENT
BEGIN:VEVENT
DTSTART;VALUE=DATE:20230223
DTEND;VALUE=DATE:20230227
DTSTAMP:20260420T094017
CREATED:20230115T181319Z
LAST-MODIFIED:20230221T121643Z
UID:12190-1677110400-1677455999@www.cometaoff.it
SUMMARY:SEGNI PARTICOLARI
DESCRIPTION:SEGNI PARTICOLARI\nQuattro serate speciali\ndi e con Giuseppe Sorgi \n  \nPer scavare più in profondità. Decisamente più in profondità! Per questo ho deciso di dedicare ad ogni serata sei segni. Altrimenti sul palcoscenico avrei avuto il fiato sul collo. Così invece ho tutto il tempo per approfondire nelle dinamiche comportamentali di ogni segno. Soprattutto riguardo l’amore. Ma quale amore?\nQuante volte a proposito dell’amour capita di sentire “vorrei incontrarlo\, ma non riesco”\, oppure “vorrei lasciarlo\, ma non posso”. Chi di noi non ha mai pronunciato una di queste frasi? Io non sono certo fuori dal coro. Eppure\, col passare degli anni e a discapito forse di una certa ingenuità\, affiora un dubbio: vorrei ma non posso o potrei ma non voglio? Ti amo o sabo-tiamo?\nQual è allora l’identikit del sabotatore che alberga in noi o che abbiamo a fianco? Quali i suoi tratti distintivi? E’ possibile attraverso l’astrologia e la mitologia delinearne il profilo?\nTratto dal mio secondo libro “Segni particolari – Astrologia\, miti e sabotaggi in amore”\, in questo nuovo spettacolo porto in scena i dodici tipi zodiacali in una prospettiva del tutto diversa. Comica. Tragica. Furbissima. Sabotante.\nL’argomento è decisamente spinoso! E soprattutto\, come e più di prima: spettacolo sconsigliato a permalosi e casi di sindrome da crocerossina. \nGiuseppe Sorgi \n  \nGiovedì 23 Febbraio e Sabato 25 Febbraio 2023 ore 21.00 verranno trattati i segni di Terra e d’Aria  (Toro\, Vergine\, Capricorno\, Gemelli\, Bilancia\, Acquario)\nVenerdì 24 Febbraio ore 21.00 e Domenica 26 Febbraio 2023 ore 18.00 verranno trattati i segni di Fuoco e d’Acqua (Ariete\, Leone\, Sagittario\, Cancro\, Scorpione\, Pesci)\n  \nBiglietto Unico  :  € 15\,00  (+ tessera associativa di € 2\,50) \n  \nL’evento è riservato ESCLUSIVAMENTE ai soci di Cometa Off. \n? 1) Prima ASSOCIATI qui ?\nASSOCIATI\n? 2) Poi acquista i biglietti ON-LINE ?\nBIGLIETTI\n  \nTEATRO COMETA OFF\nVia Luca della Robbia 47 (angolo Piazza Testaccio) \nInfoline e prenotazioni : 06 57284637 \nemail : cometa.off@cometa.org \nTeatro sanificato nel rispetto delle misure ANTICOVID.
URL:https://www.cometaoff.it/evento/segni-particolari/
LOCATION:Teatro Cometa Off\, Via Luca della Robbia\, 47\, Roma\, RM\, 00157\, Italy
CATEGORIES:2022-2023
ATTACH;FMTTYPE=image/jpeg:https://www.cometaoff.it/wp-content/uploads/2023/01/Segni-particolari-1-1-compresso-scaled.jpg
END:VEVENT
BEGIN:VEVENT
DTSTART;VALUE=DATE:20230228
DTEND;VALUE=DATE:20230306
DTSTAMP:20260420T094017
CREATED:20230129T191851Z
LAST-MODIFIED:20230221T170401Z
UID:12540-1677542400-1678060799@www.cometaoff.it
SUMMARY:ANNA CAPPELLI
DESCRIPTION:Aut-Out \npresenta \nANNA CAPPELLI\ndi Annibale Ruccello \ncon : Giada Prandi \nRegia di Renato Chiocca \nScene : Massimo Palumbo – Costumi : Anna Coluccia \nLuci : Gianluca Cappelletti – Musiche originali : Stefano Switala \n  \n«Tonino… Tonino… da che parte posso cominciare? Dal cervello\, eh? Anche perché quello credo che non è mai stato mio\, altrimenti non avresti potuto nascondermi tutti i tuoi progetti. Ah\, cominciamo dal cuore? Dal cuore\, dici? …Ma chissà dove abitano i sentimenti!» \nAnna è una giovane donna che negli anni ’60 si trasferisce da Orvieto a Latina\, dopo aver ottenuto un posto di lavoro come impiegata comunale. Lontana da casa e dalla sua famiglia (alla quale sembra essere ancora molto legata)\, la sua vita procede monotona nella noiosa quotidianità della vita di provincia\, fra la polvere e le scartoffie degli uffici del comune e la convivenza con l’asfissiante signora Rosa Tavernini e i suoi «puzzolentissimi gatti». La svolta sembra finalmente arrivare grazie all’incontro con il ragioniere Tonino Scarpa\, un abbiente scapolo che vive solo nella sua casa con dodici stanze e tanto di cameriera\, il quale dopo pochi mesi le propone di andare a vivere con lui\, ma senza sposarsi. Anna accetta riluttante “l’inconsueta” proposta fra i pettegolezzi delle colleghe bigotte e il disappunto della signora Tavernini. La relazione fra i due non va come sperato e\, in un crescendo delirante e tragicomico\, Anna verrà trascinata dalle sue fragilità in una spirale di paura\, paranoia e possessività che la porterà a commettere un gesto estremo e inaspettato\, ma che per lei rappresenta il più grande “atto d’amore” possibile. Anna è una donna in lotta con il suo passato e i suoi demoni. Una vittima del suo tempo\, della condizione della donna negli anni ’60; vittima di una società e di una morale che rifiuta\, ma che non ha la forza di combattere e da cui noi riesce a emanciparsi. \nUfficio Stampa Carla Fabi e Roberta Savona\ncarlafabistampa@gmail.com – savonaroberta@gmail.com\nCarla 338 4935947 | Roberta 340 2640789\nFB: www.facebook.com/UfficioStampaFabiSavona/ – IG: https://www.instagram.com/ufficiostampafabisavona/?hl=it \n  \nDa Martedì 28 Febbraio a Sabato 04 Marzo 2023 alle ore 21.00  \nDomenica 05 Marzo 2023 alle ore 18.00 \n  \nBiglietto Intero :  € 15\,00 (+ tessera associativa di € 2\,50) \n  \nL’evento è riservato ESCLUSIVAMENTE ai soci di Cometa Off. \n? 1) Prima ASSOCIATI qui ?\nASSOCIATI\n? 2) Poi acquista i biglietti ON-LINE ?\nBIGLIETTI\n  \nTEATRO COMETA OFF\nVia Luca della Robbia 47 (angolo Piazza Testaccio) \nInfoline e prenotazioni : 06 57284637 \nemail : cometa.off@cometa.org \nTeatro sanificato nel rispetto delle misure ANTICOVID.
URL:https://www.cometaoff.it/evento/anna-cappelli/
LOCATION:Teatro Cometa Off\, Via Luca della Robbia\, 47\, Roma\, RM\, 00157\, Italy
CATEGORIES:2022-2023
ATTACH;FMTTYPE=image/jpeg:https://www.cometaoff.it/wp-content/uploads/2023/01/Locandina-Anna-Cappelli_Giada-Prandi.jpg
END:VEVENT
END:VCALENDAR