BEGIN:VCALENDAR
VERSION:2.0
PRODID:-//Teatro Cometa Off - ECPv6.15.20//NONSGML v1.0//EN
CALSCALE:GREGORIAN
METHOD:PUBLISH
X-WR-CALNAME:Teatro Cometa Off
X-ORIGINAL-URL:https://www.cometaoff.it
X-WR-CALDESC:Eventi per Teatro Cometa Off
REFRESH-INTERVAL;VALUE=DURATION:PT1H
X-Robots-Tag:noindex
X-PUBLISHED-TTL:PT1H
BEGIN:VTIMEZONE
TZID:Europe/Rome
BEGIN:DAYLIGHT
TZOFFSETFROM:+0100
TZOFFSETTO:+0200
TZNAME:CEST
DTSTART:20220327T010000
END:DAYLIGHT
BEGIN:STANDARD
TZOFFSETFROM:+0200
TZOFFSETTO:+0100
TZNAME:CET
DTSTART:20221030T010000
END:STANDARD
BEGIN:DAYLIGHT
TZOFFSETFROM:+0100
TZOFFSETTO:+0200
TZNAME:CEST
DTSTART:20230326T010000
END:DAYLIGHT
BEGIN:STANDARD
TZOFFSETFROM:+0200
TZOFFSETTO:+0100
TZNAME:CET
DTSTART:20231029T010000
END:STANDARD
BEGIN:DAYLIGHT
TZOFFSETFROM:+0100
TZOFFSETTO:+0200
TZNAME:CEST
DTSTART:20240331T010000
END:DAYLIGHT
BEGIN:STANDARD
TZOFFSETFROM:+0200
TZOFFSETTO:+0100
TZNAME:CET
DTSTART:20241027T010000
END:STANDARD
END:VTIMEZONE
BEGIN:VEVENT
DTSTART;VALUE=DATE:20230502
DTEND;VALUE=DATE:20230508
DTSTAMP:20260420T032735
CREATED:20230408T153805Z
LAST-MODIFIED:20230408T160353Z
UID:13742-1682985600-1683503999@www.cometaoff.it
SUMMARY:PANE\, LATTE E LACRIME
DESCRIPTION:PANE\, LATTE E LACRIME\ndi Veronica Liberale \ndiretto da Pietro De Silva \ncon  Federica Bianconi\, Ugo Caprarella\, Mariachiara Di Mitri\, Silvia Grassi\, Lorenzo Mastrangeli\, Marianna Menga\, Lorenza Molina \nAiuto Regia : Giovanni Marra –  Fonica e Luci : Denis Persichini \n  \nCi troviamo a piazzale del Verano\, dove Alvise Trevisan\, un distinto signore del nord\, da tutto il quartiere chiamato con il rispettoso appellativo di “dottore” per i suoi modi eleganti\, il suo garbo e la sua cultura\, aspetta davanti al suo banco preferito di fiori l’arrivo delle sue proprietarie. Ed è questa piazza dove “le urla dei fiorai s’incontrano a mezz’aria col silenzio dei morti del Verano”\, lo scenario dove si svolge la commedia umana e dove incontriamo i suoi protagonisti. Insieme ad Alvise conosciamo Umberto\, custode del cimitero e dei segreti più reconditi del quartiere\, emblema pittoresco di un’umanità pigra e indolente e quintessenza della romanità; la sora Assunta\, fioraia pungente\, sarcastica e disillusa e Angeletta\, la pazza del quartiere\, grottesca\, tragica e poetica\, in grado di dire e fare cose straordinarie. Troviamo poi Iole\, madre di sette figlie\, con il marito antifascista in carcere\, costretta a diventare capo-famiglia e a gestire questioni e decisioni importanti\, stretta tra una cognata vedova\, apparentemente superficiale e vanitosa-Franca- e una figlia ribelle e determinata- Firmina.\nL’arrivo di una lettera dal carcere indirizzata a Iole\, contenente un messaggio cifrato\, darà l’avvio a una serie di accadimenti\, che porterà i protagonisti a vivere questi ultimi giorni prima del bombardamento\, rimettendo in discussione la loro vita\, le loro scelte\, i loro ideali\, fino al tragico epilogo\, che consegnerà per sempre un quartiere e i suoi abitanti alla storia del nostro paese. La condizione della donna negli anni di guerra\, la maternità\, la sopravvivenza\, sono questi i principali temi trattati dallo spettacolo. Un affresco della vita dei quartieri popolari negli anni quaranta e della società italiana durante il fascismo e la guerra. \nAmbientato a Roma nel popolare quartiere San Lorenzo\, nei giorni che precedono il tragico bombardamento del 19 luglio 1943\, il testo trae ispirazione e nello stesso tempo vuole omaggiare la grande Commedia all’italiana. Partendo dalla lezione del neorealismo\, il lavoro coniuga i contenuti comici-brillanti con una satira di costume a volte amara\, in grado di far ridere e riflettere nello stesso tempo.\nE’ una commedia corale\, uno spaccato di vita di alcuni san lorenzini costretti dalla guerra a rimettere in discussione le proprie vite\, alla vigilia di un evento che cambierà totalmente la storia di un quartiere e dei suoi abitanti. \nPane\, latte e lacrime è anche storia di amore\, amicizia\, ironia\, incoscienza e saggezza\, in un periodo in cui i rioni romani rappresentavano tutti una grande famiglia\, ed è soprattutto storia di donne. Eroine che escono dalle mura domestiche\, dove la società le aveva relegate\, per affrontare il mondo\, consegnandosi alla storia di un piccolo quartiere\, microcosmo dell’umanità intera. \nUn tributo sincero e sentito a tutti i caduti delle guerre e alla nostra memoria storica. \n  \n? Da Martedì 02 Maggio a  Sabato 06 Maggio 2023 alle ore 21.00  \n? Domenica 07 Maggio 2023 alle ore 18.00  \n  \n?️ Biglietto Intero Botteghino :  € 17\,50 – Ridotto : € 12\,50 – Ridotto Gruppi e Scuole : € 10\,00 (+ ? tessera associativa di € 2\,50) \n  \nL’evento è riservato ESCLUSIVAMENTE ai soci di Cometa Off. \n? ASSOCIATI qui ?\nASSOCIATI\n  \nTEATRO COMETA OFF\nVia Luca della Robbia 47 (angolo Piazza Testaccio) \nInfoline e prenotazioni : 06 57284637 \nemail : cometa.off@cometa.org \nTeatro sanificato nel rispetto delle misure ANTICOVID.
URL:https://www.cometaoff.it/evento/pane-latte-e-lacrime/
LOCATION:Teatro Cometa Off\, Via Luca della Robbia\, 47\, Roma\, RM\, 00157\, Italy
CATEGORIES:2022-2023
ATTACH;FMTTYPE=image/jpeg:https://www.cometaoff.it/wp-content/uploads/2023/04/Immagine-WhatsApp-2023-04-07-ore-19.40.18.jpg
END:VEVENT
BEGIN:VEVENT
DTSTART;VALUE=DATE:20230509
DTEND;VALUE=DATE:20230515
DTSTAMP:20260420T032735
CREATED:20230418T174142Z
LAST-MODIFIED:20230418T174525Z
UID:13749-1683590400-1684108799@www.cometaoff.it
SUMMARY:GUANTI BIANCHI
DESCRIPTION:PAOLO TRIESTINO \nin \nGUANTI BIANCHI\ndi Edoardo Erba \nliberamente ispirato a “L’arte spiegata ai truzzi” di Paola Guagliumi \nmusiche di Natalia Paviolo – luci di Giuseppe Magagnini – scena di  Francesco Montanaro \ncostumi di TraArt – animazioni Valeriano Spirito \nRegia di Paolo Triestino \nUna produzione DIAGHILEV \n  \nAntonio ha passato la vita a trasportare opere d’arte. E’ un uomo semplice\, ingenuo\, involontariamente divertente\, che ci parla del suo paese\, Colleferro\, nato intorno a una fabbrica di esplosivi\, della sua famiglia di cassamortari\, e del suo incontro con lo zio Cesare\, un movimentatore di opere d’arte che sarà decisivo nella sua vita. Raccontando come le ha trasportate\, Antonio ci fa capire le opere d’arte con incredibile profondità\, perché in tutta la vita ha avuto tempo di guardarsele e riguardarsele\, e di capirle meglio dei professori. Con un linguaggio rozzo ma intelligente\, commenta le immagini dei capolavori che vediamo proiettate. La sua spregiudicatezza e la sua comicità coinvolgono il pubblico\, tutto il pubblico\, anche quello più restio. E lo guidano in un viaggio che attraversa due millenni di storia dell’arte\, da Pitocrito a Mirò\, da Michelangelo a Fontana\, da Kessel il Vecchio a Edvar Munch.\nMa perché Antonio ha organizzato la serata? Perché sta dando tutto se stesso su un palco per farci amare l’arte? Ce lo spiega alla fine\, con molta semplicità e senza retorica. C’è stato un delitto atroce proprio al suo paese. E lui è convinto che noi tutti\, per rimanere umani\, abbiamo bisogno di riscoprire cos’è la bellezza. \nScritto da Edoardo Erba\, ispirato alla guida di Paola Guagliumi “L’arte spiegata ai Truzzi”\, Guanti Bianchi è una guida semplice e sorprendente all’arte antica e contemporanea\, che trova in Paolo Triestino l’interprete ideale per dare comicità\, spessore e umanità a un personaggio indimenticabile. \n  \n? Da Martedì 09 a Sabato 13 Maggio 2023 alle ore 21.00  \n? Domenica 14 Maggio 2023 alle ore 18.00 \n  \n?️ Biglietto Intero  :  € 20\,00 (+ ? tessera associativa di € 2\,50) \n  \nL’evento è riservato ESCLUSIVAMENTE ai soci di Cometa Off. \n? 1) Prima ASSOCIATI qui ?\nASSOCIATI\n? 2) Poi acquista i biglietti ON-LINE ?\nBIGLIETTI\n  \nTEATRO COMETA OFF\nVia Luca della Robbia 47 (angolo Piazza Testaccio) \nInfoline e prenotazioni : 06 57284637 \nemail : cometa.off@cometa.org \nTeatro sanificato nel rispetto delle misure ANTICOVID.
URL:https://www.cometaoff.it/evento/guanti-bianchi/
LOCATION:Teatro Cometa Off\, Via Luca della Robbia\, 47\, Roma\, RM\, 00157\, Italy
CATEGORIES:2022-2023
ATTACH;FMTTYPE=image/jpeg:https://www.cometaoff.it/wp-content/uploads/2023/04/Guanti-bianchi-2021-70x100_page-0001-compressed-scaled.jpg
END:VEVENT
BEGIN:VEVENT
DTSTART;VALUE=DATE:20230516
DTEND;VALUE=DATE:20230522
DTSTAMP:20260420T032735
CREATED:20230418T173631Z
LAST-MODIFIED:20230427T143342Z
UID:13847-1684195200-1684713599@www.cometaoff.it
SUMMARY:COLLOQUIO NOTTURNO CON UN UOMO DISPREZZATO
DESCRIPTION:ASSOCIAZIONE LE PARTENZE INTELLIGENTI \npresenta \nCOLLOQUIO NOTTURNO CON UN UOMO DISPREZZATO\ndi Friedrich Dürrenmatt \ncon  Antonio Conte e Alessandro Giova \nAdattamento e Regia di Alessio Pinto \nAiuto Regia : Claudia Onofri – Costumi : Lorendana Labellarte – Grafica e Comunicazione : David Qwistgaard \n  \nScritto nel 1951 come radiodramma da Durrenmatt\, “Colloquio notturno con un uomo disprezzato” tratta un tema molto caro all’autore\, quello legato alla chiusura alla cultura e alle mille insidiose strade che prende il potere\, in ogni sua forma.\nOriginariamente scritto ambientandolo nel periodo della seconda guerra mondiale\, l’adattamento teatrale di Pinto Alessio lo edulcora in alcune parti e lo rende quello che tutte le grandi scritture sono; opere senza tempo.\nAmbientato in un non-tempo\, questo colloquio notturno parte dal concetto “che non ci sono poteri buoni” (come diceva De Andrè in “Nella mia ora di libertà”) e che “bisogna farne di strada da una ginnastica di obbedienza\, fino ad un gesto molto più umano che ti dia il senso della violenza”. Quella violenza adoperata nei confronti della cultura\, del pensiero differente\, dell’apertura delle proprie menti da parte di un potere che ci inghiotte al più piccolo vagito di libertà personale e non.\nIl potere qui è rappresentato dalla figura del Boia di Stato\, che ne è solamente l’apice\, la mano che impugna la falce\, la mano armata che si scaglia contro uno scrittore\, un pensatore libero\, che riceve la sua visita notturna difendendosi con le sole armi che ha: le sue parole. E sorprendentemente trova nella figura del Boia un uomo\, un uomo senza scelta\, un reietto che davanti ai potenti ha chinato la testa per sopravvivere; come molti\, anche al giorno d’oggi\, incapaci di comprendere che potere vuole potere\, anche quello fatto di piccoli e miseri abusi e che senza la cultura non si fa che alimentare l’enorme vasca dell’indifferenza e della corruzione. \n  \n? Da Martedì 16 a Sabato 20 Maggio 2023 alle ore 21.00 \n? Domenica 21 Maggio 2023 alle ore 17.30 \n  \n?️ Biglietto Intero Botteghino :  € 15\,00 (+ ? tessera associativa di € 2\,50) \n  \nL’evento è riservato ESCLUSIVAMENTE ai soci di Cometa Off. \n? ASSOCIATI qui ?\nASSOCIATI\n  \nTEATRO COMETA OFF\nVia Luca della Robbia 47 (angolo Piazza Testaccio) \nInfoline e prenotazioni : 06 57284637 \nemail : cometa.off@cometa.org \nTeatro sanificato nel rispetto delle misure ANTICOVID.
URL:https://www.cometaoff.it/evento/colloquio-notturno/
LOCATION:Teatro Cometa Off\, Via Luca della Robbia\, 47\, Roma\, RM\, 00157\, Italy
CATEGORIES:2022-2023
ATTACH;FMTTYPE=image/jpeg:https://www.cometaoff.it/wp-content/uploads/2023/04/web-CO-Locandina-Colloquio-notturno.jpg
END:VEVENT
BEGIN:VEVENT
DTSTART;VALUE=DATE:20230526
DTEND;VALUE=DATE:20230529
DTSTAMP:20260420T032735
CREATED:20230504T174648Z
LAST-MODIFIED:20230517T161207Z
UID:14329-1685059200-1685318399@www.cometaoff.it
SUMMARY:PICCOLI CRIMINI CONIUGALI
DESCRIPTION:Associazione Culturale Saval Spettacoli \npresenta \nPICCOLI CRIMINI CONIUGALI\ndi E.E. Schmitt \ncon  Sara Valerio e Giancarlo Fares \nRegia di Nicola Pistoia \nAiuto Regia : Loredana Piedimonte – Assistente alla Regia : Giacomo Chiaro  \nLight Designer : Francesco Barbera – Tecnico Luci : Alessandro Greco \nin collaborazione con FESTIVAL TEATRALE DI BORGIO VEREZZI \n  \nQuando vediamo un uomo e una donna davanti al giudice o al prete dobbiamo davvero chiederci chi dei due sarà l’assassino? \nQuindici giorni fa\, Guido scivolava dalla scala di casa sua\, finendo a sbattere con la testa per terra. Oggi invece Lisa è fuori dall’ospedale che lo aspetta\, finalmente riporterà Guido a casa loro. Ma entrati in casa\, e toccandosi il vistoso cerotto bianco che ha dietro alla testa\, lui si guarderà intorno\, senza riconoscere nulla. \n“Questa è casa mia?” E tu sei veramente mia moglie? \nLisa allora inizierà ad aiutare Guido a ricordare la loro vita. Un viaggio\, un percorso zeppo di domande\, bugie e dubbi. Dove a slanci amorosi\, si alterneranno momenti bui e crudeli. \nAttraverso serrati dialoghi\, cambi d’umore\, e continui colpi di scena non si saprà a chi credere se a lei o a lui. Una commedia nera\, un humor nero\, una riflessione sulla madre di tutte le guerre: quella dentro la coppia. \nE per rappresentare questa “guerra” ho pensato di mettere in scena un “ring” dove i due avversari Guido e Lisa\, a forza di allusioni verbali\, e intellettuali\, se le daranno di “santa ragione”. Chi vincerà? Non si sa\, l’importante è non soccombere e se uno dei due dovesse vedersela brutta meglio gettare la “spugna”. Questo testo è una “palestra” fondamentale per i due attori. Battute che sembrano chiare\, evidenti nell’esprimere un concetto\, un sentimento ma che invece nascondono tutto il contrario. Momenti dove si grida\, ci si sfoga\, si rigetta tutto quello che di malato si ha dentro\, a momenti dove invece ci si accarezza\, ci si commuove\, si gioca fino a diventare “scemi”. Insomma\, quando vediamo un uomo e una donna davanti al sindaco o al prete\, chiediamoci “ ma quale dei due sarà l’assassino?” \n  \n? Venerdì 26 e Sabato 27 Maggio 2023 alle ore 21.00 \n? Domenica 28 Maggio 2023 alle ore 18.00 \n  \n?️ Biglietto Intero Botteghino :  € 15\,00 – Ridotto Botteghino : € 12\,50 (+ ? tessera associativa di € 2\,50) \n  \nL’evento è riservato ESCLUSIVAMENTE ai soci di Cometa Off. \n? 1) Prima ASSOCIATI qui ?\nASSOCIATI\n? 2) Poi acquista i biglietti ON-LINE ?\nBIGLIETTI\n  \nTEATRO COMETA OFF\nVia Luca della Robbia 47 (angolo Piazza Testaccio) \nInfoline e prenotazioni : 06 57284637 \nemail : cometa.off@cometa.org \nTeatro sanificato nel rispetto delle misure ANTICOVID.
URL:https://www.cometaoff.it/evento/piccoli-crimini-coniugali/
LOCATION:Teatro Cometa Off\, Via Luca della Robbia\, 47\, Roma\, RM\, 00157\, Italy
CATEGORIES:2022-2023
ATTACH;FMTTYPE=image/jpeg:https://www.cometaoff.it/wp-content/uploads/2023/05/piccoli-crimini-roma.jpg
END:VEVENT
BEGIN:VEVENT
DTSTART;VALUE=DATE:20230529
DTEND;VALUE=DATE:20230531
DTSTAMP:20260420T032735
CREATED:20230510T165759Z
LAST-MODIFIED:20230529T173806Z
UID:14475-1685318400-1685491199@www.cometaoff.it
SUMMARY:AMÒ
DESCRIPTION:Professione Artista Bandi & Produzioni \npresenta \nAMÒ\ndi Caterina Boccardi \ncon  Caterina Boccardi e Maria Pia Cardinali \nRegia di Enrico Hercule Savinien Pittari \nDue attrici\, Caterina Boccardi e MariaPia Cardinali mettono in scena AMO’ una sorta di ‘Two women show’ tratto da due loro racconti. Un testo teatrale unico e compatto\, incentrato sul tema dell’amore inteso come concetto universale ma che rimane per certi aspetti\, un sentiero incomprensibile.\nBoccardi/Cardinali si interrogano sul bisogno che ci porta ciclicamente a cercare nella vita l’innamoramento. Ma anche e soprattutto sulle difficoltà nelle dinamiche e nei rapporti di coppia. AMO’ racchiude frammenti di vita amorosa dove l’amore impossibile può rappresentare sia un’insidia che una crescita interiore per i personaggi.\nIl testo teatrale mette in scena questi amori disfunzionali. E lo fa con il tono della commedia che si mescola con il dramma e con delle situazioni grottesche.\nSINOSSI di AMO’.\nL’opera teatrale inizia con un monologo scritto da MariaPia dove la protagonista Viola si metterà a nudo raccontando frammenti della sua vita\, e dei suoi più grandi amori.\nLo farà in modo schietto e sincero proprio come è lei.\nSenza mezze misure prenderà veloci decisioni che cambieranno radicalmente la sua vita.\nUna donna combattiva\, che non si arrende questo è Viola.\nLe protagoniste di questa opera hanno in comune la ricerca dell’amore\, di quel sentimento che sembra cosi difficile da raggiungere.\nViola sente la necessità di staccarsi da alcuni modi di pensare che non le appartengo\, che vengono da un contesto sociale e familiare semplice ma anche molto rigido.\nUn percorso difficile fatto di gioie ma anche di tanto dolore.\nLa protagonista cercherà di trovare sempre una soluzione ai suoi problemi. Lo farà in modo ironico e drammatico\, l’ironia è un punto di forza per la protagonista\, è il suo naturale antidepressivo.Dopo varie storie finite male realizzerà che per cambiare veramente la sua vita dovrà prendere prima una grande decisione che stavolta riguarderà solo se stessa.\nIl secondo monologo è tratto dal racconto “Aria Soffio” di Caterina Boccardi.\nIl tema centrale è quello di un amore possibile\impossibile tra una donna ed un essere di plastica. Veronica\, 40 anni\, vive nella periferia di una grande città. Lavora come commessa in un centro commerciale\, è sposata con un uomo noioso da diversi anni\, che non la desidera più. La sua vita è scandita da una routine asfissiante…\nFinché un giorno vede un uomo alto\, bello all’interno di una vetrina. Lo guarda\, lui sorride. Tutte le mattine lui è lì ad aspettarla. Finalmente un giorno lo invita a casa. Si veste con cura\, indossa\nper l’occasione un vestito nero\, semplice ma essenziale. Controlla l’ora con impazienza\, specchiandosi nervosamente per vedere se tutto è a posto. Bussano alla porta: il fattorino le consegna una scatola imballata. Veronica chiude la porta a chiave e si stende sul tappeto. La apre. Lui è lì dentro\, rannicchiato\, sgonfio.\nInizia a gonfiare\, le parti del corpo cominciano a prendere forma. E’ bellissimo\, 100% PVC\, di colore scuro – quasi nero! Il suo nome è Benton. Inizia così una relazione di follia amorosa…\nAMO’ è la storia di due donne apparentemente distanti tra loro ma accomunate dall’impossibilità di trovare un amore normale. Ma in fondo quale amore si può definire normale… \nSi ringraziano il Regista David Emmer per la supervisione e i produttori Enrico Pittari e Silvio Simeoli per aver creduto in questo progetto. \n  \n?Lunedì 29\, Martedì 30 Maggio 2023 alle ore 21.00 \n  \n?️ Biglietto Intero Botteghino :  € 15\,00 (+ ? tessera associativa di € 2\,50) \n  \nL’evento è riservato ESCLUSIVAMENTE ai soci di Cometa Off. \n? 1) Prima ASSOCIATI qui ?\nASSOCIATI\n? 2) Poi acquista i biglietti ON-LINE ?\nBIGLIETTI\n  \nTEATRO COMETA OFF\nVia Luca della Robbia 47 (angolo Piazza Testaccio) \nInfoline e prenotazioni : 06 57284637 \nemail : cometa.off@cometa.org \nTeatro sanificato nel rispetto delle misure ANTICOVID.
URL:https://www.cometaoff.it/evento/amo/
LOCATION:Teatro Cometa Off\, Via Luca della Robbia\, 47\, Roma\, RM\, 00157\, Italy
CATEGORIES:2022-2023
ATTACH;FMTTYPE=image/png:https://www.cometaoff.it/wp-content/uploads/2023/05/image0.png
END:VEVENT
END:VCALENDAR