BEGIN:VCALENDAR
VERSION:2.0
PRODID:-//Teatro Cometa Off - ECPv6.15.20//NONSGML v1.0//EN
CALSCALE:GREGORIAN
METHOD:PUBLISH
X-WR-CALNAME:Teatro Cometa Off
X-ORIGINAL-URL:https://www.cometaoff.it
X-WR-CALDESC:Eventi per Teatro Cometa Off
REFRESH-INTERVAL;VALUE=DURATION:PT1H
X-Robots-Tag:noindex
X-PUBLISHED-TTL:PT1H
BEGIN:VTIMEZONE
TZID:Europe/Rome
BEGIN:DAYLIGHT
TZOFFSETFROM:+0100
TZOFFSETTO:+0200
TZNAME:CEST
DTSTART:20220327T010000
END:DAYLIGHT
BEGIN:STANDARD
TZOFFSETFROM:+0200
TZOFFSETTO:+0100
TZNAME:CET
DTSTART:20221030T010000
END:STANDARD
BEGIN:DAYLIGHT
TZOFFSETFROM:+0100
TZOFFSETTO:+0200
TZNAME:CEST
DTSTART:20230326T010000
END:DAYLIGHT
BEGIN:STANDARD
TZOFFSETFROM:+0200
TZOFFSETTO:+0100
TZNAME:CET
DTSTART:20231029T010000
END:STANDARD
BEGIN:DAYLIGHT
TZOFFSETFROM:+0100
TZOFFSETTO:+0200
TZNAME:CEST
DTSTART:20240331T010000
END:DAYLIGHT
BEGIN:STANDARD
TZOFFSETFROM:+0200
TZOFFSETTO:+0100
TZNAME:CET
DTSTART:20241027T010000
END:STANDARD
END:VTIMEZONE
BEGIN:VEVENT
DTSTART;VALUE=DATE:20230606
DTEND;VALUE=DATE:20230608
DTSTAMP:20260420T015905
CREATED:20230519T164950Z
LAST-MODIFIED:20230519T165620Z
UID:14659-1686009600-1686182399@www.cometaoff.it
SUMMARY:LA PAROLA MAGICA
DESCRIPTION:Coralia Produzioni in collaborazione con Società per Attori \npresenta \nLA PAROLA MAGICA\ndal romanzo omonimo di Paolo Borzacchiello Oscar Bestseller Mondadori 2019\nAdattamento di Paolo Orlandelli \ncon Rosario Altavilla\, Erika D’Errico\, Pietro Pace\, Veronica Rega \nRegia di Rosario Altavilla \nRegista collaboratore : Paolo Orlandelli – Aiuto Regia : Maddalena Franco\nScene e costumi : Federica Santoro – Tecnico : Marco Di Campli San Vito\nVideo editing : Claudio Macchitella – Acconciature : Francesco Trazzera – Trucco : Letizia Antimucci \n  \n“La parola magica” è un’opera unica nel suo genere\, poiché oltre a raccontare una storia intende fornire suggestioni e insegnamenti di intelligenza e persuasione linguistica. Il suo scopo è infatti quello di condurre lo spettatore verso la consapevolezza del potere della parola\, generatrice di materia e\, dunque\, “magica”.\nIl comportamentalista Leonard Want\, esperto in persuasione linguistica e comunicazione non verbale\, viene contattato da una misteriosa e facoltosa signora\, Lisa\, disposta a pagare una cifra astronomica per usufruire dei suoi servigi.\nCon l’aiuto di Want\, l’eccentrica signora deve prendere una importante decisione: estinguere o lasciar vivere la razza umana\, colpevole di sprecare le sue doti e di danneggiare la natura. La stravagante donna\, infatti\, è Dio.\nCombattuto tra l’etica del lavoro\, per cui gli è richiesto un freddo distacco emotivo\, e la sua condizione di essere umano\, che lo vede potenziale vittima della decisione divina\, Leonard si trova a dover scegliere con ancora più attenzione le parole da usare per portare a termine il suo compito.\nOltre a Lisa\, Leonard incontrerà Lucifero\, un affascinante e umanissimo angelo caduto che sovverte tutte le idee preconcette su di lui; ed Evelyn\, l’angelo sterminatore\, mossa da puro istinto e caratterizzata da un irresistibile potere di seduzione.\nQuando l’impresa sembra ormai perduta\, il potere della parola riesce a compiere il miracolo. \nL’autore Paolo Borzacchiello\, fondatore di HCE University\, tra i massimi esperti d’intelligenza linguistica\, è un comportamentalista e profiler\, nonché autore di svariate pubblicazioni. Il testo teatrale è tratto dell’omonimo romanzo Bestseller Mondadori 2019. \n  \n? Martedì 06 e Mercoledì 07 Giugno 2023 alle ore 21.00 \n  \n?️ Biglietto Intero Botteghino :  € 17\,50 (+ ? tessera associativa di € 2\,50) \n  \nL’evento è riservato ESCLUSIVAMENTE ai soci di Cometa Off. \n? 1) Prima ASSOCIATI qui ?\nASSOCIATI\n? 2) Poi acquista i biglietti ON-LINE ?\nBIGLIETTI\n  \nTEATRO COMETA OFF\nVia Luca della Robbia 47 (angolo Piazza Testaccio) \nInfoline e prenotazioni : 06 57284637 \nemail : cometa.off@cometa.org \nTeatro sanificato nel rispetto delle misure ANTICOVID.
URL:https://www.cometaoff.it/evento/la-parola-magica/
LOCATION:Teatro Cometa Off\, Via Luca della Robbia\, 47\, Roma\, RM\, 00157\, Italy
CATEGORIES:2022-2023
ATTACH;FMTTYPE=image/png:https://www.cometaoff.it/wp-content/uploads/2023/05/La-parola-magica-compressed.png
END:VEVENT
BEGIN:VEVENT
DTSTART;VALUE=DATE:20230608
DTEND;VALUE=DATE:20230611
DTSTAMP:20260420T015905
CREATED:20230528T175050Z
LAST-MODIFIED:20230604T124834Z
UID:14813-1686182400-1686441599@www.cometaoff.it
SUMMARY:NELLE DUE MANI
DESCRIPTION:NELLE DUE MANI\n di Roberto Staglianò \ncon Giacomo Bellini\, Leonardo A. Lutrario\, Giulio Petushi\, Andrea Pizzalis\, Chiara Ruta \nFoto di Leonardo Gaist \n  \nUna tranquilla e ordinaria famiglia moderna: un padre\, una madre\, due figli maschi e una nonna. Una famiglia con i suoi codici\, le routine e i segreti di tre generazioni\, spesso in conflitto tra di loro\, che convivono e abitano lo stesso spazio.\nAttraversando le stagioni della vita\, dall’infanzia all’età adulta\, le persone nascono\, crescono\, muoiono. Storie di un ciclo eterno che coinvolge e fagocita anche i sentimenti come l’amore\, l’odio\, la fratellanza. L’attrazione fisica e le reciproche ostilità influenzano e condizionano i fatti concreti\, la vita dei cinque protagonisti: Pà\, Mà\, Caiòn\, Abe e nonna Lou.\nNella famiglia non così tanto felice di Nelle due mani\, una coppia sperimenta la fine della loro attrazione fisica e la crisi del loro rapporto dopo due gravidanze. I due fratelli si misurano\, fanno prove di forza e di competizione tra di loro. Lou\, la nonna\, affronta da sola l’avanzamento della vecchiaia\, il declino fisico\, senza volere abdicare alla vita.\nFin qui nulla che non possa essere replicabile o adattabile alla realtà di milioni di altre famiglie\, ma cosa si nasconde dietro la facciata di una tranquilla e apparente normalità?\nTra i componenti di quel nucleo si instaurano quelli che uno studioso definirebbe “fenomeni sociali” di trasformazione\, una mutazione che può essere considerata come un’altra forma di selezione naturale. Chi tra loro riuscirà a sopravvivere\, a non estinguersi?\nOgni personaggio è coinvolto in una partita a due con il suo simile\, l’uno diventa l’avversario e il sostenitore dell’altro. Ogni personaggio manifesta la sua ambivalenza tra bene e male\, ragione e sentimento\, Eros e Thanatos. E i rapporti si incrinano\, fino a spezzarsi\, ricomporsi e scomporsi nuovamente.\nI componenti di quella famiglia sono pronti ad allestire e perfezionare vendette\, punizioni\, ostacoli e rappresaglie\, incapaci come sono di comprendere sé stessi e di accettare l’esistenza dell’altro.\nAlcuni di loro partiranno\, senza più fare ritorno. Ne rimarranno soltanto due\, custodi di quella casa che si svuoterà inesorabilmente. Qualcun altro vivrà per espiare i propri peccati\, nella supplica perenne di farsi perdonare.\n“Homo homini lupus”\, l’uomo è un lupo per l’uomo. Il filosofo Thomas Hobbes ha utilizzato questa citazione latina\, attribuita al commediografo Plauto\, per sostenere che la principale caratteristica dell’uomo è l’egoismo. L’uomo è (o può essere) anche “amicus”. Si è arrivato anche a dimostrare\, come ha fatto Feuerbach\, che “Homo homini deus est”.\nEsattamente come noi\, i cinque protagonisti sanno rendere più dura e difficile la vita del partner\, dei figli\, dei fratelli solo perché l’altro\, gli altri sono come sono oppure non sono come si vorrebbe che fossero. I pregiudizi\, gli stereotipi\, le discriminazioni influiscono pesantemente sulle nostre vite e così accade che si possa perdere l’occasione di vedere la bellezza che c’è nelle storie di ognuno di noi\, di ognuno di loro.\nNelle Due Mani non racconta una storia\, ma mette insieme frammenti di vita vissuta\, quadri\, fotografie estrapolate da una collezione di ricordi che mostrano i cambiamenti che si manifestano prima e dopo il punto di rottura\, la grande tragedia che incombe e si nasconde in una\, due\, duemila strutture e relazioni sociali. \n  \n? Giovedì 08\, Venerdì 09 e Sabato 10 Giugno 2023 alle ore 21.00 \n  \n?️ Biglietto Intero Botteghino :  € 12\,50 (+ ? tessera associativa di € 2\,50) \n  \nL’evento è riservato ESCLUSIVAMENTE ai soci di Cometa Off. \n? ASSOCIATI qui ?\nASSOCIATI\n  \n  \nTEATRO COMETA OFF\nVia Luca della Robbia 47 (angolo Piazza Testaccio) \nInfoline e prenotazioni : 06 57284637 \nemail : cometa.off@cometa.org \nTeatro sanificato nel rispetto delle misure ANTICOVID.
URL:https://www.cometaoff.it/evento/nelle-due-mani/
LOCATION:Teatro Cometa Off\, Via Luca della Robbia\, 47\, Roma\, RM\, 00157\, Italy
CATEGORIES:2022-2023
ATTACH;FMTTYPE=image/jpeg:https://www.cometaoff.it/wp-content/uploads/2023/05/IMG-20230526-WA0013.jpg
END:VEVENT
BEGIN:VEVENT
DTSTART;VALUE=DATE:20230611
DTEND;VALUE=DATE:20230612
DTSTAMP:20260420T015905
CREATED:20230529T180410Z
LAST-MODIFIED:20230529T180410Z
UID:14823-1686441600-1686527999@www.cometaoff.it
SUMMARY:MAKKETIRIDI - FESTIVAL NAZIONALE DELLA COMICITÀ
DESCRIPTION:Makkekomico \npresenta \nMAKKETIRIDI\nFestival Nazionale della Comicità \npresenta le serate Alessandro Mago Mancini \ninterverranno i comici del Makkekomiko \nVi hanno mai detto “Ma che ti ridi?” e voi presi dall’imbarazzo non avete saputo cosa rispondere?\nDomenica 11 Giugno 2023 alle 21:00 a Roma presso il Cometa Off si riderà tantissimo e nessuno verrà giudicato per le proprie risate!\nAd essere giudicati saranno i 9 comici che dopo aver superato all’Accento Teatro di Roma i tre giorni di selezioni (8 – 9 – 10 Giugno) tra più di trenta comici provenienti da tutta Italia\, si sfideranno nella finalissima del Festival Nazionale del Cabaret del Makkekomiko\, il “MakkeTiRidi”.\nL’obiettivo del Festival\, è di ricercare tra i partecipanti la creatività\, l’originalità\, il rigore che sono alla base della professione del comico.\nUn vero e proprio talent live show in cui oltre al voto del pubblico sarà determinante anche quello espresso dalla giuria tecnica formata da comici professionisti\, giornalisti\, autori televisivi e radiofonici e agenzie di spettacolo.\nNella serata condotta da Alessandro Mago Mancini\, ideatore e fondatore del Makkekomiko\, il laboratorio di scrittura per soli professionisti\, verranno assegnati premi alla carriera a comici che si sono distinti per le loro qualità e per il loro inpegno nel campo artistico. Il festival vedrà anche la partecipazione di tanti ospiti noti al grande pubblico delle serate all’Accento Teatro: Sergio Viglianese\, Carmine Faraco\, Oscar Biglia\, Antonio Catalano\, Alexandra Filotei\, Fabrizio Mazzeo\, Gianluca Giugliarelli\, Claudio Sciara\, Stefania Pellegrino\, Elisa Pagin\, Lucia Arrigoni\, Edoardo Licata\, Tiziano Gallo.\nA giudicare i finalisti e a decretare il miglior comico ci sarà anche il giudizio inappellabile del pubblico.\nIl Festival Nazionale della Comicità\, vuole essere un punto di riferimento della comicità italiana\, scoprendo e valorizzando giovani talenti che dimostrino non solo le proprie capacità nel coinvolgere e nel divertire il pubblico\, ma anche l’attitudine alla disciplina e allo studio che sono alla base di una comicità pulita e originale.\nI premi del festival sono infatti mirati allo studio e alla formazione artistica dei comici che risulteranno vincitori della serata.\nSiamo sicuri\, che il pubblico quando il 11 Giugno si recherà al Teatro Cometa Off non rimpiangerà di non essere rimasto in casa a fare zapping col telecomando davanti al forno a microonde!\nDomenica 11 Giugno 2023 è un giorno perfetto per ridere! \n  \n? Domenica 11 Giugno 2023 alle ore 21.00 \n  \n?️ Biglietto Intero Botteghino :  € 10\,00 (+ ? tessera associativa di € 2\,50) \n  \nL’evento è riservato ESCLUSIVAMENTE ai soci di Cometa Off. \n? ASSOCIATI qui ?\nASSOCIATI\n  \nTEATRO COMETA OFF\nVia Luca della Robbia 47 (angolo Piazza Testaccio) \nInfoline e prenotazioni : 06 57284637 \nemail : cometa.off@cometa.org \nTeatro sanificato nel rispetto delle misure ANTICOVID.
URL:https://www.cometaoff.it/evento/makketiridi/
LOCATION:Teatro Cometa Off\, Via Luca della Robbia\, 47\, Roma\, RM\, 00157\, Italy
CATEGORIES:2022-2023
ATTACH;FMTTYPE=image/png:https://www.cometaoff.it/wp-content/uploads/2023/05/FESTIVAL-NAZIONALE-DELLA-COMICITA-compressed.png
ORGANIZER;CN="Makkekomiko":MAILTO:info@makkekomiko.it
END:VEVENT
BEGIN:VEVENT
DTSTART;VALUE=DATE:20230612
DTEND;VALUE=DATE:20230613
DTSTAMP:20260420T015905
CREATED:20230529T181751Z
LAST-MODIFIED:20230529T182127Z
UID:14829-1686528000-1686614399@www.cometaoff.it
SUMMARY:IO\, LORO E GLI ALTRI
DESCRIPTION:IO\, LORO E GLI ALTRI\nDiretto da Piergiorgio Seidita \ncon Francesco Venerando \n  \n“IO\, LORO E GLI ALTRI” è uno spettacolo ambientato in una seduta psicologica di gruppo. Sei personaggi che si susseguiranno con le loro particolarità emotive\, toccando temi crudi\, scorretti\, spudoratamente sinceri.\nI Personaggi saranno interpretati unicamente da Francesco Venerando (Allievo del Centro Sperimentale di Cinematografia e Premio Troisi nel 2020) e diretto da Piergiorgio Seidita (Premio Troisi nel 2019 e vincitore del Critic’s Choice Award in Australia). \n  \n? Lunedì 12 Giugno 2023 alle ore 21.00 \n  \n?️ Biglietto Intero Botteghino :  € 10\,00 (+ ? tessera associativa di € 2\,50) \n  \nL’evento è riservato ESCLUSIVAMENTE ai soci di Cometa Off. \n? ASSOCIATI qui ?\nASSOCIATI\n  \n  \nTEATRO COMETA OFF\nVia Luca della Robbia 47 (angolo Piazza Testaccio) \nInfoline e prenotazioni : 06 57284637 \nemail : cometa.off@cometa.org \nTeatro sanificato nel rispetto delle misure ANTICOVID.
URL:https://www.cometaoff.it/evento/io-loro-e-gli-altri/
LOCATION:Teatro Cometa Off\, Via Luca della Robbia\, 47\, Roma\, RM\, 00157\, Italy
CATEGORIES:2022-2023
ATTACH;FMTTYPE=image/jpeg:https://www.cometaoff.it/wp-content/uploads/2023/05/LOCANDINA-Io-Loro-e-Gli-Altri-1-.jpg
END:VEVENT
END:VCALENDAR